From mboxrd@z Thu Jan 1 00:00:00 1970 Return-Path: Received: from mails.dpdk.org (mails.dpdk.org [217.70.189.124]) by inbox.dpdk.org (Postfix) with ESMTP id EA7C8461DE for ; Sun, 9 Feb 2025 23:48:17 +0100 (CET) Received: from mails.dpdk.org (localhost [127.0.0.1]) by mails.dpdk.org (Postfix) with ESMTP id BC645402B7; Sun, 9 Feb 2025 23:48:17 +0100 (CET) Received: from mail-pl1-f227.google.com (mail-pl1-f227.google.com [209.85.214.227]) by mails.dpdk.org (Postfix) with ESMTP id 6F2424021F for ; Sun, 9 Feb 2025 23:48:16 +0100 (CET) Received: by mail-pl1-f227.google.com with SMTP id d9443c01a7336-21f0444b478so53030995ad.0 for ; Sun, 09 Feb 2025 14:48:16 -0800 (PST) DKIM-Signature: v=1; a=rsa-sha256; c=relaxed/relaxed; d=iol.unh.edu; s=unh-iol; t=1739141295; x=1739746095; darn=dpdk.org; h=references:in-reply-to:cc:to:from:subject:message-id:date:from:to :cc:subject:date:message-id:reply-to; bh=cgj8Vhj5Ttm3qblfl1a6UAXlyQPE1aHdVZC415lze38=; b=Q6k0rQOponjcgo20il7FRnowdeHUftHZteozrF7Gi/prsVdHryvzd8sLP2/Vor+W/L XMsBN0BW02MJh67OJiIfs6cR3Qw21Z+mNZsCypJSQPOhglspbODb8ot3TpC4+qPjVOKo OMVq/YztGoQnnXWM99Q95fNnow2J7OyEeeVc8= X-Google-DKIM-Signature: v=1; a=rsa-sha256; c=relaxed/relaxed; d=1e100.net; s=20230601; t=1739141295; x=1739746095; h=references:in-reply-to:cc:to:from:subject:message-id:date :x-gm-message-state:from:to:cc:subject:date:message-id:reply-to; bh=cgj8Vhj5Ttm3qblfl1a6UAXlyQPE1aHdVZC415lze38=; b=FiVcY4s1SnLVfn1khAjb7Z8/yEsZ7G1ytO62qYorIReL+bY7NaWW+HSHSX/K+1OIeU ZQB6gTuH4NJhhJUbeeRJyrBSoaKklocNqJ4bGSweJOWDbEXiusmBwk0eniMUumAw1eKf +76RLOWcr3q+zC+phRAznqOmOSwWDFlSdBE/vU13ONRxyYKfLWTUT2xv8gNsPFNVcfam DDkB8QyAmR/SuYsEeJ9It6ed53FWhhCaSHuTAaygwnp1SpIUMERiCSJo7XhvfykdvieZ 2LSvhGnStZB8DbkwPPZYSwjhyTM7iX2QZsBrQO9JaHvNZzDoFRZF1dAYpR8co7DXyZFX n58g== X-Gm-Message-State: AOJu0YxyZIAgEu8CD6sAE3g8RZrLk89RhiyxrFXFKFiJXffx+c2DtEMt +DPIQBF2HYI1eimzjNhD3SpRB2GHB1kFznGGSR+GbDzDDPSTEocI0Jp/pt3/F7uWuiu96igV2lQ EgwPwbPPAiLFVqQumUlP+7iZDACofOcqw7EBOBOeN X-Gm-Gg: ASbGncsGfSSMWm8Rl9yRRFnhYzergc8M+29WILfAcLRj9SqIieFE7aPRBBSGmhCGIa7 nfFr4SNCeU5GDUEY5LYbBSkUOG3oTHJCSzZ9m3kpetfuQiMfW2UTFIPuF8kKlSMZHDwNx1Lcpgf g8Q+tRlps+5NlLVr5u++Vkx1K1V4cwHnEnWSbqRICCgTki09Hc4gK0s+rqDH6usznZIAK1n6lFg zhSnNPtCLYZHzUAPyNNX97lM0hQkaK2n7W8vhhPk0HjZG+Im0Xq1uLZZLReK2s+rUbNQL3kmIyW wSbWd4UQHtxEaQq+/TkuMnwQLeVatQ== X-Google-Smtp-Source: AGHT+IF2xA4TxWbB3SYDmEV6Rh0a4NY0eLjjvE6/xnJbg5ePKeaxqwJRxrdW+cQ79U1LpnlYZsoIjGWIs4Pa X-Received: by 2002:a17:902:e848:b0:21f:4c8b:c513 with SMTP id d9443c01a7336-21f4e759fb8mr156615965ad.36.1739141294037; Sun, 09 Feb 2025 14:48:14 -0800 (PST) Received: from postal.iol.unh.edu (postal.iol.unh.edu. [132.177.123.84]) by smtp-relay.gmail.com with ESMTPS id d9443c01a7336-21f3655c67dsm4913975ad.46.2025.02.09.14.48.13 (version=TLS1_2 cipher=ECDHE-ECDSA-AES128-GCM-SHA256 bits=128/128); Sun, 09 Feb 2025 14:48:14 -0800 (PST) X-Relaying-Domain: iol.unh.edu Date: Sun, 09 Feb 2025 14:48:14 -0800 (PST) Message-ID: <67a930ae.170a0220.e1621.988cSMTPIN_ADDED_MISSING@mx.google.com> Received: from [172.17.0.3] (unknown [172.18.0.217]) by postal.iol.unh.edu (Postfix) with ESMTP id 2B03A6052471; Sun, 9 Feb 2025 17:47:43 -0500 (EST) Subject: |SUCCESS| pw151218 [PATCH] net/mlx5: fix packet hardware ptype trans From: dpdklab@iol.unh.edu To: Test Report Cc: dpdk-test-reports@iol.unh.edu In-Reply-To: <20250209140106.264556-1-getelson@nvidia.com> References: <20250209140106.264556-1-getelson@nvidia.com> Content-Type: text/plain X-BeenThere: test-report@dpdk.org X-Mailman-Version: 2.1.29 Precedence: list List-Id: automatic DPDK test reports List-Unsubscribe: , List-Archive: List-Post: List-Help: List-Subscribe: , Errors-To: test-report-bounces@dpdk.org Test-Label: iol-compile-arm64-testing Test-Status: SUCCESS http://dpdk.org/patch/151218 _Testing PASS_ Submitter: Gregory Etelson Date: Sunday, February 09 2025 14:01:06 DPDK git baseline: Repo:dpdk Branch: master CommitID:af389f2da68c0e9bb08a68055996bececbd45108 151218 --> testing pass Upstream job id: Generic-DPDK-Compile-Meson#359933 Test environment and result as below: +----------------------------------------+--------------------+ | Environment | dpdk_meson_compile | +========================================+====================+ | RHEL9 (ARM) | PASS | +----------------------------------------+--------------------+ | Ubuntu 20.04 ARM GCC Cross Compile | PASS | +----------------------------------------+--------------------+ | Ubuntu 20.04 ARM SVE | PASS | +----------------------------------------+--------------------+ | Debian 12 with MUSDK | PASS | +----------------------------------------+--------------------+ | Fedora 40 (ARM Clang) | PASS | +----------------------------------------+--------------------+ | Fedora 41 (ARM) | PASS | +----------------------------------------+--------------------+ | Fedora 40 (ARM) | PASS | +----------------------------------------+--------------------+ | Ubuntu 20.04 (ARM) | PASS | +----------------------------------------+--------------------+ | Fedora 41 (ARM Clang) | PASS | +----------------------------------------+--------------------+ | Ubuntu 22.04 (ARM) | PASS | +----------------------------------------+--------------------+ | Ubuntu 24.04 (ARM) | PASS | +----------------------------------------+--------------------+ | CentOS Stream 9 (ARM) | PASS | +----------------------------------------+--------------------+ | Debian 11 (Buster) (ARM) | PASS | +----------------------------------------+--------------------+ | Debian 12 (arm) | PASS | +----------------------------------------+--------------------+ | Ubuntu 20.04 aarch32 GCC Cross Compile | PASS | +----------------------------------------+--------------------+ | Ubuntu 20.04 ARM Clang Cross Compile | PASS | +----------------------------------------+--------------------+ RHEL9 (ARM) Kernel: Depends on container host Compiler: gcc 11.5.0 20240719 (Red Hat 11.5.0-2) Ubuntu 20.04 ARM GCC Cross Compile Kernel: Depends on container host Compiler: aarch64-linux-gnu-gcc (Ubuntu 9.4.0-1ubuntu1~20.04.2) 9.4.0 Ubuntu 20.04 ARM SVE Kernel: Depends on container host Compiler: gcc (Ubuntu 10.5.0-1ubuntu1~20.04) 10.5.0 Debian 12 with MUSDK Kernel: Depends on container host Compiler: gcc (Debian 12.2.0-14) 12.2.0 Fedora 40 (ARM Clang) Kernel: Depends on container host Compiler: clang 18.1.8 (Fedora 18.1.8-1.fc40) Fedora 41 (ARM) Kernel: Depends on container host Compiler: gcc 14.2.1 20240912 (Red Hat 14.2.1-3) Fedora 40 (ARM) Kernel: Depends on container host Compiler: gcc 14.2.1 20240912 (Red Hat 14.2.1-3) Ubuntu 20.04 (ARM) Kernel: Depends on container host Compiler: gcc (Ubuntu 9.4.0-1ubuntu1~20.04.2) 9.4.0 Fedora 41 (ARM Clang) Kernel: Depends on container host Compiler: clang 19.1.5 (Fedora 19.1.5-1.fc41) Ubuntu 22.04 (ARM) Kernel: Depends on container host Compiler: gcc (Ubuntu 11.4.0-1ubuntu1~22.04) 11.4.0 Ubuntu 24.04 (ARM) Kernel: Depends on container host Compiler: gcc (Ubuntu 13.3.0-6ubuntu2~24.04) 13.3.0 CentOS Stream 9 (ARM) Kernel: Depends on container host Compiler: gcc 11.5.0 20240719 (Red Hat 11.5.0-2) Debian 11 (Buster) (ARM) Kernel: Depends on container host Compiler: gcc (Debian 10.2.1-6) 10.2.1 20210110 Debian 12 (arm) Kernel: Depends on container host Compiler: gcc (Debian 12.2.0-14) 12.2.0 Ubuntu 20.04 aarch32 GCC Cross Compile Kernel: Depends on container host Compiler: gcc 9.4.0 Ubuntu 20.04 ARM Clang Cross Compile Kernel: Depends on container host Compiler: clang 10.0.0-4ubuntu1 To view detailed results, visit: https://lab.dpdk.org/results/dashboard/patchsets/32540/ UNH-IOL DPDK Community Lab To manage your email subscriptions, visit: https://lab.dpdk.org/results/dashboard/preferences/subscriptions/