From mboxrd@z Thu Jan  1 00:00:00 1970
Return-Path: <test-report-bounces@dpdk.org>
Received: from mails.dpdk.org (mails.dpdk.org [217.70.189.124])
	by inbox.dpdk.org (Postfix) with ESMTP id D916F461DE
	for <public@inbox.dpdk.org>; Mon, 10 Feb 2025 00:58:09 +0100 (CET)
Received: from mails.dpdk.org (localhost [127.0.0.1])
	by mails.dpdk.org (Postfix) with ESMTP id 9D207402B7;
	Mon, 10 Feb 2025 00:58:09 +0100 (CET)
Received: from mail-pl1-f226.google.com (mail-pl1-f226.google.com
 [209.85.214.226])
 by mails.dpdk.org (Postfix) with ESMTP id 8BF2D4021F
 for <test-report@dpdk.org>; Mon, 10 Feb 2025 00:58:08 +0100 (CET)
Received: by mail-pl1-f226.google.com with SMTP id
 d9443c01a7336-21f61b01630so28786445ad.1
 for <test-report@dpdk.org>; Sun, 09 Feb 2025 15:58:08 -0800 (PST)
DKIM-Signature: v=1; a=rsa-sha256; c=relaxed/relaxed;
 d=iol.unh.edu; s=unh-iol; t=1739145487; x=1739750287; darn=dpdk.org;
 h=references:in-reply-to:cc:to:from:subject:message-id:date:from:to
 :cc:subject:date:message-id:reply-to;
 bh=KW1kcQN+tF6AtnMZm1gxbl4VYJiFt9TR5Jo8ODqbSA4=;
 b=CeW81dfhm1fqbAwKfdyCdMXr9Nxl84DV/MyuWD3AcSoHASD1lihn04ezdgOHE+UW07
 JAtjWXGIOF3UxFnVw3hygrVELQtGqRthj0120Q6sLKJX3vAV42sMI6stCdFYZ1lp4Yf1
 xvwexyiUbT8Ft1O88zB3j6ohVY1Q/7S33gJjM=
X-Google-DKIM-Signature: v=1; a=rsa-sha256; c=relaxed/relaxed;
 d=1e100.net; s=20230601; t=1739145487; x=1739750287;
 h=references:in-reply-to:cc:to:from:subject:message-id:date
 :x-gm-message-state:from:to:cc:subject:date:message-id:reply-to;
 bh=KW1kcQN+tF6AtnMZm1gxbl4VYJiFt9TR5Jo8ODqbSA4=;
 b=e7BIe8Y4egAumcf1BMPFF+kFfZUQLA5aL6kxnvFlRd6za8HnR2Y7KfD0r2WGHTvYqt
 R4kDY07gje44+kdPy3fhj74SR3fAIFv7slWXsTiWsLeC+Uis3mMFeuuxb+ldxUmAnQtr
 EPxOYwKlYZ09I8DA2qYIfxMTgHyKVW5JET3dws0RUP2JZ7mLFNO2W2dRcE5zqONmIHiY
 RNI/DgAJCiVtJMJKCf/ciRvywNvqU5n4kqyv4XI/d/v1Qk1slo3l9R7XelsOKUizJ5Ix
 liUPGiTHDgebj7OBtvUECT503EF1VIfTs9oIceOysQfY7Ab9WXrWCc3oOw7qeuM2v/ej
 zxMQ==
X-Gm-Message-State: AOJu0Yw/V/MGG7d7MZuUW1w+KPH06imFSS3zyXMSlbBW0yphx71JKajw
 2ChnojZjAS8rOIawoJcYJDKGB8dUetKk32YL5vnBrjlJdpe1SUCSdvajiVZG1svBR2/1JfW0wZK
 AiuCTgvZUWSVKIrXGicz0vgTo2JWyHE7wGT2MoHFL
X-Gm-Gg: ASbGncsqiEL56izLm2T3oHnfq8yjpUEWvYwA1BQvz4DPUqJXiIxqWEAimZ78vwEQ3I+
 rKtN0FOcidlJ3MVsLmZo1L+TmThPyi85/YhTpRPeBtxNM9ZngGtFdYrxRyyDkTm1Yt8tot6+xlH
 F7zL+wmNTJBBo59C/SKuxzV6WjoTJFfMkfX/vrRcb/dECysLuoWY3mw8AATMGify5hB1+wWRp3W
 vRLSWNJsA2bNBf4bBBqdRZaNRshbuXfP59JobNyRz5HwtLqYRJEVMFR+NRapwFAZSpB3Cc1mqEK
 b4x3/KoGhN8td5OgZMytEtH/T+kpvw==
X-Google-Smtp-Source: AGHT+IHsk7z4rbwCWXjWdwqrJdTR9Lwd1y56f9hTPuW1XuUWnVz6K3YweTWZxrvWek0ogN0rHvzmIMtAbB6F
X-Received: by 2002:a17:902:e0c3:b0:21f:3a7b:f4e6 with SMTP id
 d9443c01a7336-21f3a7bf930mr165016195ad.23.1739145487397; 
 Sun, 09 Feb 2025 15:58:07 -0800 (PST)
Received: from postal.iol.unh.edu (postal.iol.unh.edu. [132.177.123.84])
 by smtp-relay.gmail.com with ESMTPS id
 d9443c01a7336-21f36839c0dsm4512915ad.76.2025.02.09.15.58.07
 (version=TLS1_2 cipher=ECDHE-ECDSA-AES128-GCM-SHA256 bits=128/128);
 Sun, 09 Feb 2025 15:58:07 -0800 (PST)
X-Relaying-Domain: iol.unh.edu
Date: Sun, 09 Feb 2025 15:58:07 -0800 (PST)
Message-ID: <67a9410f.170a0220.3da03a.699aSMTPIN_ADDED_MISSING@mx.google.com>
Received: from [172.17.0.3] (unknown [172.18.0.217])
 by postal.iol.unh.edu (Postfix) with ESMTP id 214AE6052471;
 Sun,  9 Feb 2025 18:57:36 -0500 (EST)
Subject: |SUCCESS| pw151219-151228 [PATCH] [RFC,v2,10/10] eal: deprecate weak
From: dpdklab@iol.unh.edu
To: Test Report <test-report@dpdk.org>
Cc: dpdk-test-reports@iol.unh.edu
In-Reply-To: <20250209172850.2429075-11-david.marchand@redhat.com>
References: <20250209172850.2429075-11-david.marchand@redhat.com>
Content-Type: text/plain
X-BeenThere: test-report@dpdk.org
X-Mailman-Version: 2.1.29
Precedence: list
List-Id: automatic DPDK test reports <test-report.dpdk.org>
List-Unsubscribe: <https://mails.dpdk.org/options/test-report>,
 <mailto:test-report-request@dpdk.org?subject=unsubscribe>
List-Archive: <http://mails.dpdk.org/archives/test-report/>
List-Post: <mailto:test-report@dpdk.org>
List-Help: <mailto:test-report-request@dpdk.org?subject=help>
List-Subscribe: <https://mails.dpdk.org/listinfo/test-report>,
 <mailto:test-report-request@dpdk.org?subject=subscribe>
Errors-To: test-report-bounces@dpdk.org

Test-Label: iol-compile-arm64-testing
Test-Status: SUCCESS
http://dpdk.org/patch/151228

_Testing PASS_

Submitter: David Marchand <david.marchand@redhat.com>
Date: Sunday, February 09 2025 17:28:48 
DPDK git baseline: Repo:dpdk
  Branch: master
  CommitID:3553897d84d8b54a1b1136cbf04dd7f1a40fd85b

151219-151228 --> testing pass

Upstream job id: Generic-DPDK-Compile-Meson#359901

Test environment and result as below:

+----------------------------------------+--------------------+
|              Environment               | dpdk_meson_compile |
+========================================+====================+
| RHEL9 (ARM)                            | PASS               |
+----------------------------------------+--------------------+
| Ubuntu 20.04 ARM GCC Cross Compile     | PASS               |
+----------------------------------------+--------------------+
| Debian 12 with MUSDK                   | PASS               |
+----------------------------------------+--------------------+
| Ubuntu 20.04 ARM SVE                   | PASS               |
+----------------------------------------+--------------------+
| Fedora 41 (ARM)                        | PASS               |
+----------------------------------------+--------------------+
| Fedora 40 (ARM Clang)                  | PASS               |
+----------------------------------------+--------------------+
| Fedora 40 (ARM)                        | PASS               |
+----------------------------------------+--------------------+
| Ubuntu 22.04 (ARM)                     | PASS               |
+----------------------------------------+--------------------+
| Ubuntu 20.04 (ARM)                     | PASS               |
+----------------------------------------+--------------------+
| Ubuntu 24.04 (ARM)                     | PASS               |
+----------------------------------------+--------------------+
| CentOS Stream 9 (ARM)                  | PASS               |
+----------------------------------------+--------------------+
| Debian 11 (Buster) (ARM)               | PASS               |
+----------------------------------------+--------------------+
| Ubuntu 20.04 ARM Clang Cross Compile   | PASS               |
+----------------------------------------+--------------------+
| Debian 12 (arm)                        | PASS               |
+----------------------------------------+--------------------+
| Ubuntu 20.04 aarch32 GCC Cross Compile | PASS               |
+----------------------------------------+--------------------+
| Fedora 41 (ARM Clang)                  | PASS               |
+----------------------------------------+--------------------+


RHEL9 (ARM)
	Kernel: Depends on container host
	Compiler: gcc 11.5.0 20240719 (Red Hat 11.5.0-2)

Ubuntu 20.04 ARM GCC Cross Compile
	Kernel: Depends on container host
	Compiler: aarch64-linux-gnu-gcc (Ubuntu 9.4.0-1ubuntu1~20.04.2) 9.4.0

Debian 12 with MUSDK
	Kernel: Depends on container host
	Compiler: gcc (Debian 12.2.0-14) 12.2.0

Ubuntu 20.04 ARM SVE
	Kernel: Depends on container host
	Compiler: gcc (Ubuntu 10.5.0-1ubuntu1~20.04) 10.5.0

Fedora 41 (ARM)
	Kernel: Depends on container host
	Compiler: gcc 14.2.1 20240912 (Red Hat 14.2.1-3)

Fedora 40 (ARM Clang)
	Kernel: Depends on container host
	Compiler: clang 18.1.8 (Fedora 18.1.8-1.fc40)

Fedora 40 (ARM)
	Kernel: Depends on container host
	Compiler: gcc 14.2.1 20240912 (Red Hat 14.2.1-3)

Ubuntu 22.04 (ARM)
	Kernel: Depends on container host
	Compiler: gcc (Ubuntu 11.4.0-1ubuntu1~22.04) 11.4.0

Ubuntu 20.04 (ARM)
	Kernel: Depends on container host
	Compiler: gcc (Ubuntu 9.4.0-1ubuntu1~20.04.2) 9.4.0

Ubuntu 24.04 (ARM)
	Kernel: Depends on container host
	Compiler: gcc (Ubuntu 13.3.0-6ubuntu2~24.04) 13.3.0

CentOS Stream 9 (ARM)
	Kernel: Depends on container host
	Compiler: gcc 11.5.0 20240719 (Red Hat 11.5.0-2)

Debian 11 (Buster) (ARM)
	Kernel: Depends on container host
	Compiler: gcc (Debian 10.2.1-6) 10.2.1 20210110

Ubuntu 20.04 ARM Clang Cross Compile
	Kernel: Depends on container host
	Compiler: clang 10.0.0-4ubuntu1

Debian 12 (arm)
	Kernel: Depends on container host
	Compiler: gcc (Debian 12.2.0-14) 12.2.0

Ubuntu 20.04 aarch32 GCC Cross Compile
	Kernel: Depends on container host
	Compiler: gcc 9.4.0

Fedora 41 (ARM Clang)
	Kernel: Depends on container host
	Compiler: clang 19.1.5 (Fedora 19.1.5-1.fc41)

To view detailed results, visit:
https://lab.dpdk.org/results/dashboard/patchsets/32541/

UNH-IOL DPDK Community Lab

To manage your email subscriptions, visit: 
https://lab.dpdk.org/results/dashboard/preferences/subscriptions/