From mboxrd@z Thu Jan 1 00:00:00 1970 Return-Path: Received: from mails.dpdk.org (mails.dpdk.org [217.70.189.124]) by inbox.dpdk.org (Postfix) with ESMTP id 4EA6B461DF for ; Mon, 10 Feb 2025 02:55:59 +0100 (CET) Received: from mails.dpdk.org (localhost [127.0.0.1]) by mails.dpdk.org (Postfix) with ESMTP id 2EE50402D1; Mon, 10 Feb 2025 02:55:59 +0100 (CET) Received: from mail-pj1-f99.google.com (mail-pj1-f99.google.com [209.85.216.99]) by mails.dpdk.org (Postfix) with ESMTP id E4BAD402B7 for ; Mon, 10 Feb 2025 02:55:57 +0100 (CET) Received: by mail-pj1-f99.google.com with SMTP id 98e67ed59e1d1-2f44353649aso5508837a91.0 for ; Sun, 09 Feb 2025 17:55:57 -0800 (PST) DKIM-Signature: v=1; a=rsa-sha256; c=relaxed/relaxed; d=iol.unh.edu; s=unh-iol; t=1739152557; x=1739757357; darn=dpdk.org; h=cc:to:from:subject:message-id:date:from:to:cc:subject:date :message-id:reply-to; bh=4Oe5vCJcaVePaNeRvoVh4qSlvofHyq/oJtzIKXgidJ8=; b=SycpZ7VKO/CQNYZMWQzO6Rnh8xIQqJ6aoUZ0JHXJl/9+gxyfGm+YwEleznylo7udCu JGY1N3RJZQvST1KU8DWYBuHv7QcDlbczxnQijflvqJg0BrCSgItdZgsJXYx3GeQB49jf orQMM4a58c9C4q+7cCZ9cuEIZmXY7k7RFM7LM= X-Google-DKIM-Signature: v=1; a=rsa-sha256; c=relaxed/relaxed; d=1e100.net; s=20230601; t=1739152557; x=1739757357; h=cc:to:from:subject:message-id:date:x-gm-message-state:from:to:cc :subject:date:message-id:reply-to; bh=4Oe5vCJcaVePaNeRvoVh4qSlvofHyq/oJtzIKXgidJ8=; b=VvhoRMSoZ1jfSp0wqPowmdOQqzfAx9qoQ8CP9onTeRQbk2CStS8LW74XOTYziQxhif s9sWTkbuoht2UrnxfCVYfIDQUJYODrULEMZAaPqCWRL+yFCkpnDuAatsCUp+rd9dwvCn Jn8JQB8rh6R7NT/sXqsTBki3/TFM5rbYT8Eb1m+7U6ATTHIiOavVDm7wKRnECHA8H93x SNQR036Z4uQKBnE4QrJpWdbcZYW2PHl+bP8Q6gP8HUg+gnDDA+xkzUtvNXTv5vCt+yvu 8RDJU87fC5OkOmfu1JzxFhcQ+lHSRWag11tv81YUo1jLBLm2LcQIQkd7tdUUHGQVzE8x FjpA== X-Gm-Message-State: AOJu0YwaRxYurm6v50F6gzxyWz9Ed/nNWa69m7n5x3ME9cWbIzs7bJ/t yKCXDAkLy/Q3Qe56aaNHc7RSEtrT5g0q9qJY4zi+lGYM/I0YMNsoyhXqAxDl4HQZ4nNjn7jLlY9 ICzaamwI4Gmn/+9drp8UGdRCn6MVjoFlgXfZu46oA X-Gm-Gg: ASbGncvPTUDMmUJOSb30C9etV8Y7GzXRV5ERiPB7IedpE5umTr3PKenhBhRQ3LQpTiG i3ClXOXLQXI3O46sNnTRJ91f1ROfOnqyhjGz7lsek0Jni3B/jRtBptqUDDuHcGz2r0wj5enLQQ/ AJXeryz7yhEVyAHBU7LInQzacW8sOi1OPyHawL38GyCRmHMyxuo0S9VmrAZ54eVmbYn+9Pd6MtU cmH5iRt7sLVo7jo5IwKBuktTWd/XcOXu+LLEtdtiE9bZVrt7AJLSytbTOdn54ieRwGSgdePUmyI 7OuYLvjRf9eDbJZPoe9+LlrnBsXNtg== X-Google-Smtp-Source: AGHT+IHzF1ar0/ZjCeMiScrQxgddE9oJ0nCIaIbHZATVU/XnIaU3pWDPLgLt1lBUIDLYACzrd993w8KUOq2r X-Received: by 2002:a17:90b:1b44:b0:2ee:bc7b:9237 with SMTP id 98e67ed59e1d1-2fa243f0581mr17551753a91.27.1739152557080; Sun, 09 Feb 2025 17:55:57 -0800 (PST) Received: from postal.iol.unh.edu (postal.iol.unh.edu. [132.177.123.84]) by smtp-relay.gmail.com with ESMTPS id d9443c01a7336-21f8096741fsm1467105ad.12.2025.02.09.17.55.56 (version=TLS1_2 cipher=ECDHE-ECDSA-AES128-GCM-SHA256 bits=128/128); Sun, 09 Feb 2025 17:55:57 -0800 (PST) X-Relaying-Domain: iol.unh.edu Date: Sun, 09 Feb 2025 17:55:57 -0800 (PST) Message-ID: <67a95cad.170a0220.37392a.7894SMTPIN_ADDED_MISSING@mx.google.com> Received: from [172.21.0.8] (unknown [172.18.0.240]) by postal.iol.unh.edu (Postfix) with ESMTP id 322656052471; Sun, 9 Feb 2025 20:55:26 -0500 (EST) Subject: |SUCCESS| [GIT MASTER] 3553897d84d8b54a1b1136cbf04dd7f1a40fd85b From: dpdklab@iol.unh.edu To: Test Report Cc: dpdk-test-reports@iol.unh.edu Content-Type: text/plain X-BeenThere: test-report@dpdk.org X-Mailman-Version: 2.1.29 Precedence: list List-Id: automatic DPDK test reports List-Unsubscribe: , List-Archive: List-Post: List-Help: List-Subscribe: , Errors-To: test-report-bounces@dpdk.org _Testing PASS_ Branch: dpdk 3553897d84d8b54a1b1136cbf04dd7f1a40fd85b --> testing pass Upstream job id: Generic-Unit-Test-DPDK#313504 Test environment and result as below: +-----------------------------+----------------+--------------+---------------------------+------------------------------+ | Environment | dpdk_unit_test | lpm_autotest | cryptodev_sw_zuc_autotest | cryptodev_sw_snow3g_autotest | +=============================+================+==============+===========================+==============================+ | 32-bit Ubuntu 22.04.4 (ARM) | PASS | SKIPPED | SKIPPED | SKIPPED | +-----------------------------+----------------+--------------+---------------------------+------------------------------+ | Debian 11 (Buster) (ARM) | PASS | SKIPPED | SKIPPED | SKIPPED | +-----------------------------+----------------+--------------+---------------------------+------------------------------+ | Fedora 40 (ARM Clang) | PASS | SKIPPED | SKIPPED | SKIPPED | +-----------------------------+----------------+--------------+---------------------------+------------------------------+ | Fedora 41 (ARM Clang) | PASS | SKIPPED | SKIPPED | SKIPPED | +-----------------------------+----------------+--------------+---------------------------+------------------------------+ | Fedora 40 (ARM) | PASS | SKIPPED | SKIPPED | SKIPPED | +-----------------------------+----------------+--------------+---------------------------+------------------------------+ | Ubuntu 24.04 (ARM) | PASS | SKIPPED | SKIPPED | SKIPPED | +-----------------------------+----------------+--------------+---------------------------+------------------------------+ | CentOS Stream 9 (ARM) | PASS | SKIPPED | SKIPPED | SKIPPED | +-----------------------------+----------------+--------------+---------------------------+------------------------------+ | Debian 12 (arm) | PASS | SKIPPED | PASS | PASS | +-----------------------------+----------------+--------------+---------------------------+------------------------------+ | Ubuntu 22.04 (ARM) | PASS | SKIPPED | SKIPPED | SKIPPED | +-----------------------------+----------------+--------------+---------------------------+------------------------------+ | RHEL9 (ARM) | PASS | SKIPPED | SKIPPED | SKIPPED | +-----------------------------+----------------+--------------+---------------------------+------------------------------+ | Ubuntu 20.04 (ARM) | PASS | SKIPPED | SKIPPED | SKIPPED | +-----------------------------+----------------+--------------+---------------------------+------------------------------+ | Fedora 41 (ARM) | PASS | SKIPPED | SKIPPED | SKIPPED | +-----------------------------+----------------+--------------+---------------------------+------------------------------+ | Ubuntu 20.04 ARM SVE | SKIPPED | PASS | SKIPPED | SKIPPED | +-----------------------------+----------------+--------------+---------------------------+------------------------------+ 32-bit Ubuntu 22.04.4 (ARM) Kernel: 5.15.83+ aarch64 Compiler: gcc (Ubuntu 11.4.0-1ubuntu1~22.04) 11.4.0 Debian 11 (Buster) (ARM) Kernel: Depends on container host Compiler: gcc (Debian 10.2.1-6) 10.2.1 20210110 Fedora 40 (ARM Clang) Kernel: Depends on container host Compiler: clang 18.1.8 (Fedora 18.1.8-1.fc40) Fedora 41 (ARM Clang) Kernel: Depends on container host Compiler: clang 19.1.5 (Fedora 19.1.5-1.fc41) Fedora 40 (ARM) Kernel: Depends on container host Compiler: gcc 14.2.1 20240912 (Red Hat 14.2.1-3) Ubuntu 24.04 (ARM) Kernel: Depends on container host Compiler: gcc (Ubuntu 13.3.0-6ubuntu2~24.04) 13.3.0 CentOS Stream 9 (ARM) Kernel: Depends on container host Compiler: gcc 11.5.0 20240719 (Red Hat 11.5.0-2) Debian 12 (arm) Kernel: Depends on container host Compiler: gcc (Debian 12.2.0-14) 12.2.0 Ubuntu 22.04 (ARM) Kernel: Depends on container host Compiler: gcc (Ubuntu 11.4.0-1ubuntu1~22.04) 11.4.0 RHEL9 (ARM) Kernel: Depends on container host Compiler: gcc 11.5.0 20240719 (Red Hat 11.5.0-2) Ubuntu 20.04 (ARM) Kernel: Depends on container host Compiler: gcc (Ubuntu 9.4.0-1ubuntu1~20.04.2) 9.4.0 Fedora 41 (ARM) Kernel: Depends on container host Compiler: gcc 14.2.1 20240912 (Red Hat 14.2.1-3) Ubuntu 20.04 ARM SVE Kernel: Depends on container host Compiler: gcc (Ubuntu 10.5.0-1ubuntu1~20.04) 10.5.0 To view detailed results, visit: https://lab.dpdk.org/results/dashboard/tarballs/32519/ UNH-IOL DPDK Community Lab To manage your email subscriptions, visit: https://lab.dpdk.org/results/dashboard/preferences/subscriptions/