From mboxrd@z Thu Jan 1 00:00:00 1970 Return-Path: Received: from mails.dpdk.org (mails.dpdk.org [217.70.189.124]) by inbox.dpdk.org (Postfix) with ESMTP id 4E917461DF for ; Mon, 10 Feb 2025 02:56:13 +0100 (CET) Received: from mails.dpdk.org (localhost [127.0.0.1]) by mails.dpdk.org (Postfix) with ESMTP id 4B4BA402D1; Mon, 10 Feb 2025 02:56:13 +0100 (CET) Received: from mail-io1-f98.google.com (mail-io1-f98.google.com [209.85.166.98]) by mails.dpdk.org (Postfix) with ESMTP id ACC86402B7 for ; Mon, 10 Feb 2025 02:56:12 +0100 (CET) Received: by mail-io1-f98.google.com with SMTP id ca18e2360f4ac-844eb33827eso122847439f.2 for ; Sun, 09 Feb 2025 17:56:12 -0800 (PST) DKIM-Signature: v=1; a=rsa-sha256; c=relaxed/relaxed; d=iol.unh.edu; s=unh-iol; t=1739152572; x=1739757372; darn=dpdk.org; h=cc:to:from:subject:message-id:date:from:to:cc:subject:date :message-id:reply-to; bh=TpzFfe5dlLMbrmqDLD3Nu9mDDs0WCzPg2NJ1Pmfh4Rs=; b=VRBdspqeBckfKXFTg/6tweS1fGb/x7RWTQnsrM3bDI66zl12M/KsgdvxaxbWrBvjMw zokor6/tRF/QR0kR7kXZVGXquaeFGnO7h9h4wk9R5cbLuZwWv43ocq8et2Lnm5QkcnSh L/6zN8PZjvIj2dRZSs9SbQqoHwMP+Q1vfy/u4= X-Google-DKIM-Signature: v=1; a=rsa-sha256; c=relaxed/relaxed; d=1e100.net; s=20230601; t=1739152572; x=1739757372; h=cc:to:from:subject:message-id:date:x-gm-message-state:from:to:cc :subject:date:message-id:reply-to; bh=TpzFfe5dlLMbrmqDLD3Nu9mDDs0WCzPg2NJ1Pmfh4Rs=; b=wZJBiV9lTGdukrfImdpTwDcasa0pOsdtwYMpmrQlmU2b7vfMQR1rVR7fidnANXiDrO oaNUQJQVl1qFu8npt25z82Rz5/AM0s0tc4FYKjXOXuX1yDAJu1+dtDma2+DET9QZo3Go JSkAwrGBOB92r4p++lmmpQlDzE7Y7Gm5jTRw+l9asjh4tA21/+Moo9+BaqoEvbU5BPj9 8Bv5AilSEJgKT78naqojDn5Jow1Q/HXPRPPjCIDxq0K08XzDBpH1CZUVkIfUui81c5pc XIkMCD5yuv1G99NsJ6dqbFPfHS/vnfYF7zN4b2ExTVQJmEksrvOwWfwP8r98ewSywnQH D4bA== X-Gm-Message-State: AOJu0YyQdKETAXmsPvPDiBr6Bq6kBiv4Pv/A7I8iIXLLLsQlIcxsiAa2 GlNo1JpAedGLDD/fUoooj+7eEm6A5S8nBeNItEQdLUNcWznDrETyF2fm28RSi0KZPyNsdoXIbBU yLFFlyiTkO/cYDIFknVcF8vwcvvYAra8AUeCgY5ef X-Gm-Gg: ASbGnctEegnqYhCD3Cpckzl05lNSASfYbJSwWnAc82ZOwOLDZb8DoiSa3D+/ctmvSFs 8SiYNK4csSr7kbEWiJAEt5OY+jx7dDzwPqpje3e1+geyHSh3xYB46Zz1fJEU5Ay8VLlsptPYWpW DFbgnmHT7HQuONdgzkpnA3klXIoRMziE7JXIJrEhym9NEaaWL/Ly2tY+6eIsnIj4Nj08a78t7xn 5CSYppBuwFfLW+5YohkUA3pb/6vS6i3b1IWIoSRK07bV/Ucpo5+jkXZ7j+3+YxIIBnEYS48RnfW jr0qzeB8XMDOVI/iIGvzsVDG1Yn7Ng== X-Google-Smtp-Source: AGHT+IF9yCRVSjtreLKvmGs2dl9gts7GJvntc6SD9VJBQwIAC/NRaGjFC5X+jvkAeTre8L3MsMy1PGwTLd5s X-Received: by 2002:a05:6602:6d0d:b0:855:2bc8:69dc with SMTP id ca18e2360f4ac-8552bc86ecamr203156539f.14.1739152571884; Sun, 09 Feb 2025 17:56:11 -0800 (PST) Received: from postal.iol.unh.edu (postal.iol.unh.edu. [132.177.123.84]) by smtp-relay.gmail.com with ESMTPS id 8926c6da1cb9f-4ecf9da77d0sm65358173.47.2025.02.09.17.56.11 (version=TLS1_2 cipher=ECDHE-ECDSA-AES128-GCM-SHA256 bits=128/128); Sun, 09 Feb 2025 17:56:11 -0800 (PST) X-Relaying-Domain: iol.unh.edu Date: Sun, 09 Feb 2025 17:56:11 -0800 (PST) Message-ID: <67a95cbb.050a0220.1d54c9.367bSMTPIN_ADDED_MISSING@mx.google.com> Received: from [172.21.0.5] (unknown [172.18.0.240]) by postal.iol.unh.edu (Postfix) with ESMTP id 632366052471; Sun, 9 Feb 2025 20:56:07 -0500 (EST) Subject: |SUCCESS| [GIT MASTER] 3553897d84d8b54a1b1136cbf04dd7f1a40fd85b From: dpdklab@iol.unh.edu To: Test Report Cc: dpdk-test-reports@iol.unh.edu Content-Type: text/plain X-BeenThere: test-report@dpdk.org X-Mailman-Version: 2.1.29 Precedence: list List-Id: automatic DPDK test reports List-Unsubscribe: , List-Archive: List-Post: List-Help: List-Subscribe: , Errors-To: test-report-bounces@dpdk.org _Testing PASS_ Branch: dpdk 3553897d84d8b54a1b1136cbf04dd7f1a40fd85b --> testing pass Upstream job id: Generic-Unit-Test-DPDK#313506 Test environment and result as below: +-----------------------------+----------------+--------------+---------------------------+------------------------------+ | Environment | dpdk_unit_test | lpm_autotest | cryptodev_sw_zuc_autotest | cryptodev_sw_snow3g_autotest | +=============================+================+==============+===========================+==============================+ | 32-bit Ubuntu 22.04.4 (ARM) | PASS | SKIPPED | SKIPPED | SKIPPED | +-----------------------------+----------------+--------------+---------------------------+------------------------------+ | Debian 11 (Buster) (ARM) | PASS | SKIPPED | SKIPPED | SKIPPED | +-----------------------------+----------------+--------------+---------------------------+------------------------------+ | Fedora 40 (ARM Clang) | PASS | SKIPPED | SKIPPED | SKIPPED | +-----------------------------+----------------+--------------+---------------------------+------------------------------+ | Fedora 41 (ARM Clang) | PASS | SKIPPED | SKIPPED | SKIPPED | +-----------------------------+----------------+--------------+---------------------------+------------------------------+ | Fedora 40 (ARM) | PASS | SKIPPED | SKIPPED | SKIPPED | +-----------------------------+----------------+--------------+---------------------------+------------------------------+ | Ubuntu 24.04 (ARM) | PASS | SKIPPED | SKIPPED | SKIPPED | +-----------------------------+----------------+--------------+---------------------------+------------------------------+ | CentOS Stream 9 (ARM) | PASS | SKIPPED | SKIPPED | SKIPPED | +-----------------------------+----------------+--------------+---------------------------+------------------------------+ | Debian 12 (arm) | PASS | SKIPPED | PASS | PASS | +-----------------------------+----------------+--------------+---------------------------+------------------------------+ | Ubuntu 22.04 (ARM) | PASS | SKIPPED | SKIPPED | SKIPPED | +-----------------------------+----------------+--------------+---------------------------+------------------------------+ | RHEL9 (ARM) | PASS | SKIPPED | SKIPPED | SKIPPED | +-----------------------------+----------------+--------------+---------------------------+------------------------------+ | Ubuntu 20.04 (ARM) | PASS | SKIPPED | SKIPPED | SKIPPED | +-----------------------------+----------------+--------------+---------------------------+------------------------------+ | Fedora 41 (ARM) | PASS | SKIPPED | SKIPPED | SKIPPED | +-----------------------------+----------------+--------------+---------------------------+------------------------------+ | Ubuntu 20.04 ARM SVE | SKIPPED | PASS | SKIPPED | SKIPPED | +-----------------------------+----------------+--------------+---------------------------+------------------------------+ 32-bit Ubuntu 22.04.4 (ARM) Kernel: 5.15.83+ aarch64 Compiler: gcc (Ubuntu 11.4.0-1ubuntu1~22.04) 11.4.0 Debian 11 (Buster) (ARM) Kernel: Depends on container host Compiler: gcc (Debian 10.2.1-6) 10.2.1 20210110 Fedora 40 (ARM Clang) Kernel: Depends on container host Compiler: clang 18.1.8 (Fedora 18.1.8-1.fc40) Fedora 41 (ARM Clang) Kernel: Depends on container host Compiler: clang 19.1.5 (Fedora 19.1.5-1.fc41) Fedora 40 (ARM) Kernel: Depends on container host Compiler: gcc 14.2.1 20240912 (Red Hat 14.2.1-3) Ubuntu 24.04 (ARM) Kernel: Depends on container host Compiler: gcc (Ubuntu 13.3.0-6ubuntu2~24.04) 13.3.0 CentOS Stream 9 (ARM) Kernel: Depends on container host Compiler: gcc 11.5.0 20240719 (Red Hat 11.5.0-2) Debian 12 (arm) Kernel: Depends on container host Compiler: gcc (Debian 12.2.0-14) 12.2.0 Ubuntu 22.04 (ARM) Kernel: Depends on container host Compiler: gcc (Ubuntu 11.4.0-1ubuntu1~22.04) 11.4.0 RHEL9 (ARM) Kernel: Depends on container host Compiler: gcc 11.5.0 20240719 (Red Hat 11.5.0-2) Ubuntu 20.04 (ARM) Kernel: Depends on container host Compiler: gcc (Ubuntu 9.4.0-1ubuntu1~20.04.2) 9.4.0 Fedora 41 (ARM) Kernel: Depends on container host Compiler: gcc 14.2.1 20240912 (Red Hat 14.2.1-3) Ubuntu 20.04 ARM SVE Kernel: Depends on container host Compiler: gcc (Ubuntu 10.5.0-1ubuntu1~20.04) 10.5.0 To view detailed results, visit: https://lab.dpdk.org/results/dashboard/tarballs/32519/ UNH-IOL DPDK Community Lab To manage your email subscriptions, visit: https://lab.dpdk.org/results/dashboard/preferences/subscriptions/