From mboxrd@z Thu Jan 1 00:00:00 1970 Return-Path: Received: from mails.dpdk.org (mails.dpdk.org [217.70.189.124]) by inbox.dpdk.org (Postfix) with ESMTP id 64972461DF for ; Mon, 10 Feb 2025 02:56:17 +0100 (CET) Received: from mails.dpdk.org (localhost [127.0.0.1]) by mails.dpdk.org (Postfix) with ESMTP id 61AD3402D1; Mon, 10 Feb 2025 02:56:17 +0100 (CET) Received: from mail-io1-f99.google.com (mail-io1-f99.google.com [209.85.166.99]) by mails.dpdk.org (Postfix) with ESMTP id 71431402B7 for ; Mon, 10 Feb 2025 02:56:16 +0100 (CET) Received: by mail-io1-f99.google.com with SMTP id ca18e2360f4ac-85522610e26so9980339f.0 for ; Sun, 09 Feb 2025 17:56:16 -0800 (PST) DKIM-Signature: v=1; a=rsa-sha256; c=relaxed/relaxed; d=iol.unh.edu; s=unh-iol; t=1739152576; x=1739757376; darn=dpdk.org; h=cc:to:from:subject:message-id:date:from:to:cc:subject:date :message-id:reply-to; bh=A1Nws3XKTvHQCklXmak7peFn1aKRAoZQM4XXc6FRAI0=; b=Q1YvLKqdncKk2Oro/1Bg2YY1zbw1pN92ZoWbabqmymfuyTYFkmp7bDga8pJLVFRsAR WC1dgBY53HD37KvEPcuyHDR7svyzrufirw4D3837FZtkIRQvc4MFWMcedQj3PH4fBlT7 YcACSS1SXWtAou2bRoGVPb2Ei0uPD8aoZ6pA4= X-Google-DKIM-Signature: v=1; a=rsa-sha256; c=relaxed/relaxed; d=1e100.net; s=20230601; t=1739152576; x=1739757376; h=cc:to:from:subject:message-id:date:x-gm-message-state:from:to:cc :subject:date:message-id:reply-to; bh=A1Nws3XKTvHQCklXmak7peFn1aKRAoZQM4XXc6FRAI0=; b=wRVmRFIoQysER66sAUVot/H8jObZhasE860RARKrdTrhlZafHGu+ChnLUz62N6TrGz r7goy6fwTsQyHvrWphTcUpTi3cJuRjm6d5/2q3hTdpffrGvK0cFA0gj4KK25nPZCsm6q 3gKoPUA9zuH2ZPeWA1g4NrnJFP8ASrxR14EaZx9ysNkh5gLLjw5rju6Lvf2QLkhbo3yK EtJYHZVsR49Lu77qni9Fv69ARZY5ysjjFJCaC/w+aP47wPTlKwXngVPfBQRtvRpVIm/U a9SQw+DToOowXqIEDpcBG9rGfMzWP+VEhag8JamyXfZkN6KncFf+2DU/uohAAMXnwdrr JbvA== X-Gm-Message-State: AOJu0YxK2d2dyL+3H+/l3psX39n743Tf66sawyFpDyooESKAVxUL9Vpw IInoV0aY7mg9kNYTYFBgXvlA0sWz3D9uNoaSXLn4g5SAtQMP0wANh0Zo23MLBdjU7M3XenLVnGg YeN+N1rF4M+6E+8YnDr9jHeTSumkJ7CxiCgJ0Mj6F X-Gm-Gg: ASbGnct2GpmBuaWzUlDpGK29bWP7Ryvp0C9CvVIDQmS19OdMJ0KTR08+4PNaVLRlLF/ T4RmoCBZ15do5a7N7vUEp0EIwc5+kBVjM7zi5qzZOpFtWYrIvQ6RtSlnwPl3ElR7PBoJ3Hs4GT0 2yDwV8Bs2Wcyw9YuBGaNTDoJD/55f8dypaejZEH9RkX87cJd/wCN3sgyqlNvRKAOOFXART+Yn4E M6qa+X2W5iSPZue3PrB3xxayfdVSLmzSbc8yDLcuEozkUnP3JVVmoYHVh7yDtRjOpCqZbiJXc0s 9NLA5SDy/NvcSCJ/FuInQglBcQ8uMw== X-Google-Smtp-Source: AGHT+IEQKReBdsvQUU/gV54lhNV4H6AcNsc+VWK6dUZOQeyLpVk4lsWFfpf6cpndZcVwI7ZalAiKqrqzj1iQ X-Received: by 2002:a05:6e02:12c9:b0:3d0:137a:8c96 with SMTP id e9e14a558f8ab-3d13deeae1emr109760245ab.18.1739152575799; Sun, 09 Feb 2025 17:56:15 -0800 (PST) Received: from postal.iol.unh.edu (postal.iol.unh.edu. [132.177.123.84]) by smtp-relay.gmail.com with ESMTPS id 8926c6da1cb9f-4ece8643353sm217972173.30.2025.02.09.17.56.15 (version=TLS1_2 cipher=ECDHE-ECDSA-AES128-GCM-SHA256 bits=128/128); Sun, 09 Feb 2025 17:56:15 -0800 (PST) X-Relaying-Domain: iol.unh.edu Date: Sun, 09 Feb 2025 17:56:15 -0800 (PST) Message-ID: <67a95cbf.050a0220.2fc536.ab9fSMTPIN_ADDED_MISSING@mx.google.com> Received: from [172.21.0.5] (unknown [172.18.0.240]) by postal.iol.unh.edu (Postfix) with ESMTP id 496D16052472; Sun, 9 Feb 2025 20:55:45 -0500 (EST) Subject: |SUCCESS| [GIT MASTER] 3553897d84d8b54a1b1136cbf04dd7f1a40fd85b From: dpdklab@iol.unh.edu To: Test Report Cc: dpdk-test-reports@iol.unh.edu Content-Type: text/plain X-BeenThere: test-report@dpdk.org X-Mailman-Version: 2.1.29 Precedence: list List-Id: automatic DPDK test reports List-Unsubscribe: , List-Archive: List-Post: List-Help: List-Subscribe: , Errors-To: test-report-bounces@dpdk.org _Testing PASS_ Branch: dpdk 3553897d84d8b54a1b1136cbf04dd7f1a40fd85b --> testing pass Upstream job id: Aarch32-Unit-Test#5266 Test environment and result as below: +-----------------------------+----------------+--------------+---------------------------+------------------------------+ | Environment | dpdk_unit_test | lpm_autotest | cryptodev_sw_zuc_autotest | cryptodev_sw_snow3g_autotest | +=============================+================+==============+===========================+==============================+ | 32-bit Ubuntu 22.04.4 (ARM) | PASS | SKIPPED | SKIPPED | SKIPPED | +-----------------------------+----------------+--------------+---------------------------+------------------------------+ | Debian 11 (Buster) (ARM) | PASS | SKIPPED | SKIPPED | SKIPPED | +-----------------------------+----------------+--------------+---------------------------+------------------------------+ | Fedora 40 (ARM Clang) | PASS | SKIPPED | SKIPPED | SKIPPED | +-----------------------------+----------------+--------------+---------------------------+------------------------------+ | Fedora 41 (ARM Clang) | PASS | SKIPPED | SKIPPED | SKIPPED | +-----------------------------+----------------+--------------+---------------------------+------------------------------+ | Fedora 40 (ARM) | PASS | SKIPPED | SKIPPED | SKIPPED | +-----------------------------+----------------+--------------+---------------------------+------------------------------+ | Ubuntu 24.04 (ARM) | PASS | SKIPPED | SKIPPED | SKIPPED | +-----------------------------+----------------+--------------+---------------------------+------------------------------+ | CentOS Stream 9 (ARM) | PASS | SKIPPED | SKIPPED | SKIPPED | +-----------------------------+----------------+--------------+---------------------------+------------------------------+ | Debian 12 (arm) | PASS | SKIPPED | PASS | PASS | +-----------------------------+----------------+--------------+---------------------------+------------------------------+ | Ubuntu 22.04 (ARM) | PASS | SKIPPED | SKIPPED | SKIPPED | +-----------------------------+----------------+--------------+---------------------------+------------------------------+ | RHEL9 (ARM) | PASS | SKIPPED | SKIPPED | SKIPPED | +-----------------------------+----------------+--------------+---------------------------+------------------------------+ | Ubuntu 20.04 (ARM) | PASS | SKIPPED | SKIPPED | SKIPPED | +-----------------------------+----------------+--------------+---------------------------+------------------------------+ | Fedora 41 (ARM) | PASS | SKIPPED | SKIPPED | SKIPPED | +-----------------------------+----------------+--------------+---------------------------+------------------------------+ | Ubuntu 20.04 ARM SVE | SKIPPED | PASS | SKIPPED | SKIPPED | +-----------------------------+----------------+--------------+---------------------------+------------------------------+ 32-bit Ubuntu 22.04.4 (ARM) Kernel: 5.15.83+ aarch64 Compiler: gcc (Ubuntu 11.4.0-1ubuntu1~22.04) 11.4.0 Debian 11 (Buster) (ARM) Kernel: Depends on container host Compiler: gcc (Debian 10.2.1-6) 10.2.1 20210110 Fedora 40 (ARM Clang) Kernel: Depends on container host Compiler: clang 18.1.8 (Fedora 18.1.8-1.fc40) Fedora 41 (ARM Clang) Kernel: Depends on container host Compiler: clang 19.1.5 (Fedora 19.1.5-1.fc41) Fedora 40 (ARM) Kernel: Depends on container host Compiler: gcc 14.2.1 20240912 (Red Hat 14.2.1-3) Ubuntu 24.04 (ARM) Kernel: Depends on container host Compiler: gcc (Ubuntu 13.3.0-6ubuntu2~24.04) 13.3.0 CentOS Stream 9 (ARM) Kernel: Depends on container host Compiler: gcc 11.5.0 20240719 (Red Hat 11.5.0-2) Debian 12 (arm) Kernel: Depends on container host Compiler: gcc (Debian 12.2.0-14) 12.2.0 Ubuntu 22.04 (ARM) Kernel: Depends on container host Compiler: gcc (Ubuntu 11.4.0-1ubuntu1~22.04) 11.4.0 RHEL9 (ARM) Kernel: Depends on container host Compiler: gcc 11.5.0 20240719 (Red Hat 11.5.0-2) Ubuntu 20.04 (ARM) Kernel: Depends on container host Compiler: gcc (Ubuntu 9.4.0-1ubuntu1~20.04.2) 9.4.0 Fedora 41 (ARM) Kernel: Depends on container host Compiler: gcc 14.2.1 20240912 (Red Hat 14.2.1-3) Ubuntu 20.04 ARM SVE Kernel: Depends on container host Compiler: gcc (Ubuntu 10.5.0-1ubuntu1~20.04) 10.5.0 To view detailed results, visit: https://lab.dpdk.org/results/dashboard/tarballs/32519/ UNH-IOL DPDK Community Lab To manage your email subscriptions, visit: https://lab.dpdk.org/results/dashboard/preferences/subscriptions/