From mboxrd@z Thu Jan 1 00:00:00 1970 Return-Path: Received: from mails.dpdk.org (mails.dpdk.org [217.70.189.124]) by inbox.dpdk.org (Postfix) with ESMTP id 11781461DF for ; Mon, 10 Feb 2025 03:41:40 +0100 (CET) Received: from mails.dpdk.org (localhost [127.0.0.1]) by mails.dpdk.org (Postfix) with ESMTP id DF29A402D1; Mon, 10 Feb 2025 03:41:39 +0100 (CET) Received: from mail-ot1-f100.google.com (mail-ot1-f100.google.com [209.85.210.100]) by mails.dpdk.org (Postfix) with ESMTP id 6345C402A1 for ; Mon, 10 Feb 2025 03:41:38 +0100 (CET) Received: by mail-ot1-f100.google.com with SMTP id 46e09a7af769-71e15d9629bso1251370a34.1 for ; Sun, 09 Feb 2025 18:41:38 -0800 (PST) DKIM-Signature: v=1; a=rsa-sha256; c=relaxed/relaxed; d=iol.unh.edu; s=unh-iol; t=1739155297; x=1739760097; darn=dpdk.org; h=cc:to:from:subject:message-id:date:from:to:cc:subject:date :message-id:reply-to; bh=/tldep0GqtdDC9gqp0XibQ5s3vSN7PE89zAkBYklUOA=; b=Qb0QAlibKib5l8vwPbWIIiVdVuyO54n6hdxVbXGB3LaaXTdTvg287Bg2EC4H5slcoB ElLkhWLdqqFqWYH/5Rzq/XmMmztKh/vCMFl6v3QeMKBieSmyjo//sB5hdeCpI1EmUSrL OE01tK/olhmoICeNnKJHN4kC6WUNUqf0yZoJw= X-Google-DKIM-Signature: v=1; a=rsa-sha256; c=relaxed/relaxed; d=1e100.net; s=20230601; t=1739155297; x=1739760097; h=cc:to:from:subject:message-id:date:x-gm-message-state:from:to:cc :subject:date:message-id:reply-to; bh=/tldep0GqtdDC9gqp0XibQ5s3vSN7PE89zAkBYklUOA=; b=DhP+ENU1mwzkI1Q/00P1JSiHglquTzDkrfCetFPboDxXtAKJ7uoClxXl8ez681AOUQ H1gB+aEu+q9lAQQQqQX55yH6OzkTajwArxXsmRD5LSfP8fGliZaUt7EQqd6Z49suzhza tJlfu8HUfLyL31+uBY9kQYcL0UrSCMrjskJCBwvMLHOx1Y2JQfnZCA76EwzbCt2hhMGp YEHnKhEaI4vQIdGU0Q4LcMVKCaqza4B4iq+fPyDaeojkc9HYg4Ywah8d1HoQIhRxj1qQ F/3+KKUr+//Hchmz5AFdecyLM+91OY4CT0C99eTuZmlRwYkiNZ5v0GmQLMZEm2Rilziv Di9g== X-Gm-Message-State: AOJu0Yyb+B1QsxX9PCTpx2oYz9KqKfdQ0vmlPYPY0PUUx+p6ddU/CU19 dLG/0j/LyzOgeIGoU99Hd0KsdeH+g8ou4Sw55B5/EIfbE/HaaU82DZRa4LqAKmGI5nBrss9FWRB AqDKvNsY1zRQqa224QULtV7BvfHI8+6DmiagftSjF X-Gm-Gg: ASbGncv59ozTxWE+SsfL/93rPH55hurzhZtKec0NiUgfHme7VkllST7ZT+00mrTbJrq Qi78a9iLNDBlv3J4JdyoK5PlCVKjyqDme+o8RV0GPwHEObhw4Ujsk643ZCJNX5mK9YdXhR1H/cx 1XgPPqpgf/VcIE30VRp00DRIihBj0F0eJ/X2fg75lE5Z+5eWlZsMV0zhnYDVZPfk2KDbsBIn6q2 0TCyd1qj7HHqzQx9Fpgo8rJhASsCFPNcJUc56Pp3mfVHJPi7IatRYTX7ZuqEiObnJ2I/uxIZIIB vqAVWaxS5u/STqubkn7uhsxBX3bWSw== X-Google-Smtp-Source: AGHT+IHZMu4UlbjwO0uPSomAi43ZpXDFqfGKDjjBYORCVFiNiTbKdP1Nn2l7wDJMMB861lW8n61W0nZ3DqA9 X-Received: by 2002:a05:6830:718a:b0:717:fe94:4089 with SMTP id 46e09a7af769-726b88b43fcmr7104673a34.19.1739155297353; Sun, 09 Feb 2025 18:41:37 -0800 (PST) Received: from postal.iol.unh.edu (postal.iol.unh.edu. [132.177.123.84]) by smtp-relay.gmail.com with ESMTPS id 586e51a60fabf-2b89734a29fsm40258fac.18.2025.02.09.18.41.37 (version=TLS1_2 cipher=ECDHE-ECDSA-AES128-GCM-SHA256 bits=128/128); Sun, 09 Feb 2025 18:41:37 -0800 (PST) X-Relaying-Domain: iol.unh.edu Date: Sun, 09 Feb 2025 18:41:37 -0800 (PST) Message-ID: <67a96761.050a0220.1a739a.202bSMTPIN_ADDED_MISSING@mx.google.com> Received: from [172.21.0.5] (unknown [172.18.0.240]) by postal.iol.unh.edu (Postfix) with ESMTP id BE9CE6052471; Sun, 9 Feb 2025 21:41:36 -0500 (EST) Subject: |SUCCESS| [GIT MASTER] 3553897d84d8b54a1b1136cbf04dd7f1a40fd85b From: dpdklab@iol.unh.edu To: Test Report Cc: dpdk-test-reports@iol.unh.edu Content-Type: text/plain X-BeenThere: test-report@dpdk.org X-Mailman-Version: 2.1.29 Precedence: list List-Id: automatic DPDK test reports List-Unsubscribe: , List-Archive: List-Post: List-Help: List-Subscribe: , Errors-To: test-report-bounces@dpdk.org _Testing PASS_ Branch: dpdk 3553897d84d8b54a1b1136cbf04dd7f1a40fd85b --> testing pass Upstream job id: Generic-DPDK-Compile-ABI#115568 Test environment and result as below: +-------------------+----------+ | Environment | abi_test | +===================+==========+ | openSUSE Leap 15 | PASS | +-------------------+----------+ | Fedora 41 | PASS | +-------------------+----------+ | Fedora 40 (Clang) | PASS | +-------------------+----------+ | CentOS Stream 9 | PASS | +-------------------+----------+ | Fedora 41 (Clang) | PASS | +-------------------+----------+ | Debian Bullseye | PASS | +-------------------+----------+ | Debian 12 | PASS | +-------------------+----------+ | Fedora 40 | PASS | +-------------------+----------+ | RHEL9 | PASS | +-------------------+----------+ | Ubuntu 22.04 | PASS | +-------------------+----------+ | Ubuntu 24.04 | PASS | +-------------------+----------+ | Arch Linux | PASS | +-------------------+----------+ | RHEL8 | PASS | +-------------------+----------+ openSUSE Leap 15 Kernel: Depends on container host Compiler: gcc (SUSE Linux) 7.5.0 Fedora 41 Kernel: Depends on container host Compiler: gcc 14.2.1 20240912 (Red Hat 14.2.1-3) Fedora 40 (Clang) Kernel: Depends on container host Compiler: clang 18.1.8 (Fedora 18.1.8-1.fc40) CentOS Stream 9 Kernel: Depends on container host Compiler: gcc 11.5.0 20240719 (Red Hat 11.5.0-2) Fedora 41 (Clang) Kernel: Depends on container host Compiler: clang 19.1.5 (Fedora 19.1.5-1.fc41) Debian Bullseye Kernel: Depends on container host Compiler: gcc (Debian 10.2.1-6) 10.2.1 20210110 Debian 12 Kernel: Depends on container host Compiler: gcc (Debian 12.2.0-14) 12.2.0 Fedora 40 Kernel: Depends on container host Compiler: gcc 14.2.1 20240912 (Red Hat 14.2.1-3) RHEL9 Kernel: Depends on container host Compiler: gcc 11.5.0 20240719 (Red Hat 11.5.0-2) Ubuntu 22.04 Kernel: Depends on container host Compiler: gcc (Ubuntu 11.4.0-1ubuntu1~22.04) 11.4.0 Ubuntu 24.04 Kernel: Depends on container host Compiler: gcc (Ubuntu 13.3.0-6ubuntu2~24.04) 13.3.0 Arch Linux Kernel: Depends on container host Compiler: gcc 14.2.1 20240910 RHEL8 Kernel: Depends on container host Compiler: gcc 8.5.0 20210514 (Red Hat 8.5.0-22) To view detailed results, visit: https://lab.dpdk.org/results/dashboard/tarballs/32519/ UNH-IOL DPDK Community Lab To manage your email subscriptions, visit: https://lab.dpdk.org/results/dashboard/preferences/subscriptions/