From mboxrd@z Thu Jan 1 00:00:00 1970 Return-Path: Received: from mails.dpdk.org (mails.dpdk.org [217.70.189.124]) by inbox.dpdk.org (Postfix) with ESMTP id 24511461DF for ; Mon, 10 Feb 2025 03:53:26 +0100 (CET) Received: from mails.dpdk.org (localhost [127.0.0.1]) by mails.dpdk.org (Postfix) with ESMTP id 04014402D1; Mon, 10 Feb 2025 03:53:26 +0100 (CET) Received: from mail-il1-f228.google.com (mail-il1-f228.google.com [209.85.166.228]) by mails.dpdk.org (Postfix) with ESMTP id B9905402A1 for ; Mon, 10 Feb 2025 03:53:24 +0100 (CET) Received: by mail-il1-f228.google.com with SMTP id e9e14a558f8ab-3d0465a8d34so34796315ab.0 for ; Sun, 09 Feb 2025 18:53:24 -0800 (PST) DKIM-Signature: v=1; a=rsa-sha256; c=relaxed/relaxed; d=iol.unh.edu; s=unh-iol; t=1739156004; x=1739760804; darn=dpdk.org; h=cc:to:from:subject:message-id:date:from:to:cc:subject:date :message-id:reply-to; bh=c0aVWuOn8yIC8GKZJ7cHdJg6kns+/b5SjKuCM/JtTzk=; b=ieqp41pGamqCSu5aWjYcdZVDTOCsWeCrLKgdm1QHPDPvBMGvwkgsqNLl/01Ewlgogs +r7pnl/Bemo7BvzhYYiJ0sIZf0M5CsC3nI+AMta1J4Lq/8/0H0Spd5+uNYZbumcviCLQ BdsUpZOgKe0SEF7JnC0mbn6USywa0NpUiF8ac= X-Google-DKIM-Signature: v=1; a=rsa-sha256; c=relaxed/relaxed; d=1e100.net; s=20230601; t=1739156004; x=1739760804; h=cc:to:from:subject:message-id:date:x-gm-message-state:from:to:cc :subject:date:message-id:reply-to; bh=c0aVWuOn8yIC8GKZJ7cHdJg6kns+/b5SjKuCM/JtTzk=; b=UzDVFDbeuyuyLMwKA8i2RH2ytDYHUWSazNBnVQUSNMm2ylEk3P0Yo8HfSW2w4gKCYu B+m28fZyES3Z1w1yw/n4aaLnHeoPa2AFLxOAeiyI9yu/2HHTwzW13TFEzCcNWWL25fzh YU8YmdiNvgFwqI1JV3to57lbNsYvs4AI/52ENRV15w5RVJt0MhZ90AjvOogYovj6Gcp5 s1ztAaWs1w69MLDq60qlZlGapdPQ6SgtGA90Kgo/ShLQtDTcqWCpOsEWASBAoGtgqM1+ wL9zcM3lCYn/mEHljyR4xUq7iz9VE2q4lNmaYsNS7qvOC70WUkgatkGFKbu5uBqoBHOx r+Eg== X-Gm-Message-State: AOJu0YyM7hpN0vBp/WHxowvOCy2UTcuB29hbC5qLSdkeh/UG7gUMMKjZ /NhClM0ez7Q/dxa1ZF0KKAjHV69Dc9G36LLiPuEYJHY552XBQBhBpIGQJsQQNgJfScR/27gSx3Y Xv92ZpevCdRAZG97OkzU0iQFcMqSTavzZhxXgKs26 X-Gm-Gg: ASbGnctkV17hz21I7JtCYRepZVZtnvpmP4rzwBvt3gPCYwp2F524zhzlvGbIdza/Tei lhN3bXcVLVXaL1tme6AIADJhmMJeeI1gjef27qf4gecSYQ1P5cwMBpGGT5kwNtp3uZ2tKcQm8G4 qw1iZl1742TbI8HspbJeZS8H7C/EXX9kPNq5kQkvEEOtqFXT7Y65KYy/3sx1jHKs+i1GKCfKuKI 3Cw054Ry2zwrrzU6IgMHT8z72SZ6IPGSzjl0lZOwbu3ykfvLOfTt0G5OzL6Qrb2D6SHbx+tSDYw aR+R8/uiD5nq2Nk1vyYLkLCoskSWjQ== X-Google-Smtp-Source: AGHT+IFpjJWDKSL9cP5+eUncFHDNLAO6s4NPt6ZMNVItpKkc5iCa2Kf9C+zJjdGj5XqKH9jx8u3KKDyTOLYz X-Received: by 2002:a05:6e02:339d:b0:3cf:fb97:c313 with SMTP id e9e14a558f8ab-3d13df0cd59mr110545005ab.18.1739156003974; Sun, 09 Feb 2025 18:53:23 -0800 (PST) Received: from postal.iol.unh.edu (postal.iol.unh.edu. [132.177.123.84]) by smtp-relay.gmail.com with ESMTPS id e9e14a558f8ab-3d158fc58d4sm1695805ab.40.2025.02.09.18.53.23 (version=TLS1_2 cipher=ECDHE-ECDSA-AES128-GCM-SHA256 bits=128/128); Sun, 09 Feb 2025 18:53:23 -0800 (PST) X-Relaying-Domain: iol.unh.edu Date: Sun, 09 Feb 2025 18:53:23 -0800 (PST) Message-ID: <67a96a23.050a0220.22cb0f.8c2aSMTPIN_ADDED_MISSING@mx.google.com> Received: from [172.21.0.5] (unknown [172.18.0.240]) by postal.iol.unh.edu (Postfix) with ESMTP id 661186052471; Sun, 9 Feb 2025 21:53:23 -0500 (EST) Subject: |SUCCESS| [GIT MASTER] 3553897d84d8b54a1b1136cbf04dd7f1a40fd85b From: dpdklab@iol.unh.edu To: Test Report Cc: dpdk-test-reports@iol.unh.edu Content-Type: text/plain X-BeenThere: test-report@dpdk.org X-Mailman-Version: 2.1.29 Precedence: list List-Id: automatic DPDK test reports List-Unsubscribe: , List-Archive: List-Post: List-Help: List-Subscribe: , Errors-To: test-report-bounces@dpdk.org _Testing PASS_ Branch: dpdk 3553897d84d8b54a1b1136cbf04dd7f1a40fd85b --> testing pass Upstream job id: Generic-Unit-Test-DPDK#313509 Test environment and result as below: +---------------------+----------------+ | Environment | dpdk_unit_test | +=====================+================+ | Debian Bullseye | PASS | +---------------------+----------------+ | Fedora 40 | PASS | +---------------------+----------------+ | Fedora 40 (Clang) | PASS | +---------------------+----------------+ | Ubuntu 20.04 | PASS | +---------------------+----------------+ | CentOS Stream 9 | PASS | +---------------------+----------------+ | RHEL8 | PASS | +---------------------+----------------+ | Debian 12 | PASS | +---------------------+----------------+ | Arch Linux | PASS | +---------------------+----------------+ | Fedora 41 | PASS | +---------------------+----------------+ | Fedora 41 (Clang) | PASS | +---------------------+----------------+ | Ubuntu 24.04 | PASS | +---------------------+----------------+ | Ubuntu 22.04 | PASS | +---------------------+----------------+ | RHEL9 | PASS | +---------------------+----------------+ | Windows Server 2022 | PASS | +---------------------+----------------+ Debian Bullseye Kernel: Depends on container host Compiler: gcc (Debian 10.2.1-6) 10.2.1 20210110 Fedora 40 Kernel: Depends on container host Compiler: gcc 14.2.1 20240912 (Red Hat 14.2.1-3) Fedora 40 (Clang) Kernel: Depends on container host Compiler: clang 18.1.8 (Fedora 18.1.8-1.fc40) Ubuntu 20.04 Kernel: Depends on container host Compiler: gcc (Ubuntu 9.4.0-1ubuntu1~20.04.2) 9.4.0 CentOS Stream 9 Kernel: Depends on container host Compiler: gcc 11.5.0 20240719 (Red Hat 11.5.0-2) RHEL8 Kernel: Depends on container host Compiler: gcc 8.5.0 20210514 (Red Hat 8.5.0-22) Debian 12 Kernel: Depends on container host Compiler: gcc (Debian 12.2.0-14) 12.2.0 Arch Linux Kernel: Depends on container host Compiler: gcc 14.2.1 20240910 Fedora 41 Kernel: Depends on container host Compiler: gcc 14.2.1 20240912 (Red Hat 14.2.1-3) Fedora 41 (Clang) Kernel: Depends on container host Compiler: clang 19.1.5 (Fedora 19.1.5-1.fc41) Ubuntu 24.04 Kernel: Depends on container host Compiler: gcc (Ubuntu 13.3.0-6ubuntu2~24.04) 13.3.0 Ubuntu 22.04 Kernel: Depends on container host Compiler: gcc (Ubuntu 11.4.0-1ubuntu1~22.04) 11.4.0 RHEL9 Kernel: Depends on container host Compiler: gcc 11.5.0 20240719 (Red Hat 11.5.0-2) Windows Server 2022 Kernel: 10.0.20348.2031 Compiler: clang 15.0.7, gcc 14.1.0 (MinGW), and MSVC VS 19.39.33521 To view detailed results, visit: https://lab.dpdk.org/results/dashboard/tarballs/32519/ UNH-IOL DPDK Community Lab To manage your email subscriptions, visit: https://lab.dpdk.org/results/dashboard/preferences/subscriptions/