From mboxrd@z Thu Jan 1 00:00:00 1970 Return-Path: Received: from mails.dpdk.org (mails.dpdk.org [217.70.189.124]) by inbox.dpdk.org (Postfix) with ESMTP id B0C17461E1 for ; Mon, 10 Feb 2025 04:05:11 +0100 (CET) Received: from mails.dpdk.org (localhost [127.0.0.1]) by mails.dpdk.org (Postfix) with ESMTP id ADAE7402D1; Mon, 10 Feb 2025 04:05:11 +0100 (CET) Received: from mail-io1-f98.google.com (mail-io1-f98.google.com [209.85.166.98]) by mails.dpdk.org (Postfix) with ESMTP id D35BB402D1 for ; Mon, 10 Feb 2025 04:05:07 +0100 (CET) Received: by mail-io1-f98.google.com with SMTP id ca18e2360f4ac-8553534922dso3899839f.2 for ; Sun, 09 Feb 2025 19:05:07 -0800 (PST) DKIM-Signature: v=1; a=rsa-sha256; c=relaxed/relaxed; d=iol.unh.edu; s=unh-iol; t=1739156707; x=1739761507; darn=dpdk.org; h=cc:to:from:subject:message-id:date:from:to:cc:subject:date :message-id:reply-to; bh=t+USG/Z2LrMmL+HrHmDRoY5pIJakT4COVmPEjfoYpis=; b=ONkWCMlZxVGxAbybmdb8y5jWveS3pWNoSQrt287djTJERpmoI4xCNkovFhPhUOjgk6 dNMbkJX7kiiwVvwYDyaNG1kRsdToa7hUu2V8ctAgE720qvlyTLXU8vYkDPaGDMT1j53c K3LtmB+mTJSJWmEVS14Mtzdrg6Ml1ZOxWd3ik= X-Google-DKIM-Signature: v=1; a=rsa-sha256; c=relaxed/relaxed; d=1e100.net; s=20230601; t=1739156707; x=1739761507; h=cc:to:from:subject:message-id:date:x-gm-message-state:from:to:cc :subject:date:message-id:reply-to; bh=t+USG/Z2LrMmL+HrHmDRoY5pIJakT4COVmPEjfoYpis=; b=syOF+ljLW4Tuak2mu+2UebZ1I1xSfasai6oSbfShP7rnICzI8BMqdvnDbDHAEpguC5 iK7urskCCx/4LJVBHPFEvhDLmboLrLzucmkx6vyTqeopRleRQ0nkTe19cqI+hqe0RKF5 DJO9KtOgXv+X+EDkg2vVaHz2FMFcVh31fd2v6wr1Q9nvjsHdl8pi3FicuxFtClFAi0Hf RKbHrnfwIQDoSDU9/FIyUCF3wHQe4Bje9ErKyIwtDhHjj97lYppYSw6SE35v2xICIPRB ub+WtVg9JY/SJ126Q6hqAmH6haEiAUsC3gw+d98o0QViCfahiQ2gq9/GGwt97+QSyd3q aUbw== X-Gm-Message-State: AOJu0Yy/QxWgF0ab8YHqrEHKtZI05Bi20dwNWDUn6F7j3v40hdPZEonA LiT9mkid6GOCUgBKUcV1ekVqBy8udJw+hOii5M5OTrZG1gP5hws5FaIzaz3UksU8+OH6SwBSXtB gjYYPovBGdpIV2bAwPaXGoVTAvGirNsxJEUaulsg4 X-Gm-Gg: ASbGncsxTRZQU3aXl+Vm0yWOVaeujTx6yMfn7d+KEfZNPnQmysFVwaJNftEk4o13q/y opLHQ7DTL2WVqxBor5a3LOF3karb8cwYBA1QAP0pM2LzV6wDYkGenSfFQrvHTfijzU9GIP+3JZT OiL14IuWJuLSBpV1TJ9k8Xh8X28csNsEnaXro/usx4JLtE9MgErh8eT3HKYsmKn3bZaM3hTB8fw nKroYrpXKzjkRhU/qq464v2bIFDEg3ooLfRVb3CibyJsmvcQYvNbkoJGQBNbCVsIaKgxSiNe1hk 10kygBFJeBgEjdJmQ9Ayk9GbfmfpFg== X-Google-Smtp-Source: AGHT+IEZWiHvfGg2zoKktXw+h+7BuntkMHJr5vQxHRChuTwi3qL7m9ZdOVD+vn0k6+ghv6LvF66ZnEbFCp1g X-Received: by 2002:a05:6e02:1a46:b0:3d0:235b:4810 with SMTP id e9e14a558f8ab-3d13dcee18dmr90725985ab.2.1739156707175; Sun, 09 Feb 2025 19:05:07 -0800 (PST) Received: from postal.iol.unh.edu (postal.iol.unh.edu. [132.177.123.84]) by smtp-relay.gmail.com with ESMTPS id 8926c6da1cb9f-4eccfaa1b6asm479426173.57.2025.02.09.19.05.07 (version=TLS1_2 cipher=ECDHE-ECDSA-AES128-GCM-SHA256 bits=128/128); Sun, 09 Feb 2025 19:05:07 -0800 (PST) X-Relaying-Domain: iol.unh.edu Date: Sun, 09 Feb 2025 19:05:07 -0800 (PST) Message-ID: <67a96ce3.050a0220.359da5.8dbbSMTPIN_ADDED_MISSING@mx.google.com> Received: from [172.21.0.5] (unknown [172.18.0.240]) by postal.iol.unh.edu (Postfix) with ESMTP id B8E666052471; Sun, 9 Feb 2025 22:05:06 -0500 (EST) Subject: |WARNING| [GIT MASTER] 3553897d84d8b54a1b1136cbf04dd7f1a40fd85b From: dpdklab@iol.unh.edu To: Test Report Cc: dpdk-test-reports@iol.unh.edu Content-Type: text/plain X-BeenThere: test-report@dpdk.org X-Mailman-Version: 2.1.29 Precedence: list List-Id: automatic DPDK test reports List-Unsubscribe: , List-Archive: List-Post: List-Help: List-Subscribe: , Errors-To: test-report-bounces@dpdk.org _Testing issues_ Branch: dpdk 3553897d84d8b54a1b1136cbf04dd7f1a40fd85b --> testing issues Upstream job id: ACVP-FIPS-testing#8856 Test environment and result as below: +--------------------+----------------------+----------------------+ | Environment | compressdev_zlib_pmd | dpdk_fips_validation | +====================+======================+======================+ | Ubuntu 22.04 (ARM) | PASS | SKIPPED | +--------------------+----------------------+----------------------+ | Ubuntu 22.04 | PASS | SKIPPED | +--------------------+----------------------+----------------------+ | Ubuntu 20.04 | SKIPPED | WARN | +--------------------+----------------------+----------------------+ ==== 20 line log output for Ubuntu 20.04 (dpdk_fips_validation): ==== INFO:root:Fetching verdict... INFO:root:Downloading verdict for vector set 2881132 INFO:root:Vector set verdict not ready, waiting 30 seconds... INFO:root:Vector set verdict not ready, waiting 30 seconds... INFO:root:Done INFO:root:Using response file... INFO:root:Uploading response file... INFO:root:Fetching verdict... INFO:root:Downloading verdict for vector set 2881133 INFO:root:Vector set verdict not ready, waiting 30 seconds... INFO:root:Vector set verdict not ready, waiting 30 seconds... INFO:root:Done INFO:root:Using response file... INFO:root:Uploading response file... INFO:root:Fetching verdict... INFO:root:Downloading verdict for vector set 2881134 INFO:root:Vector set verdict not ready, waiting 30 seconds... INFO:root:Vector set verdict not ready, waiting 30 seconds... INFO:root:Vector set verdict not ready, waiting 30 seconds... INFO:root:Done ==== End log output ==== Ubuntu 22.04 (ARM) Kernel: 5.15.0-97-generic Compiler: gcc gcc (Ubuntu 11.4.0-1ubuntu1~22.04) 11.4.0 Ubuntu 22.04 Kernel: 5.15.0-100-generic Compiler: gcc gcc (Ubuntu 11.4.0-1ubuntu1~22.04) 11.4.0 Ubuntu 20.04 Kernel: Depends on container host Compiler: gcc (Ubuntu 9.4.0-1ubuntu1~20.04.2) 9.4.0 To view detailed results, visit: https://lab.dpdk.org/results/dashboard/tarballs/32519/ UNH-IOL DPDK Community Lab To manage your email subscriptions, visit: https://lab.dpdk.org/results/dashboard/preferences/subscriptions/