From mboxrd@z Thu Jan 1 00:00:00 1970 Return-Path: Received: from mails.dpdk.org (mails.dpdk.org [217.70.189.124]) by inbox.dpdk.org (Postfix) with ESMTP id E34E5461E1 for ; Mon, 10 Feb 2025 04:53:51 +0100 (CET) Received: from mails.dpdk.org (localhost [127.0.0.1]) by mails.dpdk.org (Postfix) with ESMTP id D37014021E; Mon, 10 Feb 2025 04:53:51 +0100 (CET) Received: from mail-il1-f227.google.com (mail-il1-f227.google.com [209.85.166.227]) by mails.dpdk.org (Postfix) with ESMTP id D4BAD400EF for ; Mon, 10 Feb 2025 04:53:50 +0100 (CET) Received: by mail-il1-f227.google.com with SMTP id e9e14a558f8ab-3d04fc1ea14so40460065ab.2 for ; Sun, 09 Feb 2025 19:53:50 -0800 (PST) DKIM-Signature: v=1; a=rsa-sha256; c=relaxed/relaxed; d=iol.unh.edu; s=unh-iol; t=1739159630; x=1739764430; darn=dpdk.org; h=references:in-reply-to:cc:to:from:subject:message-id:date:from:to :cc:subject:date:message-id:reply-to; bh=yQwqBdjIg6U1e7m8ZOtWRKJeytebfUX6HSe69J8Menw=; b=G6sW3uriVh1r/qUMsMvYGHnwN1k3jRih8PIhDPI/ClxLZRKvVLU0iKmzOkWtRCSB9g qMByPbe+D56VQaqgjVpaVI9XnL6dags4hkgKvKSGYqJQJeGf3dmALUhOpEvkhc7KgbVT nE01ouHquZvBlpLMKBXTjcF4FrxAM7FkOtxBQ= X-Google-DKIM-Signature: v=1; a=rsa-sha256; c=relaxed/relaxed; d=1e100.net; s=20230601; t=1739159630; x=1739764430; h=references:in-reply-to:cc:to:from:subject:message-id:date :x-gm-message-state:from:to:cc:subject:date:message-id:reply-to; bh=yQwqBdjIg6U1e7m8ZOtWRKJeytebfUX6HSe69J8Menw=; b=Rl+fFqwGIChUEYzb2ZS8ZNuLuFqGBpUWPdhXQ3I6MkTG6KQ1AhbBuXzIrwuaxW8srs h72Tp58ICCJlv8WoD1AAwSbeaxC5Eo7terZQZ92D3RSxs/d/I/PpZC2/I6eQoLqTYr1u mjADvoGrxxeDTVYlK02RaD5yiBmir9QvY74BPR/auSGvQwYOeW9zfLcNjEgY6l8SJ8Y+ rYDfUao7leyxqwk8vVLdGGd9IEKW/HT/ke7ukOAvkB3I5v2/Jl8eExB1gLVK4/ym7WPX rVKHs2yKBOrVN4bq1PG81Iu0OwoqnQN4brgCBxXGK1lcM/hENKoVsZe4z4C7SWLRIeMt Mlow== X-Gm-Message-State: AOJu0YyY2uRSNwipDtguzkklhgVYxvMG86nk2tVTkzmV9XAJL3ZsfO+y mT+xIQsLhhiSsk6JgClOBOls4t6Ou8S5el9zvX5giLo0xqoVhy0BR3+Rry81m7xwygPT3qTcVNq Pq5Wg+5GrxToX9cAJjYTZIjfOFp1UpXbwLRXWqU0m X-Gm-Gg: ASbGncuMkp5Ad+ZXyY+PxPT5/3p5B9sGZkt54InTVi74FPbiv4VYfrmZeTSri5Dot19 1pp2Sk96Jacn/efAVFSYB2X/UrJ12Wsw4SDofBwo6cG6tJD4UOS81MA62HofWL+sc6ggQ+r+s1p cKN7HzP9ovP8Mql3J6nGhRc701BLJE0eySYmSwVMPeUuS5BzFmVea2w/A69ZMgzerSjBAZAoxa2 XJT+xDrCqxPioa/bd4Vv0hn8rFLT139acDtPHK5Jr3zKVROPcnfNJRB7D4qySRXAuS7xU+v8PQb oy0cdL2VT+2n4vzWydy7UWcU06Bt9Q== X-Google-Smtp-Source: AGHT+IF8tOYW7ob6R9nxs34XjGvD6ck+CdnrmvDMx/7FDouqiLqpaZDiTeN7p5FgEa59yH3Y3yEWR3+9eELr X-Received: by 2002:a05:6e02:339d:b0:3cf:fb97:c313 with SMTP id e9e14a558f8ab-3d13df0cd59mr111674875ab.18.1739159630143; Sun, 09 Feb 2025 19:53:50 -0800 (PST) Received: from postal.iol.unh.edu (postal.iol.unh.edu. [132.177.123.84]) by smtp-relay.gmail.com with ESMTPS id e9e14a558f8ab-3d158fc58d4sm1752135ab.40.2025.02.09.19.53.50 (version=TLS1_2 cipher=ECDHE-ECDSA-AES128-GCM-SHA256 bits=128/128); Sun, 09 Feb 2025 19:53:50 -0800 (PST) X-Relaying-Domain: iol.unh.edu Date: Sun, 09 Feb 2025 19:53:50 -0800 (PST) Message-ID: <67a9784e.050a0220.22cb0f.908eSMTPIN_ADDED_MISSING@mx.google.com> Received: from [172.17.0.5] (unknown [172.18.0.217]) by postal.iol.unh.edu (Postfix) with ESMTP id 8E6F36052471; Sun, 9 Feb 2025 22:53:19 -0500 (EST) Subject: |SUCCESS| pw151229-151242 [PATCH] [v1,14/14] net/zxdh: clean stat va From: dpdklab@iol.unh.edu To: Test Report Cc: dpdk-test-reports@iol.unh.edu In-Reply-To: <20250210015017.4105624-9-chen.bingbin@zte.com.cn> References: <20250210015017.4105624-9-chen.bingbin@zte.com.cn> Content-Type: text/plain X-BeenThere: test-report@dpdk.org X-Mailman-Version: 2.1.29 Precedence: list List-Id: automatic DPDK test reports List-Unsubscribe: , List-Archive: List-Post: List-Help: List-Subscribe: , Errors-To: test-report-bounces@dpdk.org Test-Label: iol-unit-arm64-testing Test-Status: SUCCESS http://dpdk.org/patch/151242 _Testing PASS_ Submitter: Bingbin Chen Date: Monday, February 10 2025 01:50:17 DPDK git baseline: Repo:dpdk Branch: master CommitID:b82daa7d47bda76b3879ef6d715b2d3eb737793f 151229-151242 --> testing pass Upstream job id: Generic-Unit-Test-DPDK#313529 Test environment and result as below: +-----------------------------+----------------+--------------+---------------------------+------------------------------+ | Environment | dpdk_unit_test | lpm_autotest | cryptodev_sw_zuc_autotest | cryptodev_sw_snow3g_autotest | +=============================+================+==============+===========================+==============================+ | Debian 12 (arm) | PASS | SKIPPED | PASS | PASS | +-----------------------------+----------------+--------------+---------------------------+------------------------------+ | 32-bit Ubuntu 22.04.4 (ARM) | PASS | SKIPPED | SKIPPED | SKIPPED | +-----------------------------+----------------+--------------+---------------------------+------------------------------+ | Debian 11 (Buster) (ARM) | PASS | SKIPPED | SKIPPED | SKIPPED | +-----------------------------+----------------+--------------+---------------------------+------------------------------+ | Fedora 40 (ARM Clang) | PASS | SKIPPED | SKIPPED | SKIPPED | +-----------------------------+----------------+--------------+---------------------------+------------------------------+ | CentOS Stream 9 (ARM) | PASS | SKIPPED | SKIPPED | SKIPPED | +-----------------------------+----------------+--------------+---------------------------+------------------------------+ | Fedora 40 (ARM) | PASS | SKIPPED | SKIPPED | SKIPPED | +-----------------------------+----------------+--------------+---------------------------+------------------------------+ | Fedora 41 (ARM) | PASS | SKIPPED | SKIPPED | SKIPPED | +-----------------------------+----------------+--------------+---------------------------+------------------------------+ | Ubuntu 20.04 (ARM) | PASS | SKIPPED | SKIPPED | SKIPPED | +-----------------------------+----------------+--------------+---------------------------+------------------------------+ | Fedora 41 (ARM Clang) | PASS | SKIPPED | SKIPPED | SKIPPED | +-----------------------------+----------------+--------------+---------------------------+------------------------------+ | Ubuntu 22.04 (ARM) | PASS | SKIPPED | SKIPPED | SKIPPED | +-----------------------------+----------------+--------------+---------------------------+------------------------------+ | RHEL9 (ARM) | PASS | SKIPPED | SKIPPED | SKIPPED | +-----------------------------+----------------+--------------+---------------------------+------------------------------+ | Ubuntu 24.04 (ARM) | PASS | SKIPPED | SKIPPED | SKIPPED | +-----------------------------+----------------+--------------+---------------------------+------------------------------+ | Ubuntu 20.04 ARM SVE | SKIPPED | PASS | SKIPPED | SKIPPED | +-----------------------------+----------------+--------------+---------------------------+------------------------------+ Debian 12 (arm) Kernel: Depends on container host Compiler: gcc (Debian 12.2.0-14) 12.2.0 32-bit Ubuntu 22.04.4 (ARM) Kernel: 5.15.83+ aarch64 Compiler: gcc (Ubuntu 11.4.0-1ubuntu1~22.04) 11.4.0 Debian 11 (Buster) (ARM) Kernel: Depends on container host Compiler: gcc (Debian 10.2.1-6) 10.2.1 20210110 Fedora 40 (ARM Clang) Kernel: Depends on container host Compiler: clang 18.1.8 (Fedora 18.1.8-1.fc40) CentOS Stream 9 (ARM) Kernel: Depends on container host Compiler: gcc 11.5.0 20240719 (Red Hat 11.5.0-2) Fedora 40 (ARM) Kernel: Depends on container host Compiler: gcc 14.2.1 20240912 (Red Hat 14.2.1-3) Fedora 41 (ARM) Kernel: Depends on container host Compiler: gcc 14.2.1 20240912 (Red Hat 14.2.1-3) Ubuntu 20.04 (ARM) Kernel: Depends on container host Compiler: gcc (Ubuntu 9.4.0-1ubuntu1~20.04.2) 9.4.0 Fedora 41 (ARM Clang) Kernel: Depends on container host Compiler: clang 19.1.5 (Fedora 19.1.5-1.fc41) Ubuntu 22.04 (ARM) Kernel: Depends on container host Compiler: gcc (Ubuntu 11.4.0-1ubuntu1~22.04) 11.4.0 RHEL9 (ARM) Kernel: Depends on container host Compiler: gcc 11.5.0 20240719 (Red Hat 11.5.0-2) Ubuntu 24.04 (ARM) Kernel: Depends on container host Compiler: gcc (Ubuntu 13.3.0-6ubuntu2~24.04) 13.3.0 Ubuntu 20.04 ARM SVE Kernel: Depends on container host Compiler: gcc (Ubuntu 10.5.0-1ubuntu1~20.04) 10.5.0 To view detailed results, visit: https://lab.dpdk.org/results/dashboard/patchsets/32542/ UNH-IOL DPDK Community Lab To manage your email subscriptions, visit: https://lab.dpdk.org/results/dashboard/preferences/subscriptions/