From mboxrd@z Thu Jan 1 00:00:00 1970 Return-Path: Received: from mails.dpdk.org (mails.dpdk.org [217.70.189.124]) by inbox.dpdk.org (Postfix) with ESMTP id 2DB08461E1 for ; Mon, 10 Feb 2025 05:21:02 +0100 (CET) Received: from mails.dpdk.org (localhost [127.0.0.1]) by mails.dpdk.org (Postfix) with ESMTP id 234B840268; Mon, 10 Feb 2025 05:21:02 +0100 (CET) Received: from mail-il1-f226.google.com (mail-il1-f226.google.com [209.85.166.226]) by mails.dpdk.org (Postfix) with ESMTP id 7098B4021E for ; Mon, 10 Feb 2025 05:21:00 +0100 (CET) Received: by mail-il1-f226.google.com with SMTP id e9e14a558f8ab-3ce886a2d5bso41734385ab.1 for ; Sun, 09 Feb 2025 20:21:00 -0800 (PST) DKIM-Signature: v=1; a=rsa-sha256; c=relaxed/relaxed; d=iol.unh.edu; s=unh-iol; t=1739161260; x=1739766060; darn=dpdk.org; h=references:in-reply-to:cc:to:from:subject:message-id:date:from:to :cc:subject:date:message-id:reply-to; bh=Ej8PHPFE7KuY2T9lH0B+HDKpM8MR4KHIZslIG6AB6Pc=; b=KQGGPBxhBDONTFWlbzDfkjIVhRps1p/dWgLkix9gCMux87ORLoXyl1aZXZ3gr4PQsH SDx+p/Q6m6ovJqvIEt7Gws00yZOneteW27h9SuL6thVswTIg7wH6iTrxZwUtBJ/Nkk7G TaTYDnFTyCeFAM40UbI+kIbUbmjAN2Lh8mKro= X-Google-DKIM-Signature: v=1; a=rsa-sha256; c=relaxed/relaxed; d=1e100.net; s=20230601; t=1739161260; x=1739766060; h=references:in-reply-to:cc:to:from:subject:message-id:date :x-gm-message-state:from:to:cc:subject:date:message-id:reply-to; bh=Ej8PHPFE7KuY2T9lH0B+HDKpM8MR4KHIZslIG6AB6Pc=; b=aJxBn4DoF6bvysNo2B5z4Jc/hsRAtGKW6SPewLV2Ud5/VY5HqkvmZ7fU+P8tTObja6 NwJsbAfKEz1CDy1fH2o+mWutcmvoAUglilXs+Yonm6jubVpLF1S8hNbRH9SOPlP15dHk BM4l9JoXB7L70umHxP7xnJxa4gRZ4O4bfC8T4nuDtrAg/GV8ThbVenyK2ZSrGs6EeWdv G/QDfIDPRiraa0jtmSEyXGom299j8Ovr+VRyrLOWcol1kg3JzbThOiLT9O4FjD1EY/VN LiULgh+mqgfwJ0cxTgY02oYtu8BvDHlrtCOlSsN0XArFr2tgaGPsvuUw6uBEUm3tToIT ePuw== X-Gm-Message-State: AOJu0YzV0vDs9Nd210aJPNsNWt5NVycKq36yIHGbILE/2RKRXzHQEG0L y9mmJ/SLlPMIyEWpl5fnLoqTjHwn/Y2jFdxw6dR9DeCETNy/IxnO2S9YPbSVB6Sck23a5aOb2Bn lULKCKdXMttw4ZoxYHQIY7KGwPSyvmvP45DG2tuUo X-Gm-Gg: ASbGncsPk5q/zrzYArdG9SgE2qirt6xX1NYI+ke/Nw0/J0l01lpazgj/U3nH3woA/OC 6DjbRTrlbpJNF5HkyKPYFVQj9zPknKG+AgP3DaFdfjQLE9s99Xu3cYThxO/Dy5yqcEqpvakK3KG rypVXX7k5v5l/Cin2Wh5UzAs75cW/bE27748ffgQz3FCqtBSCXobp0mpuUQQ+drNlQ/4wWE9otB gEmLxB/8grJ25KO2frLKGTG7MM5oTziWefd9LDkCJTIzJo6J2CHqJ5Slb5a1wmUg2kcXRPUcho/ BwT0I8XuAA/tuqvXNnrlHLXON2RKRA== X-Google-Smtp-Source: AGHT+IENWhM6ibB24UfFAqA+o4vU0hi8dDt91DVARlWVq+aUxAps11SkYD9xznKv1QnTnl5YzSXrVkLtsBYO X-Received: by 2002:a05:6e02:1a41:b0:3d0:147a:b5da with SMTP id e9e14a558f8ab-3d13de77c41mr95551175ab.5.1739161259808; Sun, 09 Feb 2025 20:20:59 -0800 (PST) Received: from postal.iol.unh.edu (postal.iol.unh.edu. [132.177.123.84]) by smtp-relay.gmail.com with ESMTPS id 8926c6da1cb9f-4ecfe044ea4sm44212173.53.2025.02.09.20.20.59 (version=TLS1_2 cipher=ECDHE-ECDSA-AES128-GCM-SHA256 bits=128/128); Sun, 09 Feb 2025 20:20:59 -0800 (PST) X-Relaying-Domain: iol.unh.edu Date: Sun, 09 Feb 2025 20:20:59 -0800 (PST) Message-ID: <67a97eab.050a0220.5ac84.2214SMTPIN_ADDED_MISSING@mx.google.com> Received: from [172.21.0.6] (unknown [172.18.0.240]) by postal.iol.unh.edu (Postfix) with ESMTP id 4AA4C6052471; Sun, 9 Feb 2025 23:20:29 -0500 (EST) Subject: |WARNING| pw151229-151242 [PATCH] [v1,14/14] net/zxdh: clean stat va From: dpdklab@iol.unh.edu To: Test Report Cc: dpdk-test-reports@iol.unh.edu In-Reply-To: <20250210015017.4105624-9-chen.bingbin@zte.com.cn> References: <20250210015017.4105624-9-chen.bingbin@zte.com.cn> Content-Type: text/plain X-BeenThere: test-report@dpdk.org X-Mailman-Version: 2.1.29 Precedence: list List-Id: automatic DPDK test reports List-Unsubscribe: , List-Archive: List-Post: List-Help: List-Subscribe: , Errors-To: test-report-bounces@dpdk.org Test-Label: iol-unit-amd64-testing Test-Status: WARNING http://dpdk.org/patch/151242 _Testing issues_ Submitter: Bingbin Chen Date: Monday, February 10 2025 01:50:17 DPDK git baseline: Repo:dpdk Branch: master CommitID:b82daa7d47bda76b3879ef6d715b2d3eb737793f 151229-151242 --> testing issues Upstream job id: Generic-Unit-Test-DPDK#313534 Test environment and result as below: +-------------------+----------------+ | Environment | dpdk_unit_test | +===================+================+ | Debian Bullseye | PASS | +-------------------+----------------+ | Fedora 40 (Clang) | PASS | +-------------------+----------------+ | CentOS Stream 9 | PASS | +-------------------+----------------+ | Fedora 40 | PASS | +-------------------+----------------+ | Debian 12 | WARN | +-------------------+----------------+ | RHEL8 | PASS | +-------------------+----------------+ | Fedora 41 (Clang) | PASS | +-------------------+----------------+ | Fedora 41 | PASS | +-------------------+----------------+ | RHEL9 | PASS | +-------------------+----------------+ | Ubuntu 20.04 | PASS | +-------------------+----------------+ | Ubuntu 24.04 | PASS | +-------------------+----------------+ | Ubuntu 22.04 | PASS | +-------------------+----------------+ ==== 20 line log output for Debian 12 (dpdk_unit_test): ==== ../drivers/net/zxdh/zxdh_np.c:436:17: note: call to 'rte_free' here 436 | rte_free(ptr);\ | ^~~~~~~~~~~~~ ../drivers/net/zxdh/zxdh_np.c:8827:9: note: in expansion of macro 'ZXDH_COMM_CHECK_RC_MEMORY_FREE' 8827 | ZXDH_COMM_CHECK_RC_MEMORY_FREE(rc, "zxdh_np_comm_mutex_unlock", p_rsp_buff); | ^~~~~~~~~~~~~~~~~~~~~~~~~~~~~~ ../drivers/net/zxdh/zxdh_np.c:8831:9: error: pointer 'p_rsp_buff' used after 'rte_free' [-Werror=use-after-free] 8831 | rte_free(p_rsp_buff); | ^~~~~~~~~~~~~~~~~~~~ ../drivers/net/zxdh/zxdh_np.c:436:17: note: call to 'rte_free' here 436 | rte_free(ptr);\ | ^~~~~~~~~~~~~ ../drivers/net/zxdh/zxdh_np.c:8827:9: note: in expansion of macro 'ZXDH_COMM_CHECK_RC_MEMORY_FREE' 8827 | ZXDH_COMM_CHECK_RC_MEMORY_FREE(rc, "zxdh_np_comm_mutex_unlock", p_rsp_buff); | ^~~~~~~~~~~~~~~~~~~~~~~~~~~~~~ cc1: all warnings being treated as errors [2318/3167] Linking static target drivers/libtmp_rte_raw_cnxk_gpio.a [2319/3167] Linking static target drivers/librte_raw_cnxk_bphy.a [2320/3167] Compiling C object drivers/libtmp_rte_net_zxdh.a.p/net_zxdh_zxdh_ethdev_ops.c.o ninja: build stopped: subcommand failed. ==== End log output ==== Debian Bullseye Kernel: Depends on container host Compiler: gcc (Debian 10.2.1-6) 10.2.1 20210110 Fedora 40 (Clang) Kernel: Depends on container host Compiler: clang 18.1.8 (Fedora 18.1.8-1.fc40) CentOS Stream 9 Kernel: Depends on container host Compiler: gcc 11.5.0 20240719 (Red Hat 11.5.0-2) Fedora 40 Kernel: Depends on container host Compiler: gcc 14.2.1 20240912 (Red Hat 14.2.1-3) Debian 12 Kernel: Depends on container host Compiler: gcc (Debian 12.2.0-14) 12.2.0 RHEL8 Kernel: Depends on container host Compiler: gcc 8.5.0 20210514 (Red Hat 8.5.0-22) Fedora 41 (Clang) Kernel: Depends on container host Compiler: clang 19.1.5 (Fedora 19.1.5-1.fc41) Fedora 41 Kernel: Depends on container host Compiler: gcc 14.2.1 20240912 (Red Hat 14.2.1-3) RHEL9 Kernel: Depends on container host Compiler: gcc 11.5.0 20240719 (Red Hat 11.5.0-2) Ubuntu 20.04 Kernel: Depends on container host Compiler: gcc (Ubuntu 9.4.0-1ubuntu1~20.04.2) 9.4.0 Ubuntu 24.04 Kernel: Depends on container host Compiler: gcc (Ubuntu 13.3.0-6ubuntu2~24.04) 13.3.0 Ubuntu 22.04 Kernel: Depends on container host Compiler: gcc (Ubuntu 11.4.0-1ubuntu1~22.04) 11.4.0 To view detailed results, visit: https://lab.dpdk.org/results/dashboard/patchsets/32542/ UNH-IOL DPDK Community Lab To manage your email subscriptions, visit: https://lab.dpdk.org/results/dashboard/preferences/subscriptions/