From mboxrd@z Thu Jan 1 00:00:00 1970 Return-Path: Received: from mails.dpdk.org (mails.dpdk.org [217.70.189.124]) by inbox.dpdk.org (Postfix) with ESMTP id 4B624461E1 for ; Mon, 10 Feb 2025 05:21:05 +0100 (CET) Received: from mails.dpdk.org (localhost [127.0.0.1]) by mails.dpdk.org (Postfix) with ESMTP id 4452540268; Mon, 10 Feb 2025 05:21:05 +0100 (CET) Received: from mail-qk1-f227.google.com (mail-qk1-f227.google.com [209.85.222.227]) by mails.dpdk.org (Postfix) with ESMTP id C54BF4021E for ; Mon, 10 Feb 2025 05:21:03 +0100 (CET) Received: by mail-qk1-f227.google.com with SMTP id af79cd13be357-7c05049e67aso69987085a.1 for ; Sun, 09 Feb 2025 20:21:03 -0800 (PST) DKIM-Signature: v=1; a=rsa-sha256; c=relaxed/relaxed; d=iol.unh.edu; s=unh-iol; t=1739161263; x=1739766063; darn=dpdk.org; h=references:in-reply-to:cc:to:from:subject:message-id:date:from:to :cc:subject:date:message-id:reply-to; bh=tLr/6j4ftpTW87NlS0tpjEdSo9KlqxTZELDTvJykksY=; b=P+vzBzcVANRMdvbnire91qi+ulboisDA7JfiAHEYHxx9zcY6z0CE/EZ0Tq0FNeXozL E1ZgYkuRQxuhWS/UrGosNLQNjzyLZWogp31e0AcvqtFSzfVBOBn+dFroIXsq4PrAwgdg /3gKxWcK8NDtT/27K2B0ambCiZpcHHpfltN68= X-Google-DKIM-Signature: v=1; a=rsa-sha256; c=relaxed/relaxed; d=1e100.net; s=20230601; t=1739161263; x=1739766063; h=references:in-reply-to:cc:to:from:subject:message-id:date :x-gm-message-state:from:to:cc:subject:date:message-id:reply-to; bh=tLr/6j4ftpTW87NlS0tpjEdSo9KlqxTZELDTvJykksY=; b=RY4EjNNvJWFEHP09JsdMhFDF90+3Az2yyo6lbpQdI/772ETmSIybIe5r5TXqIt2Qd1 tvxPShtkrZJuuPjlUIddcFTpkIzOcYTNa80rFsRAJw58SMvUHeTFZQyFRTUE4RI3zMwa vbapNKFgLCRCuY/jNPoiKLyqMGdqJjnTlk+lrbpvA8b/lvrJsio3QT9W/0XaZBXbFM9s K24sD1VA0AR5vULY0jR5PxNzB/Zs9Iu1kb3iuognAm8ecyGfOPvcbtuGo/jJzKbe2dFk HlMt05klQQb7AvqPDPCB/dZgKu/9C/nrD6nHjb1jOpyAU61N7j90uCrVtgxQxS15k0PW QAJg== X-Gm-Message-State: AOJu0Yx9FG9zh9eja02M7yjds1O6WBhSfbWrVxPj0zQkc7KEuTTB1YCW YRPh8VIoSipSK3eyvSvqI8TQsGb5YodLMLXTeYEMj+bD23WxV1az2GTdMSZjUcr+kKMZ6A2KCO4 6s4bo0WFrTZUABeXLNhw6Y6Z93a6E7wMtS1XS4Mg2 X-Gm-Gg: ASbGncvFf2ABT4X3UZKUxlbt2l85rZiel7KXGHatzt7/qiZjRO+sDdX6WuHxmjcqd5O tpKzf2BhZytg/IiQ7hIqAcUVWEPxy5CVz99tsr+n26vOMWv9Vx/Z9bJJ6UdHO+5gf92PrNCAdAv apTd04P+8CdM64a2QRHHUi+ehwqZlcCIXftUjvS23+gRj+A8FYVqN0y7fKThYH5bbG9Ziai9boS ec2o/6dKDvgO+1Mtf/B9EKmkdwenTqhkUedGou3tm4k+z7udugvzWSDRIMenvpmeGLKJ+oVpnkK PoDb6pr//m9OcDEBlAQVpDmXjwjzzg== X-Google-Smtp-Source: AGHT+IHVvU69yMgZM1ZgCZGmPrxpyrErtXdLLU+GVjo7hhzXJn3lzYwga1FEJ4CLqn4RtEiX9w1cP/z/RgwY X-Received: by 2002:a05:6214:1bcc:b0:6e4:442c:288b with SMTP id 6a1803df08f44-6e4455e16acmr172835126d6.11.1739161263154; Sun, 09 Feb 2025 20:21:03 -0800 (PST) Received: from postal.iol.unh.edu (postal.iol.unh.edu. [132.177.123.84]) by smtp-relay.gmail.com with ESMTPS id 6a1803df08f44-6e45ece43d4sm1116746d6.5.2025.02.09.20.21.03 (version=TLS1_2 cipher=ECDHE-ECDSA-AES128-GCM-SHA256 bits=128/128); Sun, 09 Feb 2025 20:21:03 -0800 (PST) X-Relaying-Domain: iol.unh.edu Date: Sun, 09 Feb 2025 20:21:03 -0800 (PST) Message-ID: <67a97eaf.d40a0220.25e728.5ad7SMTPIN_ADDED_MISSING@mx.google.com> Received: from [172.21.0.5] (unknown [172.18.0.240]) by postal.iol.unh.edu (Postfix) with ESMTP id CC5ED6052472; Sun, 9 Feb 2025 23:20:32 -0500 (EST) Subject: |SUCCESS| pw151229-151242 [PATCH] [v1,14/14] net/zxdh: clean stat va From: dpdklab@iol.unh.edu To: Test Report Cc: dpdk-test-reports@iol.unh.edu In-Reply-To: <20250210015017.4105624-9-chen.bingbin@zte.com.cn> References: <20250210015017.4105624-9-chen.bingbin@zte.com.cn> Content-Type: text/plain X-BeenThere: test-report@dpdk.org X-Mailman-Version: 2.1.29 Precedence: list List-Id: automatic DPDK test reports List-Unsubscribe: , List-Archive: List-Post: List-Help: List-Subscribe: , Errors-To: test-report-bounces@dpdk.org Test-Label: iol-abi-testing Test-Status: SUCCESS http://dpdk.org/patch/151242 _Testing PASS_ Submitter: Bingbin Chen Date: Monday, February 10 2025 01:50:17 DPDK git baseline: Repo:dpdk Branch: master CommitID:b82daa7d47bda76b3879ef6d715b2d3eb737793f 151229-151242 --> testing pass Upstream job id: Generic-DPDK-Compile-ABI#115578 Test environment and result as below: +-------------------+----------+ | Environment | abi_test | +===================+==========+ | CentOS Stream 9 | PASS | +-------------------+----------+ | Debian Bullseye | PASS | +-------------------+----------+ | Debian 12 | PASS | +-------------------+----------+ | Fedora 40 | PASS | +-------------------+----------+ | Fedora 41 (Clang) | PASS | +-------------------+----------+ | Fedora 40 (Clang) | PASS | +-------------------+----------+ | Fedora 41 | PASS | +-------------------+----------+ | openSUSE Leap 15 | PASS | +-------------------+----------+ | RHEL9 | PASS | +-------------------+----------+ | RHEL8 | PASS | +-------------------+----------+ | Ubuntu 22.04 | PASS | +-------------------+----------+ | Ubuntu 24.04 | PASS | +-------------------+----------+ CentOS Stream 9 Kernel: Depends on container host Compiler: gcc 11.5.0 20240719 (Red Hat 11.5.0-2) Debian Bullseye Kernel: Depends on container host Compiler: gcc (Debian 10.2.1-6) 10.2.1 20210110 Debian 12 Kernel: Depends on container host Compiler: gcc (Debian 12.2.0-14) 12.2.0 Fedora 40 Kernel: Depends on container host Compiler: gcc 14.2.1 20240912 (Red Hat 14.2.1-3) Fedora 41 (Clang) Kernel: Depends on container host Compiler: clang 19.1.5 (Fedora 19.1.5-1.fc41) Fedora 40 (Clang) Kernel: Depends on container host Compiler: clang 18.1.8 (Fedora 18.1.8-1.fc40) Fedora 41 Kernel: Depends on container host Compiler: gcc 14.2.1 20240912 (Red Hat 14.2.1-3) openSUSE Leap 15 Kernel: Depends on container host Compiler: gcc (SUSE Linux) 7.5.0 RHEL9 Kernel: Depends on container host Compiler: gcc 11.5.0 20240719 (Red Hat 11.5.0-2) RHEL8 Kernel: Depends on container host Compiler: gcc 8.5.0 20210514 (Red Hat 8.5.0-22) Ubuntu 22.04 Kernel: Depends on container host Compiler: gcc (Ubuntu 11.4.0-1ubuntu1~22.04) 11.4.0 Ubuntu 24.04 Kernel: Depends on container host Compiler: gcc (Ubuntu 13.3.0-6ubuntu2~24.04) 13.3.0 To view detailed results, visit: https://lab.dpdk.org/results/dashboard/patchsets/32542/ UNH-IOL DPDK Community Lab To manage your email subscriptions, visit: https://lab.dpdk.org/results/dashboard/preferences/subscriptions/