From mboxrd@z Thu Jan 1 00:00:00 1970 Return-Path: Received: from mails.dpdk.org (mails.dpdk.org [217.70.189.124]) by inbox.dpdk.org (Postfix) with ESMTP id 0B657461E1 for ; Mon, 10 Feb 2025 05:31:20 +0100 (CET) Received: from mails.dpdk.org (localhost [127.0.0.1]) by mails.dpdk.org (Postfix) with ESMTP id E05B340268; Mon, 10 Feb 2025 05:31:19 +0100 (CET) Received: from mail-qv1-f98.google.com (mail-qv1-f98.google.com [209.85.219.98]) by mails.dpdk.org (Postfix) with ESMTP id 4E89A4021E for ; Mon, 10 Feb 2025 05:31:19 +0100 (CET) Received: by mail-qv1-f98.google.com with SMTP id 6a1803df08f44-6dd1962a75bso28250116d6.3 for ; Sun, 09 Feb 2025 20:31:19 -0800 (PST) DKIM-Signature: v=1; a=rsa-sha256; c=relaxed/relaxed; d=iol.unh.edu; s=unh-iol; t=1739161878; x=1739766678; darn=dpdk.org; h=references:in-reply-to:cc:to:from:subject:message-id:date:from:to :cc:subject:date:message-id:reply-to; bh=ndb2EL2HnHozIff15L9/7H31LfX1NY4C+IhVszSAscE=; b=V1Bs0B5Lqpy/30MNlqGmov1JqmFaJz9GJBOk3regiZossZAJrCnAZ6qAUWgP0Eam0I hDlxQF5bREFdXi6aYgLXy7YG9Jqz7IIL+Sb5hiSTvD5pcGrCy+ToexScO31sSo626r6O NWQKj8FAdkF9DnP2xpMjPTqJiAEWIbmACxBUc= X-Google-DKIM-Signature: v=1; a=rsa-sha256; c=relaxed/relaxed; d=1e100.net; s=20230601; t=1739161878; x=1739766678; h=references:in-reply-to:cc:to:from:subject:message-id:date :x-gm-message-state:from:to:cc:subject:date:message-id:reply-to; bh=ndb2EL2HnHozIff15L9/7H31LfX1NY4C+IhVszSAscE=; b=MmzjbF/TWOH8lVZYNMTl8Yuqq1KEKGc0Ev6+k+fzNwOL1w3qJOm/QwdQ119T2fY+Ik aV1uJG1sc7qSM68djL8ZqjpyCMtcm+L7KGbJURU6R/uiH3Jqyb64JrKFKi3l2WU2YsUz JhZYkkYv+vp4qs9RQ1MZgurB4zvpLLf6Wo/6wj1Fr6yjd5cq4M7be4zBrC2SmrN1ibsi NXlGgcC+lIEQT6ldmn+TO+/RHhNM34YwDdh1zoJww6+bryP2aIJniuTWL872ZJM2ftqs MzrzXOtESYFf0pHKqP7JsTMaoOv8AefdgljnYiulC0eYdZU88iTIaMat7iP2FV/IhXwM /9vA== X-Gm-Message-State: AOJu0Yxp5EIETOdlqV2WoHkUdETDGffdu6/inTSqyX/MBQDamqGSzwJ5 G4bZ5YMDP7s/9Q1VZv7fixsjl9i8xjtq/9GWdInEyLkBF2xAPe2Mp3bckglpsOx5iPjfd5r94vZ L2RUKQQakYplkpFKQCPQzfO52ck7tvOa8KWtUizmh X-Gm-Gg: ASbGnctPJQQahCSI2fh4OVTTBB2msweI5a4Fk2HLBGZnh+lVlMM7mmjgky61wfCKXge BVe5nHr/V46GsqYoMCf3iFVauN0P5/cbeeZ4gQQ5f5Tqf7f9YJLCsYVVhClUxiSsGQrqK4TgBOB 6jjSg0SSLBqhi7Q1EkgLYtcac56t6obRFEiXxzymHjVswH8awoH2XlUHQ1xtqFGjVGP7uU4jFyw F6n+MsDKpDqygq/wGdkSuYkP0MsJpC5ZD8GYjgS0bMndrHobXQIkqcDhfZKTQtNUYaAvBq6nJni TK6NZdJRIcQALelTDenPUEfjAAyCNA== X-Google-Smtp-Source: AGHT+IHEQCHvgAIzYUTrxsGebUaQEAuD2GUNkLkFV5DrXntftioVv22OFtPv/+eRnaFHEAA3ClKRgs0wH9MQ X-Received: by 2002:a05:6214:dae:b0:6e4:4331:aae0 with SMTP id 6a1803df08f44-6e4455c465emr136009696d6.1.1739161878561; Sun, 09 Feb 2025 20:31:18 -0800 (PST) Received: from postal.iol.unh.edu (postal.iol.unh.edu. [132.177.123.84]) by smtp-relay.gmail.com with ESMTPS id 6a1803df08f44-6e44989239asm3732036d6.57.2025.02.09.20.31.18 (version=TLS1_2 cipher=ECDHE-ECDSA-AES128-GCM-SHA256 bits=128/128); Sun, 09 Feb 2025 20:31:18 -0800 (PST) X-Relaying-Domain: iol.unh.edu Date: Sun, 09 Feb 2025 20:31:18 -0800 (PST) Message-ID: <67a98116.050a0220.30fac.2a8bSMTPIN_ADDED_MISSING@mx.google.com> Received: from [172.21.0.7] (unknown [172.18.0.240]) by postal.iol.unh.edu (Postfix) with ESMTP id 32C3D6052471; Sun, 9 Feb 2025 23:31:18 -0500 (EST) Subject: |WARNING| pw151229-151242 [PATCH] [v1,14/14] net/zxdh: clean stat va From: dpdklab@iol.unh.edu To: Test Report Cc: dpdk-test-reports@iol.unh.edu In-Reply-To: <20250210015017.4105624-9-chen.bingbin@zte.com.cn> References: <20250210015017.4105624-9-chen.bingbin@zte.com.cn> Content-Type: text/plain X-BeenThere: test-report@dpdk.org X-Mailman-Version: 2.1.29 Precedence: list List-Id: automatic DPDK test reports List-Unsubscribe: , List-Archive: List-Post: List-Help: List-Subscribe: , Errors-To: test-report-bounces@dpdk.org Test-Label: iol-sample-apps-testing Test-Status: WARNING http://dpdk.org/patch/151242 _Testing issues_ Submitter: Bingbin Chen Date: Monday, February 10 2025 01:50:17 DPDK git baseline: Repo:dpdk Branch: master CommitID:b82daa7d47bda76b3879ef6d715b2d3eb737793f 151229-151242 --> testing issues Upstream job id: ACVP-FIPS-testing#8857 Test environment and result as below: +--------------------+----------------------+----------------------+ | Environment | compressdev_zlib_pmd | dpdk_fips_validation | +====================+======================+======================+ | Ubuntu 22.04 (ARM) | PASS | SKIPPED | +--------------------+----------------------+----------------------+ | Ubuntu 22.04 | PASS | SKIPPED | +--------------------+----------------------+----------------------+ | Ubuntu 20.04 | SKIPPED | WARN | +--------------------+----------------------+----------------------+ ==== 20 line log output for Ubuntu 20.04 (dpdk_fips_validation): ==== INFO:root:Fetching verdict... INFO:root:Downloading verdict for vector set 2881137 INFO:root:Vector set verdict not ready, waiting 30 seconds... INFO:root:Vector set verdict not ready, waiting 30 seconds... INFO:root:Done INFO:root:Using response file... INFO:root:Uploading response file... INFO:root:Fetching verdict... INFO:root:Downloading verdict for vector set 2881138 INFO:root:Vector set verdict not ready, waiting 30 seconds... INFO:root:Vector set verdict not ready, waiting 30 seconds... INFO:root:Vector set verdict not ready, waiting 30 seconds... INFO:root:Done INFO:root:Using response file... INFO:root:Uploading response file... INFO:root:Fetching verdict... INFO:root:Downloading verdict for vector set 2881145 INFO:root:Vector set verdict not ready, waiting 30 seconds... INFO:root:Vector set verdict not ready, waiting 30 seconds... INFO:root:Done ==== End log output ==== Ubuntu 22.04 (ARM) Kernel: 5.15.0-97-generic Compiler: gcc gcc (Ubuntu 11.4.0-1ubuntu1~22.04) 11.4.0 Ubuntu 22.04 Kernel: 5.15.0-100-generic Compiler: gcc gcc (Ubuntu 11.4.0-1ubuntu1~22.04) 11.4.0 Ubuntu 20.04 Kernel: Depends on container host Compiler: gcc (Ubuntu 9.4.0-1ubuntu1~20.04.2) 9.4.0 To view detailed results, visit: https://lab.dpdk.org/results/dashboard/patchsets/32542/ UNH-IOL DPDK Community Lab To manage your email subscriptions, visit: https://lab.dpdk.org/results/dashboard/preferences/subscriptions/