From mboxrd@z Thu Jan 1 00:00:00 1970 Return-Path: Received: from mails.dpdk.org (mails.dpdk.org [217.70.189.124]) by inbox.dpdk.org (Postfix) with ESMTP id F4183461AE for ; Mon, 10 Feb 2025 05:48:25 +0100 (CET) Received: from mails.dpdk.org (localhost [127.0.0.1]) by mails.dpdk.org (Postfix) with ESMTP id 1114C40268; Mon, 10 Feb 2025 05:48:25 +0100 (CET) Received: from mail-qk1-f225.google.com (mail-qk1-f225.google.com [209.85.222.225]) by mails.dpdk.org (Postfix) with ESMTP id BE0F54021E for ; Mon, 10 Feb 2025 05:48:23 +0100 (CET) Received: by mail-qk1-f225.google.com with SMTP id af79cd13be357-7be6fdeee35so698759085a.1 for ; Sun, 09 Feb 2025 20:48:23 -0800 (PST) DKIM-Signature: v=1; a=rsa-sha256; c=relaxed/relaxed; d=iol.unh.edu; s=unh-iol; t=1739162903; x=1739767703; darn=dpdk.org; h=cc:to:from:subject:message-id:date:from:to:cc:subject:date :message-id:reply-to; bh=baCVuqba0kRzwni8Xc+c+vbl+20mniqoH81HOoTwbkA=; b=aKz9rtWiohYN5T5Z0ZQRjebpQkc7lniuOVatIRga1DMcRXr1FmVLS3WDWT+1orWMvm OSYHMe+wFBky87KZOSviVoAFnst/Ki7Q4nrPtYNyzgTxi6KR11+W3QrR9VfskLvM9zw3 VNJ3aL1NpfMoz6vbbt/4eGpkfRPjIKnw+YjME= X-Google-DKIM-Signature: v=1; a=rsa-sha256; c=relaxed/relaxed; d=1e100.net; s=20230601; t=1739162903; x=1739767703; h=cc:to:from:subject:message-id:date:x-gm-message-state:from:to:cc :subject:date:message-id:reply-to; bh=baCVuqba0kRzwni8Xc+c+vbl+20mniqoH81HOoTwbkA=; b=bDw0flsZ+dGA4AaCSI/aY/sM5Xg2r7NeyrRcqQ0HbX+JSwCgFD2sqXynpglJyY/JMK BXbCArmv5rI2yalS/X32Id+r97TNCADtmdrmibHh2JWevBqnDzGClzw2vpvGzH/KNGNC SR5Yn26qQ15qmgP7qtpNQXqWjkutxNUWDZo29hcNjU4S6FJOI4QeF45R45aymTT//q4J 9iZ+nuim0SCINZUffuOupjoBmn5x9wCjGDEp23nKTXQKfnSgDmMUR6Cm3awgsjO1abgd vI9DWBCGx6RlQ95EHfTcMDjkcDLsCND72UlMc5cm3ANwdOwHuEggvSeeTVdL5EO50cc7 vDnQ== X-Gm-Message-State: AOJu0Yyk5DQ9tMUCBU0pG0u6fZL9y4feWQSXC+CnLQOrff4CJYZooZ39 ZVN5sw80kOyIPQQfjLsILxsxGktLluZyGOhCJIgo5IuUNXz3Fj+ZEE3HKmNBQ/I9AV8gk8qSlWQ I7Uwpiz2GqqemGJFyPG9Mzl+/jFaxpkFmcYCcWJsf X-Gm-Gg: ASbGncuotMoGFIYklNwiymNd1pF5ALjovlQTTzb1+7jLQ6qqJMlPhZUXFvc20uqZmZl JEGtMCgUtFIBXKmXAZJqeqJrbOTl7OpYNfs46jBdxA6ixxUsDD46EHthYxrP2Vt16VMWb9Uw8UZ 1NWUz16AoaLRJaNIbGyYzT8l1nYQcQc/4H89Q9IK0hJrNv99r4olRiz7EeFPdnO4YvwUSl64JFJ 3fsWH9zfVMcvjHatEBnRY0fS9FOvHGCjdur6DMmFRIwsyK0Q9jsFB/DtcnmcVYyFyX44W3HfCgK AU6E70AgQxdfAVSn2Aty0qL5+aXy0g== X-Google-Smtp-Source: AGHT+IFb5zYJRJ5dbcSh06KLm0TlRZNmtQPpOnnhZy9mtz0Nm2nHZHc5fHaWQTOZexTd02gJlREQIL2jK4UY X-Received: by 2002:a05:620a:410f:b0:7b7:106a:1986 with SMTP id af79cd13be357-7c047bc73d0mr1943030985a.27.1739162903088; Sun, 09 Feb 2025 20:48:23 -0800 (PST) Received: from postal.iol.unh.edu (postal.iol.unh.edu. [132.177.123.84]) by smtp-relay.gmail.com with ESMTPS id d75a77b69052e-4718cc6540esm1175741cf.16.2025.02.09.20.48.23 (version=TLS1_2 cipher=ECDHE-ECDSA-AES128-GCM-SHA256 bits=128/128); Sun, 09 Feb 2025 20:48:23 -0800 (PST) X-Relaying-Domain: iol.unh.edu Date: Sun, 09 Feb 2025 20:48:23 -0800 (PST) Message-ID: <67a98517.c80a0220.10917a.5db7SMTPIN_ADDED_MISSING@mx.google.com> Received: from [172.21.0.6] (unknown [172.18.0.240]) by postal.iol.unh.edu (Postfix) with ESMTP id 6E6496052471; Sun, 9 Feb 2025 23:47:52 -0500 (EST) Subject: |SUCCESS| [GIT MASTER] 3553897d84d8b54a1b1136cbf04dd7f1a40fd85b From: dpdklab@iol.unh.edu To: Test Report Cc: dpdk-test-reports@iol.unh.edu Content-Type: text/plain X-BeenThere: test-report@dpdk.org X-Mailman-Version: 2.1.29 Precedence: list List-Id: automatic DPDK test reports List-Unsubscribe: , List-Archive: List-Post: List-Help: List-Subscribe: , Errors-To: test-report-bounces@dpdk.org _Testing PASS_ Branch: dpdk 3553897d84d8b54a1b1136cbf04dd7f1a40fd85b --> testing pass Upstream job id: Generic-DPDK-Compile-Meson#359959 Test environment and result as below: +----------------------------------------+--------------------+ | Environment | dpdk_meson_compile | +========================================+====================+ | Fedora 40 (ARM) | PASS | +----------------------------------------+--------------------+ | Fedora 41 (ARM Clang) | PASS | +----------------------------------------+--------------------+ | Debian 12 with MUSDK | PASS | +----------------------------------------+--------------------+ | Ubuntu 22.04 (ARM) | PASS | +----------------------------------------+--------------------+ | Fedora 40 (ARM Clang) | PASS | +----------------------------------------+--------------------+ | Fedora 41 (ARM) | PASS | +----------------------------------------+--------------------+ | RHEL9 (ARM) | PASS | +----------------------------------------+--------------------+ | Ubuntu 20.04 ARM SVE | PASS | +----------------------------------------+--------------------+ | Ubuntu 24.04 (ARM) | PASS | +----------------------------------------+--------------------+ | Ubuntu 20.04 ARM GCC Cross Compile | PASS | +----------------------------------------+--------------------+ | Ubuntu 20.04 (ARM) | PASS | +----------------------------------------+--------------------+ | CentOS Stream 9 (ARM) | PASS | +----------------------------------------+--------------------+ | Debian 12 (arm) | PASS | +----------------------------------------+--------------------+ | Debian 11 (Buster) (ARM) | PASS | +----------------------------------------+--------------------+ | Ubuntu 20.04 aarch32 GCC Cross Compile | PASS | +----------------------------------------+--------------------+ | Ubuntu 20.04 ARM Clang Cross Compile | PASS | +----------------------------------------+--------------------+ Fedora 40 (ARM) Kernel: Depends on container host Compiler: gcc 14.2.1 20240912 (Red Hat 14.2.1-3) Fedora 41 (ARM Clang) Kernel: Depends on container host Compiler: clang 19.1.5 (Fedora 19.1.5-1.fc41) Debian 12 with MUSDK Kernel: Depends on container host Compiler: gcc (Debian 12.2.0-14) 12.2.0 Ubuntu 22.04 (ARM) Kernel: Depends on container host Compiler: gcc (Ubuntu 11.4.0-1ubuntu1~22.04) 11.4.0 Fedora 40 (ARM Clang) Kernel: Depends on container host Compiler: clang 18.1.8 (Fedora 18.1.8-1.fc40) Fedora 41 (ARM) Kernel: Depends on container host Compiler: gcc 14.2.1 20240912 (Red Hat 14.2.1-3) RHEL9 (ARM) Kernel: Depends on container host Compiler: gcc 11.5.0 20240719 (Red Hat 11.5.0-2) Ubuntu 20.04 ARM SVE Kernel: Depends on container host Compiler: gcc (Ubuntu 10.5.0-1ubuntu1~20.04) 10.5.0 Ubuntu 24.04 (ARM) Kernel: Depends on container host Compiler: gcc (Ubuntu 13.3.0-6ubuntu2~24.04) 13.3.0 Ubuntu 20.04 ARM GCC Cross Compile Kernel: Depends on container host Compiler: aarch64-linux-gnu-gcc (Ubuntu 9.4.0-1ubuntu1~20.04.2) 9.4.0 Ubuntu 20.04 (ARM) Kernel: Depends on container host Compiler: gcc (Ubuntu 9.4.0-1ubuntu1~20.04.2) 9.4.0 CentOS Stream 9 (ARM) Kernel: Depends on container host Compiler: gcc 11.5.0 20240719 (Red Hat 11.5.0-2) Debian 12 (arm) Kernel: Depends on container host Compiler: gcc (Debian 12.2.0-14) 12.2.0 Debian 11 (Buster) (ARM) Kernel: Depends on container host Compiler: gcc (Debian 10.2.1-6) 10.2.1 20210110 Ubuntu 20.04 aarch32 GCC Cross Compile Kernel: Depends on container host Compiler: gcc 9.4.0 Ubuntu 20.04 ARM Clang Cross Compile Kernel: Depends on container host Compiler: clang 10.0.0-4ubuntu1 To view detailed results, visit: https://lab.dpdk.org/results/dashboard/tarballs/32519/ UNH-IOL DPDK Community Lab To manage your email subscriptions, visit: https://lab.dpdk.org/results/dashboard/preferences/subscriptions/