From mboxrd@z Thu Jan  1 00:00:00 1970
Return-Path: <test-report-bounces@dpdk.org>
Received: from mails.dpdk.org (mails.dpdk.org [217.70.189.124])
	by inbox.dpdk.org (Postfix) with ESMTP id 38961461E2
	for <public@inbox.dpdk.org>; Mon, 10 Feb 2025 06:11:37 +0100 (CET)
Received: from mails.dpdk.org (localhost [127.0.0.1])
	by mails.dpdk.org (Postfix) with ESMTP id 0FAB740268;
	Mon, 10 Feb 2025 06:11:37 +0100 (CET)
Received: from mail-pl1-f226.google.com (mail-pl1-f226.google.com
 [209.85.214.226])
 by mails.dpdk.org (Postfix) with ESMTP id ABAFD4021E
 for <test-report@dpdk.org>; Mon, 10 Feb 2025 06:11:35 +0100 (CET)
Received: by mail-pl1-f226.google.com with SMTP id
 d9443c01a7336-21f78b1fb7dso15118345ad.3
 for <test-report@dpdk.org>; Sun, 09 Feb 2025 21:11:35 -0800 (PST)
DKIM-Signature: v=1; a=rsa-sha256; c=relaxed/relaxed;
 d=iol.unh.edu; s=unh-iol; t=1739164295; x=1739769095; darn=dpdk.org;
 h=references:in-reply-to:cc:to:from:subject:message-id:date:from:to
 :cc:subject:date:message-id:reply-to;
 bh=05ERhN9+OkIO+vZCnf0e39VHscQTYudW48HavN8CSE4=;
 b=hMvkBTHHQgOVnliF831SdegrcG2PWEe2sB0ISj28YMvVPp5hcNEs/X7lon8gPHOYbX
 p8hu/LsX/BvhRxMXSvLOZczzJCJMcWgrJ9C+eiWUJImGD8nhxPupt+73qxBCshdk3kSq
 aKBp9ZsuqcBG6c+VwwbWgNxkuVzDyCVIyVepE=
X-Google-DKIM-Signature: v=1; a=rsa-sha256; c=relaxed/relaxed;
 d=1e100.net; s=20230601; t=1739164295; x=1739769095;
 h=references:in-reply-to:cc:to:from:subject:message-id:date
 :x-gm-message-state:from:to:cc:subject:date:message-id:reply-to;
 bh=05ERhN9+OkIO+vZCnf0e39VHscQTYudW48HavN8CSE4=;
 b=stsyEe/rX0dyehut4rj5V69Exn2uFpAL8WVVTU9h9o7TZScoKblKiA/Ee2srmX8QXO
 5QohympbI6HedU5aw24JsJMZW8XqidrfpGbGpe5p0YXLdk1M+LPEOtuJin3FuLwK5QVb
 UyU/EVKGKUd/IjbesRp0ukwEkuPAiHXPgjaxHsPbtfWSH/p3VnYbsOsfiyisSDOOlhfE
 GCkmULx2l86Sw+v3DSxFa81DzRdJzafq8P7S87IQuXbZt85dVAxDkLBCiK4Wnb7Jmlad
 6UpB3hbXaV+uy9Z0WEdTYzBV9GDqehOX4xPB5RAXFLLvtMMMC2zHL4gF7OIIH3xuloUw
 ThTA==
X-Gm-Message-State: AOJu0Yzx5pnvCY2QOmTMNsfMvPjBp91zWZGvij3X0/YVR1qUyTv/MMES
 g+YPu2WBGAIkU21EN9PSnlAL7QCnYzYKJhORx8/B4N5palmD4YuxlS8wp3N0/w0vLme4fll4YUg
 mMD+tYuzkrv+m7lhUlJcLasVkjhKmOPl3fj6G30Cw
X-Gm-Gg: ASbGncuCpm0VmEdFfMiX1ydHEG8QNe0Uq8avC1H+990UfUs53aBG6sW3siNnmPntwl0
 oO8WV8nrb6DoC9ivJa4ExzHQPHxkqyMy2xEdu+30nzkQwIyEVBZy5j8clql5QkCD69mO9ObQyT4
 Y5GAF8geszOWhGMx9OJDelNNU5vWciEomQEMUwPUKflRwotja9TitnOF/Mwh9NZuxaIK96TvLbM
 lAZPsQrRVJKdh/LHytTNGHtZtb7TcIvxqYpoF0sAs6jZcu4u7/UDl6rhX1r+6r17EGPs8NCXEjZ
 9Q8/70cUvffsD35NItAgt+QkOQ245Q==
X-Google-Smtp-Source: AGHT+IEfxLkZTHdrq4T+wdAoODk0Ph3G+WKO7n9m8qHhec5NAHeriqViRGOBcvh5GDadcLrNs1PkDvo2jvFZ
X-Received: by 2002:a17:903:234e:b0:216:4883:fb43 with SMTP id
 d9443c01a7336-21f4e7594e5mr220752805ad.32.1739164294736; 
 Sun, 09 Feb 2025 21:11:34 -0800 (PST)
Received: from postal.iol.unh.edu (postal.iol.unh.edu. [132.177.123.84])
 by smtp-relay.gmail.com with ESMTPS id
 d9443c01a7336-21f3653af48sm4639265ad.27.2025.02.09.21.11.34
 (version=TLS1_2 cipher=ECDHE-ECDSA-AES128-GCM-SHA256 bits=128/128);
 Sun, 09 Feb 2025 21:11:34 -0800 (PST)
X-Relaying-Domain: iol.unh.edu
Date: Sun, 09 Feb 2025 21:11:34 -0800 (PST)
Message-ID: <67a98a86.170a0220.3cccc6.6ddfSMTPIN_ADDED_MISSING@mx.google.com>
Received: from [172.21.0.5] (unknown [172.18.0.240])
 by postal.iol.unh.edu (Postfix) with ESMTP id EE2156052471;
 Mon, 10 Feb 2025 00:11:03 -0500 (EST)
Subject: |SUCCESS| pw151243-151244 [PATCH] [2/2] net/hns3: fix possible reset
From: dpdklab@iol.unh.edu
To: Test Report <test-report@dpdk.org>
Cc: dpdk-test-reports@iol.unh.edu
In-Reply-To: <20250210030113.1154709-3-haijie1@huawei.com>
References: <20250210030113.1154709-3-haijie1@huawei.com>
Content-Type: text/plain
X-BeenThere: test-report@dpdk.org
X-Mailman-Version: 2.1.29
Precedence: list
List-Id: automatic DPDK test reports <test-report.dpdk.org>
List-Unsubscribe: <https://mails.dpdk.org/options/test-report>,
 <mailto:test-report-request@dpdk.org?subject=unsubscribe>
List-Archive: <http://mails.dpdk.org/archives/test-report/>
List-Post: <mailto:test-report@dpdk.org>
List-Help: <mailto:test-report-request@dpdk.org?subject=help>
List-Subscribe: <https://mails.dpdk.org/listinfo/test-report>,
 <mailto:test-report-request@dpdk.org?subject=subscribe>
Errors-To: test-report-bounces@dpdk.org

Test-Label: iol-unit-arm64-testing
Test-Status: SUCCESS
http://dpdk.org/patch/151244

_Testing PASS_

Submitter: Jie Hai <haijie1@huawei.com>
Date: Monday, February 10 2025 03:01:13 
DPDK git baseline: Repo:dpdk
  Branch: master
  CommitID:b82daa7d47bda76b3879ef6d715b2d3eb737793f

151243-151244 --> testing pass

Upstream job id: Generic-Unit-Test-DPDK#313549

Test environment and result as below:

+-----------------------------+----------------+------------------------------+---------------------------+--------------+
|         Environment         | dpdk_unit_test | cryptodev_sw_snow3g_autotest | cryptodev_sw_zuc_autotest | lpm_autotest |
+=============================+================+==============================+===========================+==============+
| 32-bit Ubuntu 22.04.4 (ARM) | PASS           | SKIPPED                      | SKIPPED                   | SKIPPED      |
+-----------------------------+----------------+------------------------------+---------------------------+--------------+
| CentOS Stream 9 (ARM)       | PASS           | SKIPPED                      | SKIPPED                   | SKIPPED      |
+-----------------------------+----------------+------------------------------+---------------------------+--------------+
| Debian 12 (arm)             | PASS           | PASS                         | PASS                      | SKIPPED      |
+-----------------------------+----------------+------------------------------+---------------------------+--------------+
| Fedora 40 (ARM Clang)       | PASS           | SKIPPED                      | SKIPPED                   | SKIPPED      |
+-----------------------------+----------------+------------------------------+---------------------------+--------------+
| Debian 11 (Buster) (ARM)    | PASS           | SKIPPED                      | SKIPPED                   | SKIPPED      |
+-----------------------------+----------------+------------------------------+---------------------------+--------------+
| Fedora 40 (ARM)             | PASS           | SKIPPED                      | SKIPPED                   | SKIPPED      |
+-----------------------------+----------------+------------------------------+---------------------------+--------------+
| Fedora 41 (ARM)             | PASS           | SKIPPED                      | SKIPPED                   | SKIPPED      |
+-----------------------------+----------------+------------------------------+---------------------------+--------------+
| Fedora 41 (ARM Clang)       | PASS           | SKIPPED                      | SKIPPED                   | SKIPPED      |
+-----------------------------+----------------+------------------------------+---------------------------+--------------+
| RHEL9 (ARM)                 | PASS           | SKIPPED                      | SKIPPED                   | SKIPPED      |
+-----------------------------+----------------+------------------------------+---------------------------+--------------+
| Ubuntu 22.04 (ARM)          | PASS           | SKIPPED                      | SKIPPED                   | SKIPPED      |
+-----------------------------+----------------+------------------------------+---------------------------+--------------+
| Ubuntu 20.04 (ARM)          | PASS           | SKIPPED                      | SKIPPED                   | SKIPPED      |
+-----------------------------+----------------+------------------------------+---------------------------+--------------+
| Ubuntu 24.04 (ARM)          | PASS           | SKIPPED                      | SKIPPED                   | SKIPPED      |
+-----------------------------+----------------+------------------------------+---------------------------+--------------+
| Ubuntu 20.04 ARM SVE        | SKIPPED        | SKIPPED                      | SKIPPED                   | PASS         |
+-----------------------------+----------------+------------------------------+---------------------------+--------------+


32-bit Ubuntu 22.04.4 (ARM)
	Kernel: 5.15.83+ aarch64
	Compiler: gcc (Ubuntu 11.4.0-1ubuntu1~22.04) 11.4.0

CentOS Stream 9 (ARM)
	Kernel: Depends on container host
	Compiler: gcc 11.5.0 20240719 (Red Hat 11.5.0-2)

Debian 12 (arm)
	Kernel: Depends on container host
	Compiler: gcc (Debian 12.2.0-14) 12.2.0

Fedora 40 (ARM Clang)
	Kernel: Depends on container host
	Compiler: clang 18.1.8 (Fedora 18.1.8-1.fc40)

Debian 11 (Buster) (ARM)
	Kernel: Depends on container host
	Compiler: gcc (Debian 10.2.1-6) 10.2.1 20210110

Fedora 40 (ARM)
	Kernel: Depends on container host
	Compiler: gcc 14.2.1 20240912 (Red Hat 14.2.1-3)

Fedora 41 (ARM)
	Kernel: Depends on container host
	Compiler: gcc 14.2.1 20240912 (Red Hat 14.2.1-3)

Fedora 41 (ARM Clang)
	Kernel: Depends on container host
	Compiler: clang 19.1.5 (Fedora 19.1.5-1.fc41)

RHEL9 (ARM)
	Kernel: Depends on container host
	Compiler: gcc 11.5.0 20240719 (Red Hat 11.5.0-2)

Ubuntu 22.04 (ARM)
	Kernel: Depends on container host
	Compiler: gcc (Ubuntu 11.4.0-1ubuntu1~22.04) 11.4.0

Ubuntu 20.04 (ARM)
	Kernel: Depends on container host
	Compiler: gcc (Ubuntu 9.4.0-1ubuntu1~20.04.2) 9.4.0

Ubuntu 24.04 (ARM)
	Kernel: Depends on container host
	Compiler: gcc (Ubuntu 13.3.0-6ubuntu2~24.04) 13.3.0

Ubuntu 20.04 ARM SVE
	Kernel: Depends on container host
	Compiler: gcc (Ubuntu 10.5.0-1ubuntu1~20.04) 10.5.0

To view detailed results, visit:
https://lab.dpdk.org/results/dashboard/patchsets/32543/

UNH-IOL DPDK Community Lab

To manage your email subscriptions, visit: 
https://lab.dpdk.org/results/dashboard/preferences/subscriptions/