From mboxrd@z Thu Jan  1 00:00:00 1970
Return-Path: <test-report-bounces@dpdk.org>
Received: from mails.dpdk.org (mails.dpdk.org [217.70.189.124])
	by inbox.dpdk.org (Postfix) with ESMTP id 9FF77461E2
	for <public@inbox.dpdk.org>; Mon, 10 Feb 2025 06:16:06 +0100 (CET)
Received: from mails.dpdk.org (localhost [127.0.0.1])
	by mails.dpdk.org (Postfix) with ESMTP id 7F5DE40268;
	Mon, 10 Feb 2025 06:16:06 +0100 (CET)
Received: from mail-pl1-f226.google.com (mail-pl1-f226.google.com
 [209.85.214.226])
 by mails.dpdk.org (Postfix) with ESMTP id 3C6344021E
 for <test-report@dpdk.org>; Mon, 10 Feb 2025 06:16:04 +0100 (CET)
Received: by mail-pl1-f226.google.com with SMTP id
 d9443c01a7336-21c2f1b610dso97201065ad.0
 for <test-report@dpdk.org>; Sun, 09 Feb 2025 21:16:04 -0800 (PST)
DKIM-Signature: v=1; a=rsa-sha256; c=relaxed/relaxed;
 d=iol.unh.edu; s=unh-iol; t=1739164563; x=1739769363; darn=dpdk.org;
 h=references:in-reply-to:cc:to:from:subject:message-id:date:from:to
 :cc:subject:date:message-id:reply-to;
 bh=yFgoOKe1wsc4UrhtEkBCkIYoASNkLeRdab+F8ggS84s=;
 b=Hn/ES5m+kOHYreXqiLA8kLPu7imzhTWdrARlprJc1Ev7p3r7ghj5a4CEW1lQYfZ/pS
 8tExC+dd/q479tX6XuDnwBwmoYkYWMxn3U9mG4TzNXCf9b4zeBSXyMRA1i2n3DofSK/Y
 fDuD8oq3CeF0WrQUu0hP6C3ADZDIdeaF/vBa4=
X-Google-DKIM-Signature: v=1; a=rsa-sha256; c=relaxed/relaxed;
 d=1e100.net; s=20230601; t=1739164563; x=1739769363;
 h=references:in-reply-to:cc:to:from:subject:message-id:date
 :x-gm-message-state:from:to:cc:subject:date:message-id:reply-to;
 bh=yFgoOKe1wsc4UrhtEkBCkIYoASNkLeRdab+F8ggS84s=;
 b=YhpqlV2pXlIa1cYjGcBRoyR1x1r5uYqZzUse+SkjjTSNNSz9T2qXfjpVf3HIq/IWIV
 bUdfJchLpZaEu6VlATPm4MOHMW4eNxlzlsE59V/Dsj9FMIkbLojt2WZuFWICrfuFNrqZ
 CGxOe1HY9uBEtJ2wwkhGofEqxSC0qSlZXRV9a6CURQLdpBitK/YidWJxEDl2puIAZXuQ
 SX98eXWCMn5wlW/UAD6wbiuzI5Pp21FXD7uoayYr6rTqE8/H0oXEFIwRGTWBYXlBctdJ
 803/zC1kVas61ALigiKC+kca7W5TQ7bxoh7hh94ulYvW5FItziWB/CHjh1G5D5BOtRAt
 LPig==
X-Gm-Message-State: AOJu0YwWdUZ1GzFNJZC5MIEynJWzeLgMPmVFoHenSJqLDTfFXaj7qkJ+
 8nnDzeOSy7qgSUwfuIblR7N7qy88h1uIARf2WP1uixbHet7bQVjDA5MkMVmn2aVx/i49qaY9gBk
 jFpps1dMc3W0Eg2lqc17Rvi4c9vPCjeOtqBKCHa/n
X-Gm-Gg: ASbGnctAcwyJHhmJk/gRqv10TlILPLLDlmNWXuAjGEjBkuJn1NX1D5MoUoIGsgD3YYE
 QeI81G4iETjt4qVdwzZ77WAUMlOLkQjTAnj1KXDBiSvxYyI0pbuy8ixkiTRVfP7+bV54Pdqr8PZ
 GoxWe9TKaLXfopCMHIyxp9cKl9rOdX4hlzPFX1whBzBnjj77ENEmefSif6TizgHeBJsXQvdb1rC
 Ik+XyWMsnBDf4ktpX9U+zFfg8p4Ov6XA4gROcWNdLVgSmk6OiFqY21fH6km6Q5fXaLSgao+Afmv
 /4Ez2g80VTUPlGnmQBmi7dD7BwlZ2Q==
X-Google-Smtp-Source: AGHT+IFffxI8gF6qLPqnJMP5rzTdIIKhSUhWszNb1G2CUxhtHIHw6p4hTkG48JXXNNbpUHOXA6b83Pe9ifwQ
X-Received: by 2002:a05:6a21:1087:b0:1e1:faa:d8cf with SMTP id
 adf61e73a8af0-1ee03b70cfbmr26160311637.40.1739164563336; 
 Sun, 09 Feb 2025 21:16:03 -0800 (PST)
Received: from postal.iol.unh.edu (postal.iol.unh.edu. [132.177.123.84])
 by smtp-relay.gmail.com with ESMTPS id
 41be03b00d2f7-ad5547e55aesm60115a12.20.2025.02.09.21.16.03
 (version=TLS1_2 cipher=ECDHE-ECDSA-AES128-GCM-SHA256 bits=128/128);
 Sun, 09 Feb 2025 21:16:03 -0800 (PST)
X-Relaying-Domain: iol.unh.edu
Date: Sun, 09 Feb 2025 21:16:03 -0800 (PST)
Message-ID: <67a98b93.630a0220.1fffb1.3312SMTPIN_ADDED_MISSING@mx.google.com>
Received: from [172.17.0.6] (unknown [172.18.0.217])
 by postal.iol.unh.edu (Postfix) with ESMTP id 53E866052471;
 Mon, 10 Feb 2025 00:16:02 -0500 (EST)
Subject: |SUCCESS| pw151229-151242 [PATCH] [v1,14/14] net/zxdh: clean stat va
From: dpdklab@iol.unh.edu
To: Test Report <test-report@dpdk.org>
Cc: dpdk-test-reports@iol.unh.edu
In-Reply-To: <20250210015017.4105624-9-chen.bingbin@zte.com.cn>
References: <20250210015017.4105624-9-chen.bingbin@zte.com.cn>
Content-Type: text/plain
X-BeenThere: test-report@dpdk.org
X-Mailman-Version: 2.1.29
Precedence: list
List-Id: automatic DPDK test reports <test-report.dpdk.org>
List-Unsubscribe: <https://mails.dpdk.org/options/test-report>,
 <mailto:test-report-request@dpdk.org?subject=unsubscribe>
List-Archive: <http://mails.dpdk.org/archives/test-report/>
List-Post: <mailto:test-report@dpdk.org>
List-Help: <mailto:test-report-request@dpdk.org?subject=help>
List-Subscribe: <https://mails.dpdk.org/listinfo/test-report>,
 <mailto:test-report-request@dpdk.org?subject=subscribe>
Errors-To: test-report-bounces@dpdk.org

Test-Label: iol-compile-arm64-testing
Test-Status: SUCCESS
http://dpdk.org/patch/151242

_Testing PASS_

Submitter: Bingbin Chen <chen.bingbin@zte.com.cn>
Date: Monday, February 10 2025 01:50:17 
DPDK git baseline: Repo:dpdk
  Branch: master
  CommitID:b82daa7d47bda76b3879ef6d715b2d3eb737793f

151229-151242 --> testing pass

Upstream job id: Generic-DPDK-Compile-Meson#360002

Test environment and result as below:

+----------------------------------------+--------------------+
|              Environment               | dpdk_meson_compile |
+========================================+====================+
| Ubuntu 20.04 ARM GCC Cross Compile     | PASS               |
+----------------------------------------+--------------------+
| RHEL9 (ARM)                            | PASS               |
+----------------------------------------+--------------------+
| Ubuntu 20.04 ARM SVE                   | PASS               |
+----------------------------------------+--------------------+
| Debian 12 with MUSDK                   | PASS               |
+----------------------------------------+--------------------+
| Fedora 41 (ARM Clang)                  | PASS               |
+----------------------------------------+--------------------+
| Fedora 41 (ARM)                        | PASS               |
+----------------------------------------+--------------------+
| Ubuntu 20.04 (ARM)                     | PASS               |
+----------------------------------------+--------------------+
| Fedora 40 (ARM)                        | PASS               |
+----------------------------------------+--------------------+
| Ubuntu 22.04 (ARM)                     | PASS               |
+----------------------------------------+--------------------+
| Ubuntu 24.04 (ARM)                     | PASS               |
+----------------------------------------+--------------------+
| Debian 11 (Buster) (ARM)               | PASS               |
+----------------------------------------+--------------------+
| CentOS Stream 9 (ARM)                  | PASS               |
+----------------------------------------+--------------------+
| Ubuntu 20.04 ARM Clang Cross Compile   | PASS               |
+----------------------------------------+--------------------+
| Debian 12 (arm)                        | PASS               |
+----------------------------------------+--------------------+
| Ubuntu 20.04 aarch32 GCC Cross Compile | PASS               |
+----------------------------------------+--------------------+
| Fedora 40 (ARM Clang)                  | PASS               |
+----------------------------------------+--------------------+


Ubuntu 20.04 ARM GCC Cross Compile
	Kernel: Depends on container host
	Compiler: aarch64-linux-gnu-gcc (Ubuntu 9.4.0-1ubuntu1~20.04.2) 9.4.0

RHEL9 (ARM)
	Kernel: Depends on container host
	Compiler: gcc 11.5.0 20240719 (Red Hat 11.5.0-2)

Ubuntu 20.04 ARM SVE
	Kernel: Depends on container host
	Compiler: gcc (Ubuntu 10.5.0-1ubuntu1~20.04) 10.5.0

Debian 12 with MUSDK
	Kernel: Depends on container host
	Compiler: gcc (Debian 12.2.0-14) 12.2.0

Fedora 41 (ARM Clang)
	Kernel: Depends on container host
	Compiler: clang 19.1.5 (Fedora 19.1.5-1.fc41)

Fedora 41 (ARM)
	Kernel: Depends on container host
	Compiler: gcc 14.2.1 20240912 (Red Hat 14.2.1-3)

Ubuntu 20.04 (ARM)
	Kernel: Depends on container host
	Compiler: gcc (Ubuntu 9.4.0-1ubuntu1~20.04.2) 9.4.0

Fedora 40 (ARM)
	Kernel: Depends on container host
	Compiler: gcc 14.2.1 20240912 (Red Hat 14.2.1-3)

Ubuntu 22.04 (ARM)
	Kernel: Depends on container host
	Compiler: gcc (Ubuntu 11.4.0-1ubuntu1~22.04) 11.4.0

Ubuntu 24.04 (ARM)
	Kernel: Depends on container host
	Compiler: gcc (Ubuntu 13.3.0-6ubuntu2~24.04) 13.3.0

Debian 11 (Buster) (ARM)
	Kernel: Depends on container host
	Compiler: gcc (Debian 10.2.1-6) 10.2.1 20210110

CentOS Stream 9 (ARM)
	Kernel: Depends on container host
	Compiler: gcc 11.5.0 20240719 (Red Hat 11.5.0-2)

Ubuntu 20.04 ARM Clang Cross Compile
	Kernel: Depends on container host
	Compiler: clang 10.0.0-4ubuntu1

Debian 12 (arm)
	Kernel: Depends on container host
	Compiler: gcc (Debian 12.2.0-14) 12.2.0

Ubuntu 20.04 aarch32 GCC Cross Compile
	Kernel: Depends on container host
	Compiler: gcc 9.4.0

Fedora 40 (ARM Clang)
	Kernel: Depends on container host
	Compiler: clang 18.1.8 (Fedora 18.1.8-1.fc40)

To view detailed results, visit:
https://lab.dpdk.org/results/dashboard/patchsets/32542/

UNH-IOL DPDK Community Lab

To manage your email subscriptions, visit: 
https://lab.dpdk.org/results/dashboard/preferences/subscriptions/