From mboxrd@z Thu Jan 1 00:00:00 1970 Return-Path: Received: from mails.dpdk.org (mails.dpdk.org [217.70.189.124]) by inbox.dpdk.org (Postfix) with ESMTP id 8F884461E2 for ; Mon, 10 Feb 2025 06:27:55 +0100 (CET) Received: from mails.dpdk.org (localhost [127.0.0.1]) by mails.dpdk.org (Postfix) with ESMTP id BCFAC40268; Mon, 10 Feb 2025 06:27:54 +0100 (CET) Received: from mail-io1-f100.google.com (mail-io1-f100.google.com [209.85.166.100]) by mails.dpdk.org (Postfix) with ESMTP id 063964021E for ; Mon, 10 Feb 2025 06:27:54 +0100 (CET) Received: by mail-io1-f100.google.com with SMTP id ca18e2360f4ac-844eb33827eso126010139f.2 for ; Sun, 09 Feb 2025 21:27:53 -0800 (PST) DKIM-Signature: v=1; a=rsa-sha256; c=relaxed/relaxed; d=iol.unh.edu; s=unh-iol; t=1739165273; x=1739770073; darn=dpdk.org; h=references:in-reply-to:cc:to:from:subject:message-id:date:from:to :cc:subject:date:message-id:reply-to; bh=1YPgqBP0XgB91RWDyXSIFZnHWHLkg7vR+6gFIqQ2ssk=; b=fKlDcP8wSwaMGcLRK0/h6nPN5jmCX4tRz5lVMIQi7d8i6G0tqyhdxEPGX7zl09mK5n F7VqeERZL0Y249MScyScdU9NPFqzXmemJ70OerYH6WW/R0/2f8MtS+qIu2CBwMCeoub9 127s239tC4IYN/W2C4qZvJXYNL1awL3It70ak= X-Google-DKIM-Signature: v=1; a=rsa-sha256; c=relaxed/relaxed; d=1e100.net; s=20230601; t=1739165273; x=1739770073; h=references:in-reply-to:cc:to:from:subject:message-id:date :x-gm-message-state:from:to:cc:subject:date:message-id:reply-to; bh=1YPgqBP0XgB91RWDyXSIFZnHWHLkg7vR+6gFIqQ2ssk=; b=rkr4/LmT4zrXqePAzhi5ifOMePKZlAY10ETn3Zn06DKvkvtZGj4wc7hwUGV69P2ITU SiWCUvRt/q1jQSVuRYlRxTYjS1R7VmyETV7GSXwXZT/NUQ6dl0HASf5TOWwVNtUr/8N+ MGd/SbsIUqrFyGIFkb4XowmC13d8+F0bKaEUvmBCOThG/VwPnQnL+J6s3HFAui5Ccn2z nTAA2J3N/fRAx6YGU51Vn4BlJIojX6o3VZRqsQ4FdAs7gYmXoje9qH+quTBNf/1cgHRi DCcQy5+9pYd3XxArqrSgXYnjtHtJ/q/rmnFame+cha4xe0H25VnpH7xR/4VhDimzLHLW FMyw== X-Gm-Message-State: AOJu0Yw3HOxu4NbeNs5AuhI6Zi+MhLhEKfZqSAX5DDQd8SiodLzDTt3h NRH7iikyRMK+UJn6/LWsSNHO3VSmLH7bKl9Hk6/zkxoZ27zNL+D0Bca22+dRCZTIzc8FhecMBk5 t5WV+O8yld6XN+vbDElhfRZBUqTaQ0V143kEb5UHc X-Gm-Gg: ASbGncuCpJNYxcQLmkup5ozFKHX5DbijtBQrOhlzNE03il9Qj57MKqO+EwA6KS09xDA A9EX+KfYnW+i9ZKRvtKKoa64/l8udRdTSobiaBJZTk6Fks0gN6sz5TYwYQW8EEtEJ1wXItGHRIb vwgORZJXHHYIwPrxfgp6jKzsH7dIm1P352PYG96SgF+rQ8DCNHs9d4inl/hyLF6hw53BpdARSrR tiJ0kudq20kX0MUDP7Ctkdri+stbjpBqFrXIZjqW7Eh/o+zZqbDnw/pwn7KlPQ1Uo31X/STILdF oeyJuPhNtbUzoWkzdbViTidR2nTcMg== X-Google-Smtp-Source: AGHT+IFPclfsG6ssrFIx5znkFeSTz3V8lwCW3Ux31rieyc/c0uD4C2MNNCKo7hCYbeNR1oXMEEtybYI8KK1w X-Received: by 2002:a05:6602:4811:b0:83e:5860:5189 with SMTP id ca18e2360f4ac-854fd8f1dd8mr970515539f.10.1739165273340; Sun, 09 Feb 2025 21:27:53 -0800 (PST) Received: from postal.iol.unh.edu (postal.iol.unh.edu. [132.177.123.84]) by smtp-relay.gmail.com with ESMTPS id ca18e2360f4ac-854f669aceasm44309839f.13.2025.02.09.21.27.53 (version=TLS1_2 cipher=ECDHE-ECDSA-AES128-GCM-SHA256 bits=128/128); Sun, 09 Feb 2025 21:27:53 -0800 (PST) X-Relaying-Domain: iol.unh.edu Date: Sun, 09 Feb 2025 21:27:53 -0800 (PST) Message-ID: <67a98e59.050a0220.268bfa.654cSMTPIN_ADDED_MISSING@mx.google.com> Received: from [172.17.0.4] (unknown [172.18.0.217]) by postal.iol.unh.edu (Postfix) with ESMTP id CA39C6052471; Mon, 10 Feb 2025 00:27:46 -0500 (EST) Subject: |SUCCESS| pw151243-151244 [PATCH] [2/2] net/hns3: fix possible reset From: dpdklab@iol.unh.edu To: Test Report Cc: dpdk-test-reports@iol.unh.edu In-Reply-To: <20250210030113.1154709-3-haijie1@huawei.com> References: <20250210030113.1154709-3-haijie1@huawei.com> Content-Type: text/plain X-BeenThere: test-report@dpdk.org X-Mailman-Version: 2.1.29 Precedence: list List-Id: automatic DPDK test reports List-Unsubscribe: , List-Archive: List-Post: List-Help: List-Subscribe: , Errors-To: test-report-bounces@dpdk.org Test-Label: iol-unit-amd64-testing Test-Status: SUCCESS http://dpdk.org/patch/151244 _Testing PASS_ Submitter: Jie Hai Date: Monday, February 10 2025 03:01:13 DPDK git baseline: Repo:dpdk Branch: master CommitID:b82daa7d47bda76b3879ef6d715b2d3eb737793f 151243-151244 --> testing pass Upstream job id: Generic-Unit-Test-DPDK#313554 Test environment and result as below: +---------------------+----------------+ | Environment | dpdk_unit_test | +=====================+================+ | Debian Bullseye | PASS | +---------------------+----------------+ | CentOS Stream 9 | PASS | +---------------------+----------------+ | Debian 12 | PASS | +---------------------+----------------+ | Fedora 40 (Clang) | PASS | +---------------------+----------------+ | Fedora 41 | PASS | +---------------------+----------------+ | Fedora 40 | PASS | +---------------------+----------------+ | RHEL9 | PASS | +---------------------+----------------+ | Fedora 41 (Clang) | PASS | +---------------------+----------------+ | RHEL8 | PASS | +---------------------+----------------+ | Ubuntu 20.04 | PASS | +---------------------+----------------+ | Ubuntu 22.04 | PASS | +---------------------+----------------+ | Ubuntu 24.04 | PASS | +---------------------+----------------+ | Windows Server 2022 | PASS | +---------------------+----------------+ Debian Bullseye Kernel: Depends on container host Compiler: gcc (Debian 10.2.1-6) 10.2.1 20210110 CentOS Stream 9 Kernel: Depends on container host Compiler: gcc 11.5.0 20240719 (Red Hat 11.5.0-2) Debian 12 Kernel: Depends on container host Compiler: gcc (Debian 12.2.0-14) 12.2.0 Fedora 40 (Clang) Kernel: Depends on container host Compiler: clang 18.1.8 (Fedora 18.1.8-1.fc40) Fedora 41 Kernel: Depends on container host Compiler: gcc 14.2.1 20240912 (Red Hat 14.2.1-3) Fedora 40 Kernel: Depends on container host Compiler: gcc 14.2.1 20240912 (Red Hat 14.2.1-3) RHEL9 Kernel: Depends on container host Compiler: gcc 11.5.0 20240719 (Red Hat 11.5.0-2) Fedora 41 (Clang) Kernel: Depends on container host Compiler: clang 19.1.5 (Fedora 19.1.5-1.fc41) RHEL8 Kernel: Depends on container host Compiler: gcc 8.5.0 20210514 (Red Hat 8.5.0-22) Ubuntu 20.04 Kernel: Depends on container host Compiler: gcc (Ubuntu 9.4.0-1ubuntu1~20.04.2) 9.4.0 Ubuntu 22.04 Kernel: Depends on container host Compiler: gcc (Ubuntu 11.4.0-1ubuntu1~22.04) 11.4.0 Ubuntu 24.04 Kernel: Depends on container host Compiler: gcc (Ubuntu 13.3.0-6ubuntu2~24.04) 13.3.0 Windows Server 2022 Kernel: 10.0.20348.2031 Compiler: clang 15.0.7, gcc 14.1.0 (MinGW), and MSVC VS 19.39.33521 To view detailed results, visit: https://lab.dpdk.org/results/dashboard/patchsets/32543/ UNH-IOL DPDK Community Lab To manage your email subscriptions, visit: https://lab.dpdk.org/results/dashboard/preferences/subscriptions/