From mboxrd@z Thu Jan 1 00:00:00 1970 Return-Path: Received: from mails.dpdk.org (mails.dpdk.org [217.70.189.124]) by inbox.dpdk.org (Postfix) with ESMTP id AB680461E2 for ; Mon, 10 Feb 2025 06:37:21 +0100 (CET) Received: from mails.dpdk.org (localhost [127.0.0.1]) by mails.dpdk.org (Postfix) with ESMTP id 861E440268; Mon, 10 Feb 2025 06:37:21 +0100 (CET) Received: from mail-io1-f100.google.com (mail-io1-f100.google.com [209.85.166.100]) by mails.dpdk.org (Postfix) with ESMTP id 085654021E for ; Mon, 10 Feb 2025 06:37:21 +0100 (CET) Received: by mail-io1-f100.google.com with SMTP id ca18e2360f4ac-854a68f5afcso81718739f.0 for ; Sun, 09 Feb 2025 21:37:20 -0800 (PST) DKIM-Signature: v=1; a=rsa-sha256; c=relaxed/relaxed; d=iol.unh.edu; s=unh-iol; t=1739165840; x=1739770640; darn=dpdk.org; h=references:in-reply-to:cc:to:from:subject:message-id:date:from:to :cc:subject:date:message-id:reply-to; bh=i9czTtfdDQE3L+V4aqo+hcg2ESJre7f2QKGAJou4g9U=; b=Cupk5D483K8KQax9UXaQyFE5DQ5Kj6Ur2FRTgSngFnQFRtomNL9hOrsNBjrLP8/ZP3 sSJN1ch2bSFkMU32o6kwMvrNhQhhP5WC2rN3BXGcRu2lMhN0RgOpptmWcHYHr4G8pgmm uuCr6iWWZSjC6v4yFx6sCHKTjacRu4YCvPOe4= X-Google-DKIM-Signature: v=1; a=rsa-sha256; c=relaxed/relaxed; d=1e100.net; s=20230601; t=1739165840; x=1739770640; h=references:in-reply-to:cc:to:from:subject:message-id:date :x-gm-message-state:from:to:cc:subject:date:message-id:reply-to; bh=i9czTtfdDQE3L+V4aqo+hcg2ESJre7f2QKGAJou4g9U=; b=AAb3pandKIEPmsLMlc4LmM/u4XdMqJtf9l50oYSdTO4XuRtyEpFA094W4TArVl3ZIK D4N0xylKiF781488DJg7NRQ25YFcA2hke6meawgep2J60HijwMd7zLu8ii2uSjDK2yU9 8N4I/jMmus8kPeT9mXforzDjN++6j51QpBVx3ZvbDdcj3bHgpIwwBM3V2ILvDmtlVmaJ NmnOF/10jBh19mLuPccWtZ3mPK7g0R3SxdM9nmZpmUUm3E/jrDSQy+EOQGbrxxNUmiDQ Q5ioYGtPp6CSQxGSvgj2YbmjRx19nrLfuDC9gCCMLnLBrdOqo4FRlbP8dM1eztkWbOvl 1Oaw== X-Gm-Message-State: AOJu0YyiiAyEqojEZUZnuXux8KM3HpMYfsXMia0tMZFMa88gvG0B/j6Q EMpSvs6dW7uws5WQD7K2TCjde/lUPYLEg3xde+euAlfE2qQJRIZCXTno4Hq6B4e4B02+LmWIa6w S6zzz4Czsf+eGvdcJMqA8kXmlb4R8bZseIvTd7HHI X-Gm-Gg: ASbGncuD27D/uKdJmiGX16uLDTSOkeX3KAkAkHvNs3HW2RbvaIPQG4g/98YQ/DPv+MQ Z2rPpSDFjgUplEPLEn1FBXhzWSx1Gy2YNWJvHhzEi1uOInBwwnstuD7hdw9Or06o4nxjZCfgcJa INrLEgfBd66WgnSXAKrRT5QdJr0MxSjwrkDs/ZLzychTteYasT3XrKOE5sjmdFBhFAM05pybkAC 88G74uEX/J5mqRTNAgM055+yAJWWKQ31N0p3utvS5Wiu0c1mKmgtMN5f2FEyseIja7d5Mvm5+j6 GtakkWnAa0YohGfpkzvheRHTA2ZuDA== X-Google-Smtp-Source: AGHT+IGMEv+wel6INRMJdv+jD8IEcYNI5PEYt8XrZRb4jzzlb7ZngajNY1G0N/c4n4dWCDYVXaIfHlj2E+Mp X-Received: by 2002:a05:6602:3f8b:b0:855:196f:5f5b with SMTP id ca18e2360f4ac-855196f6132mr398223639f.2.1739165840224; Sun, 09 Feb 2025 21:37:20 -0800 (PST) Received: from postal.iol.unh.edu (postal.iol.unh.edu. [132.177.123.84]) by smtp-relay.gmail.com with ESMTPS id 8926c6da1cb9f-4ecfaafe200sm77276173.20.2025.02.09.21.37.20 (version=TLS1_2 cipher=ECDHE-ECDSA-AES128-GCM-SHA256 bits=128/128); Sun, 09 Feb 2025 21:37:20 -0800 (PST) X-Relaying-Domain: iol.unh.edu Date: Sun, 09 Feb 2025 21:37:20 -0800 (PST) Message-ID: <67a99090.050a0220.2b24c7.3e0dSMTPIN_ADDED_MISSING@mx.google.com> Received: from [172.21.0.5] (unknown [172.18.0.240]) by postal.iol.unh.edu (Postfix) with ESMTP id B3C666052471; Mon, 10 Feb 2025 00:37:19 -0500 (EST) Subject: |SUCCESS| pw151243-151244 [PATCH] [2/2] net/hns3: fix possible reset From: dpdklab@iol.unh.edu To: Test Report Cc: dpdk-test-reports@iol.unh.edu In-Reply-To: <20250210030113.1154709-3-haijie1@huawei.com> References: <20250210030113.1154709-3-haijie1@huawei.com> Content-Type: text/plain X-BeenThere: test-report@dpdk.org X-Mailman-Version: 2.1.29 Precedence: list List-Id: automatic DPDK test reports List-Unsubscribe: , List-Archive: List-Post: List-Help: List-Subscribe: , Errors-To: test-report-bounces@dpdk.org Test-Label: iol-abi-testing Test-Status: SUCCESS http://dpdk.org/patch/151244 _Testing PASS_ Submitter: Jie Hai Date: Monday, February 10 2025 03:01:13 DPDK git baseline: Repo:dpdk Branch: master CommitID:b82daa7d47bda76b3879ef6d715b2d3eb737793f 151243-151244 --> testing pass Upstream job id: Generic-DPDK-Compile-ABI#115595 Test environment and result as below: +-------------------+----------+ | Environment | abi_test | +===================+==========+ | CentOS Stream 9 | PASS | +-------------------+----------+ | Debian 12 | PASS | +-------------------+----------+ | Fedora 40 (Clang) | PASS | +-------------------+----------+ | Debian Bullseye | PASS | +-------------------+----------+ | Fedora 40 | PASS | +-------------------+----------+ | RHEL8 | PASS | +-------------------+----------+ | Fedora 41 (Clang) | PASS | +-------------------+----------+ | openSUSE Leap 15 | PASS | +-------------------+----------+ | Fedora 41 | PASS | +-------------------+----------+ | RHEL9 | PASS | +-------------------+----------+ | Ubuntu 22.04 | PASS | +-------------------+----------+ | Ubuntu 24.04 | PASS | +-------------------+----------+ CentOS Stream 9 Kernel: Depends on container host Compiler: gcc 11.5.0 20240719 (Red Hat 11.5.0-2) Debian 12 Kernel: Depends on container host Compiler: gcc (Debian 12.2.0-14) 12.2.0 Fedora 40 (Clang) Kernel: Depends on container host Compiler: clang 18.1.8 (Fedora 18.1.8-1.fc40) Debian Bullseye Kernel: Depends on container host Compiler: gcc (Debian 10.2.1-6) 10.2.1 20210110 Fedora 40 Kernel: Depends on container host Compiler: gcc 14.2.1 20240912 (Red Hat 14.2.1-3) RHEL8 Kernel: Depends on container host Compiler: gcc 8.5.0 20210514 (Red Hat 8.5.0-22) Fedora 41 (Clang) Kernel: Depends on container host Compiler: clang 19.1.5 (Fedora 19.1.5-1.fc41) openSUSE Leap 15 Kernel: Depends on container host Compiler: gcc (SUSE Linux) 7.5.0 Fedora 41 Kernel: Depends on container host Compiler: gcc 14.2.1 20240912 (Red Hat 14.2.1-3) RHEL9 Kernel: Depends on container host Compiler: gcc 11.5.0 20240719 (Red Hat 11.5.0-2) Ubuntu 22.04 Kernel: Depends on container host Compiler: gcc (Ubuntu 11.4.0-1ubuntu1~22.04) 11.4.0 Ubuntu 24.04 Kernel: Depends on container host Compiler: gcc (Ubuntu 13.3.0-6ubuntu2~24.04) 13.3.0 To view detailed results, visit: https://lab.dpdk.org/results/dashboard/patchsets/32543/ UNH-IOL DPDK Community Lab To manage your email subscriptions, visit: https://lab.dpdk.org/results/dashboard/preferences/subscriptions/