From mboxrd@z Thu Jan 1 00:00:00 1970 Return-Path: Received: from mails.dpdk.org (mails.dpdk.org [217.70.189.124]) by inbox.dpdk.org (Postfix) with ESMTP id 73ED4461E2 for ; Mon, 10 Feb 2025 06:43:38 +0100 (CET) Received: from mails.dpdk.org (localhost [127.0.0.1]) by mails.dpdk.org (Postfix) with ESMTP id 6E93640268; Mon, 10 Feb 2025 06:43:38 +0100 (CET) Received: from mail-il1-f227.google.com (mail-il1-f227.google.com [209.85.166.227]) by mails.dpdk.org (Postfix) with ESMTP id 9A4664021E for ; Mon, 10 Feb 2025 06:43:29 +0100 (CET) Received: by mail-il1-f227.google.com with SMTP id e9e14a558f8ab-3cf8e017abcso13186415ab.1 for ; Sun, 09 Feb 2025 21:43:29 -0800 (PST) DKIM-Signature: v=1; a=rsa-sha256; c=relaxed/relaxed; d=iol.unh.edu; s=unh-iol; t=1739166209; x=1739771009; darn=dpdk.org; h=references:in-reply-to:cc:to:from:subject:message-id:date:from:to :cc:subject:date:message-id:reply-to; bh=alEzWN8+lqSbQlZaZ5cYq4swg8s1dylOQCr78uKXsW4=; b=Txv5KCLme2h1mEzsIHnErt/6HG8w39sMEJglkESKHuCGzcMj2tX6ohF80Ay7647j1V oIh1Gyo/ZF9aHyY2eiW6sWo5uETnEGNCZQleVn7NMXw8sjA6TTutDi+vbOzZ1KnTuaBO tEedrdWHqFBqoTu3KaBTTC8LzpkvLyEkhYmbM= X-Google-DKIM-Signature: v=1; a=rsa-sha256; c=relaxed/relaxed; d=1e100.net; s=20230601; t=1739166209; x=1739771009; h=references:in-reply-to:cc:to:from:subject:message-id:date :x-gm-message-state:from:to:cc:subject:date:message-id:reply-to; bh=alEzWN8+lqSbQlZaZ5cYq4swg8s1dylOQCr78uKXsW4=; b=H5DKyElozaV9wxxhK4L+k/ullcGbt8UI8/EhoZv1Js1/DzOFMtfulvKrGgvvar69G8 Ws2pIi1ZE6KQh+xeuIPbftLeaFCc0af8oXOESlACrm64Mh1Dr3aoOnEeb9RkZlzCg1vy e9hPJIhStKC0p3ua/EQEFHpUJLC06MSEYRVlABDu3ZGeZ9wJYAPE8Qi6GwYeGGxRlAqL iQc0H9kk9KdsI4vPEJqLzxYDVRmjhEK6wGIyogoMpC7bpxKbmrvD6jgFIEGmTmR5Sq5U +pD6YIDT+I/4kIihmJoSLPiUEZ+aF5fpZDSUGvIjYjhV2wPx2S6i/Q/2rJAKLWrtcfci ZdCQ== X-Gm-Message-State: AOJu0YxFM2+pA8VM3Z57n4W6RNBByu+I5I3yKv2VQOCZp5VUQ//Q13Dx 1Li9hYNZNw1Jy6sBRC6iv5nh8uhHRx65PKz/PMJRkPJsVSLtvXxjJqtmYx8I8eMWAb0utSqwMIq 6XvhFCI+5RFH6Y72mXN9/AJbnp2D1Wf4ta1eMl8xg X-Gm-Gg: ASbGnctsEI8ESKzR4QdCqlFvG2j6xNhmazczrIExWev3jtahftbPwH2wG/bpWcdCWAS YDRZhG4/kvGYJ4xeoPkK/+ADGRfEiMcCggl62z9s4kCaczInGUNd+558cT9c2l6c935lHE8l6j/ QG4GMRxRonwWpmXYMjgnSPiAjK+E17T9+a2/p20r/FzE4uDIGR1ZFNjz98N6plcs74OlFeP60Pw v3xNK234fRPhwOyNj5YfaKCeoqkVtkiDbDhHMxOG7bmytrw3LP4ZvAUpHqHmC9Fy7RcOsLJanpH dSp94f1Fqu1rT/uOiM9EJYYh3SoMvg== X-Google-Smtp-Source: AGHT+IHg4VuzU3ayGJRHEcaH/r/eYi126LbswhuDrprjbbpZ4/91c7rkGzcr7PR+u5OOVby0riI02YsAoWty X-Received: by 2002:a05:6e02:b49:b0:3cf:fc11:90ca with SMTP id e9e14a558f8ab-3d13dd0c090mr96646115ab.6.1739166209022; Sun, 09 Feb 2025 21:43:29 -0800 (PST) Received: from postal.iol.unh.edu (postal.iol.unh.edu. [132.177.123.84]) by smtp-relay.gmail.com with ESMTPS id 8926c6da1cb9f-4ecff796d1csm38272173.4.2025.02.09.21.43.28 (version=TLS1_2 cipher=ECDHE-ECDSA-AES128-GCM-SHA256 bits=128/128); Sun, 09 Feb 2025 21:43:29 -0800 (PST) X-Relaying-Domain: iol.unh.edu Date: Sun, 09 Feb 2025 21:43:29 -0800 (PST) Message-ID: <67a99201.050a0220.1e9ee0.1d5eSMTPIN_ADDED_MISSING@mx.google.com> Received: from [172.21.0.6] (unknown [172.18.0.240]) by postal.iol.unh.edu (Postfix) with ESMTP id 7E5976052471; Mon, 10 Feb 2025 00:43:28 -0500 (EST) Subject: |SUCCESS| pw151243-151244 [PATCH] [2/2] net/hns3: fix possible reset From: dpdklab@iol.unh.edu To: Test Report Cc: dpdk-test-reports@iol.unh.edu In-Reply-To: <20250210030113.1154709-3-haijie1@huawei.com> References: <20250210030113.1154709-3-haijie1@huawei.com> Content-Type: text/plain X-BeenThere: test-report@dpdk.org X-Mailman-Version: 2.1.29 Precedence: list List-Id: automatic DPDK test reports List-Unsubscribe: , List-Archive: List-Post: List-Help: List-Subscribe: , Errors-To: test-report-bounces@dpdk.org Test-Label: iol-sample-apps-testing Test-Status: SUCCESS http://dpdk.org/patch/151244 _Testing PASS_ Submitter: Jie Hai Date: Monday, February 10 2025 03:01:13 DPDK git baseline: Repo:dpdk Branch: master CommitID:b82daa7d47bda76b3879ef6d715b2d3eb737793f 151243-151244 --> testing pass Upstream job id: ACVP-FIPS-testing#8858 Test environment and result as below: +--------------------+----------------------+----------------------+ | Environment | compressdev_zlib_pmd | dpdk_fips_validation | +====================+======================+======================+ | Ubuntu 22.04 (ARM) | PASS | SKIPPED | +--------------------+----------------------+----------------------+ | Ubuntu 22.04 | PASS | SKIPPED | +--------------------+----------------------+----------------------+ | Ubuntu 20.04 | SKIPPED | PASS | +--------------------+----------------------+----------------------+ Ubuntu 22.04 (ARM) Kernel: 5.15.0-97-generic Compiler: gcc gcc (Ubuntu 11.4.0-1ubuntu1~22.04) 11.4.0 Ubuntu 22.04 Kernel: 5.15.0-100-generic Compiler: gcc gcc (Ubuntu 11.4.0-1ubuntu1~22.04) 11.4.0 Ubuntu 20.04 Kernel: Depends on container host Compiler: gcc (Ubuntu 9.4.0-1ubuntu1~20.04.2) 9.4.0 To view detailed results, visit: https://lab.dpdk.org/results/dashboard/patchsets/32543/ UNH-IOL DPDK Community Lab To manage your email subscriptions, visit: https://lab.dpdk.org/results/dashboard/preferences/subscriptions/