From mboxrd@z Thu Jan 1 00:00:00 1970 Return-Path: Received: from mails.dpdk.org (mails.dpdk.org [217.70.189.124]) by inbox.dpdk.org (Postfix) with ESMTP id A1F9D461E2 for ; Mon, 10 Feb 2025 07:26:22 +0100 (CET) Received: from mails.dpdk.org (localhost [127.0.0.1]) by mails.dpdk.org (Postfix) with ESMTP id 9B1A240268; Mon, 10 Feb 2025 07:26:21 +0100 (CET) Received: from mail-pl1-f226.google.com (mail-pl1-f226.google.com [209.85.214.226]) by mails.dpdk.org (Postfix) with ESMTP id AD3754021E for ; Mon, 10 Feb 2025 07:26:20 +0100 (CET) Received: by mail-pl1-f226.google.com with SMTP id d9443c01a7336-21f48ab13d5so60209375ad.0 for ; Sun, 09 Feb 2025 22:26:20 -0800 (PST) DKIM-Signature: v=1; a=rsa-sha256; c=relaxed/relaxed; d=iol.unh.edu; s=unh-iol; t=1739168780; x=1739773580; darn=dpdk.org; h=references:in-reply-to:cc:to:from:subject:message-id:date:from:to :cc:subject:date:message-id:reply-to; bh=vg1QI27cPS9PF++xA0BrGnSbxtMYlnR8eSMzzTqCcck=; b=EZIhJ8eOVM6SpkdLkRijJZ4OuL+5pptuMGKedYsuEeC+hWolDdbKQ7YDroCX0Rc4U8 ImmIAFZWswGECO2onwW6ZHiBUj2HRIvl5Qu5OCtmNlpi2cQP/SEfouM5cnhmKjfZ8YSx z+FSC7VTuiYaPIC60UMGxhrdmxJVLtOZyC2po= X-Google-DKIM-Signature: v=1; a=rsa-sha256; c=relaxed/relaxed; d=1e100.net; s=20230601; t=1739168780; x=1739773580; h=references:in-reply-to:cc:to:from:subject:message-id:date :x-gm-message-state:from:to:cc:subject:date:message-id:reply-to; bh=vg1QI27cPS9PF++xA0BrGnSbxtMYlnR8eSMzzTqCcck=; b=iL2a8nOzABjrVz8tP0kWxd2eoCWtt8krV6cASTxQqSp2Plpfg8PxNtOYDVIy7xcyKw rbVdz2fyaYxCI/hZ2kpeWPKJOOYYU5BbyIrawRxIbyEZwLNkH+26ZUkuWVxos/vYPcOq 3bNMv4bF+h1xslGSfPUWNtY9lrVAHPrKCLk67L6KZwb90nQGmHv2YbWlvsplIo5Cp1qe huQSDS2xaUPTO97HXjpjBEDgUMBDw93AMTDV+kTLZ++D0n/gf7zArAh5RtKnrb5yiQzb 5UQOZpe/O05jyntqsvUVkRzNm/ks74eFU7pXIktfyx86oB+L803C1HwlCAUL4+QTXJU1 zNrQ== X-Gm-Message-State: AOJu0YxJk7f8aHQFcavre5ONqLkJ78uwzlZTGlutl+osus6ZFZxJVu4V fgNf1xzaDYnLCaoTfLVNFNTuWYXQAglgt9AtWQ+h9dMaeZP1+0WAchgaAvhDR0JvqdYrWo3cg79 FzpgFomMBKRcpSS04h2tG5ZEJl5pVPn1kYHyQ4sPW X-Gm-Gg: ASbGncvaCw85hXps2JqhDyJ7nVFlWgllagL8KCrv2D5k+E2kChSNqu8YuYBhLu9/aP9 7IkMXsoeNLURojthnEDGxcdFjGubrT4LwKMsK70SndGWIdNO4diH1RhwPBVhKKMYFnmBsA2J1/O NoNciX8sW02TvV2APq5d6d50xzRHVCczEeOhjeGJOuB4wTj02OdwD9fHgXHVdsBmDH7I2Pid7r+ ar915SCjuVBDLbVOtOmcaHh1O3iFzpvCsqqkrTTPxmIbDcicSRRzEHXd6JFWQcRXfZYVfCbPhlw KgKLl4ZEsKj8c5CrpDf2PRsh0QwmGw== X-Google-Smtp-Source: AGHT+IEL/7jMy2Pp2pk0ZKhnpZicISYWb8zV2g6ySMEwwRk3h+wZ8fUpNluHtQMPHl+gFCeaMHAcbgkeLOmV X-Received: by 2002:a17:902:f60a:b0:215:8270:77e2 with SMTP id d9443c01a7336-21f4e10dbd6mr215568345ad.0.1739168779722; Sun, 09 Feb 2025 22:26:19 -0800 (PST) Received: from postal.iol.unh.edu (postal.iol.unh.edu. [132.177.123.84]) by smtp-relay.gmail.com with ESMTPS id d9443c01a7336-21f3689056asm4550535ad.119.2025.02.09.22.26.19 (version=TLS1_2 cipher=ECDHE-ECDSA-AES128-GCM-SHA256 bits=128/128); Sun, 09 Feb 2025 22:26:19 -0800 (PST) X-Relaying-Domain: iol.unh.edu Date: Sun, 09 Feb 2025 22:26:19 -0800 (PST) Message-ID: <67a99c0b.170a0220.3c32b3.6952SMTPIN_ADDED_MISSING@mx.google.com> Received: from [172.21.0.6] (unknown [172.18.0.240]) by postal.iol.unh.edu (Postfix) with ESMTP id D08E96052472; Mon, 10 Feb 2025 01:26:18 -0500 (EST) Subject: |SUCCESS| pw151243-151244 [PATCH] [2/2] net/hns3: fix possible reset From: dpdklab@iol.unh.edu To: Test Report Cc: dpdk-test-reports@iol.unh.edu In-Reply-To: <20250210030113.1154709-3-haijie1@huawei.com> References: <20250210030113.1154709-3-haijie1@huawei.com> Content-Type: text/plain X-BeenThere: test-report@dpdk.org X-Mailman-Version: 2.1.29 Precedence: list List-Id: automatic DPDK test reports List-Unsubscribe: , List-Archive: List-Post: List-Help: List-Subscribe: , Errors-To: test-report-bounces@dpdk.org Test-Label: iol-compile-amd64-testing Test-Status: SUCCESS http://dpdk.org/patch/151244 _Testing PASS_ Submitter: Jie Hai Date: Monday, February 10 2025 03:01:13 DPDK git baseline: Repo:dpdk Branch: master CommitID:b82daa7d47bda76b3879ef6d715b2d3eb737793f 151243-151244 --> testing pass Upstream job id: Generic-DPDK-Compile-Meson#360016 Test environment and result as below: +---------------------+--------------------+------------------+-------------------+-------------------------+-------------------+----------------------+ | Environment | dpdk_meson_compile | dpdk_compile_ovs | dpdk_compile_spdk | dpdk_llvm_clang_compile | dpdk_msvc_compile | dpdk_mingw64_compile | +=====================+====================+==================+===================+=========================+===================+======================+ | CentOS Stream 9 | PASS | PASS | PASS | SKIPPED | SKIPPED | SKIPPED | +---------------------+--------------------+------------------+-------------------+-------------------------+-------------------+----------------------+ | Debian Bullseye | PASS | PASS | PASS | SKIPPED | SKIPPED | SKIPPED | +---------------------+--------------------+------------------+-------------------+-------------------------+-------------------+----------------------+ | Debian 12 | PASS | PASS | PASS | SKIPPED | SKIPPED | SKIPPED | +---------------------+--------------------+------------------+-------------------+-------------------------+-------------------+----------------------+ | Fedora 40 (Clang) | PASS | PASS | PASS | SKIPPED | SKIPPED | SKIPPED | +---------------------+--------------------+------------------+-------------------+-------------------------+-------------------+----------------------+ | Fedora 40 | PASS | PASS | PASS | SKIPPED | SKIPPED | SKIPPED | +---------------------+--------------------+------------------+-------------------+-------------------------+-------------------+----------------------+ | Fedora 41 | PASS | PASS | PASS | SKIPPED | SKIPPED | SKIPPED | +---------------------+--------------------+------------------+-------------------+-------------------------+-------------------+----------------------+ | Fedora 41 (Clang) | PASS | PASS | PASS | SKIPPED | SKIPPED | SKIPPED | +---------------------+--------------------+------------------+-------------------+-------------------------+-------------------+----------------------+ | openSUSE Leap 15 | PASS | SKIPPED | SKIPPED | SKIPPED | SKIPPED | SKIPPED | +---------------------+--------------------+------------------+-------------------+-------------------------+-------------------+----------------------+ | RHEL8 | PASS | PASS | SKIPPED | SKIPPED | SKIPPED | SKIPPED | +---------------------+--------------------+------------------+-------------------+-------------------------+-------------------+----------------------+ | RHEL9 | PASS | PASS | SKIPPED | SKIPPED | SKIPPED | SKIPPED | +---------------------+--------------------+------------------+-------------------+-------------------------+-------------------+----------------------+ | Ubuntu 20.04 | PASS | SKIPPED | SKIPPED | SKIPPED | SKIPPED | SKIPPED | +---------------------+--------------------+------------------+-------------------+-------------------------+-------------------+----------------------+ | Ubuntu 22.04 | PASS | PASS | PASS | SKIPPED | SKIPPED | SKIPPED | +---------------------+--------------------+------------------+-------------------+-------------------------+-------------------+----------------------+ | Ubuntu 24.04 | PASS | PASS | PASS | SKIPPED | SKIPPED | SKIPPED | +---------------------+--------------------+------------------+-------------------+-------------------------+-------------------+----------------------+ | Alpine | PASS | PASS | SKIPPED | SKIPPED | SKIPPED | SKIPPED | +---------------------+--------------------+------------------+-------------------+-------------------------+-------------------+----------------------+ | FreeBSD 13.4 | PASS | SKIPPED | SKIPPED | SKIPPED | SKIPPED | SKIPPED | +---------------------+--------------------+------------------+-------------------+-------------------------+-------------------+----------------------+ | FreeBSD 14.2 | PASS | SKIPPED | SKIPPED | SKIPPED | SKIPPED | SKIPPED | +---------------------+--------------------+------------------+-------------------+-------------------------+-------------------+----------------------+ | Windows Server 2022 | SKIPPED | SKIPPED | SKIPPED | PASS | PASS | PASS | +---------------------+--------------------+------------------+-------------------+-------------------------+-------------------+----------------------+ CentOS Stream 9 Kernel: Depends on container host Compiler: gcc 11.5.0 20240719 (Red Hat 11.5.0-2) Debian Bullseye Kernel: Depends on container host Compiler: gcc (Debian 10.2.1-6) 10.2.1 20210110 Debian 12 Kernel: Depends on container host Compiler: gcc (Debian 12.2.0-14) 12.2.0 Fedora 40 (Clang) Kernel: Depends on container host Compiler: clang 18.1.8 (Fedora 18.1.8-1.fc40) Fedora 40 Kernel: Depends on container host Compiler: gcc 14.2.1 20240912 (Red Hat 14.2.1-3) Fedora 41 Kernel: Depends on container host Compiler: gcc 14.2.1 20240912 (Red Hat 14.2.1-3) Fedora 41 (Clang) Kernel: Depends on container host Compiler: clang 19.1.5 (Fedora 19.1.5-1.fc41) openSUSE Leap 15 Kernel: Depends on container host Compiler: gcc (SUSE Linux) 7.5.0 RHEL8 Kernel: Depends on container host Compiler: gcc 8.5.0 20210514 (Red Hat 8.5.0-22) RHEL9 Kernel: Depends on container host Compiler: gcc 11.5.0 20240719 (Red Hat 11.5.0-2) Ubuntu 20.04 Kernel: Depends on container host Compiler: gcc (Ubuntu 9.4.0-1ubuntu1~20.04.2) 9.4.0 Ubuntu 22.04 Kernel: Depends on container host Compiler: gcc (Ubuntu 11.4.0-1ubuntu1~22.04) 11.4.0 Ubuntu 24.04 Kernel: Depends on container host Compiler: gcc (Ubuntu 13.3.0-6ubuntu2~24.04) 13.3.0 Alpine Kernel: Depends on container host Compiler: gcc (Alpine 14.2.0) 14.2.0 FreeBSD 13.4 Kernel: 13.4-RELEASE-p1 Compiler: clang 18.1.6 FreeBSD 14.2 Kernel: 14.2-RELEASE Compiler: clang 18.1.6 Windows Server 2022 Kernel: 10.0.20348.2031 Compiler: clang 15.0.7, gcc 14.1.0 (MinGW), and MSVC VS 19.39.33521 To view detailed results, visit: https://lab.dpdk.org/results/dashboard/patchsets/32543/ UNH-IOL DPDK Community Lab To manage your email subscriptions, visit: https://lab.dpdk.org/results/dashboard/preferences/subscriptions/