From mboxrd@z Thu Jan 1 00:00:00 1970 Return-Path: Received: from mails.dpdk.org (mails.dpdk.org [217.70.189.124]) by inbox.dpdk.org (Postfix) with ESMTP id B8A41461E2 for ; Mon, 10 Feb 2025 07:37:13 +0100 (CET) Received: from mails.dpdk.org (localhost [127.0.0.1]) by mails.dpdk.org (Postfix) with ESMTP id 9754640268; Mon, 10 Feb 2025 07:37:13 +0100 (CET) Received: from mail-il1-f227.google.com (mail-il1-f227.google.com [209.85.166.227]) by mails.dpdk.org (Postfix) with ESMTP id 943FB4021E for ; Mon, 10 Feb 2025 07:37:12 +0100 (CET) Received: by mail-il1-f227.google.com with SMTP id e9e14a558f8ab-3d150512bd5so5174495ab.3 for ; Sun, 09 Feb 2025 22:37:12 -0800 (PST) DKIM-Signature: v=1; a=rsa-sha256; c=relaxed/relaxed; d=iol.unh.edu; s=unh-iol; t=1739169432; x=1739774232; darn=dpdk.org; h=cc:to:from:subject:message-id:date:from:to:cc:subject:date :message-id:reply-to; bh=c5BuHYe8gxnM/rwf+6i+Z1iDHD9bKjYwN56p1oMa8Ac=; b=LanRtaaBSXFTWC7ahxLBYURlMSSCMjYLFwLzE4s3JGwqhMHn2WR3vml26YwZnIxZzu Qk0onkAtRzF6opeCIXDssfOLOMzIOHS+kOKjjefipjdAUc/hdpMSgaKLtz6JJbssUDnd aZDCtrJ2f7s33nuTuqC0Zs7Kg4JKyoj9pFgx4= X-Google-DKIM-Signature: v=1; a=rsa-sha256; c=relaxed/relaxed; d=1e100.net; s=20230601; t=1739169432; x=1739774232; h=cc:to:from:subject:message-id:date:x-gm-message-state:from:to:cc :subject:date:message-id:reply-to; bh=c5BuHYe8gxnM/rwf+6i+Z1iDHD9bKjYwN56p1oMa8Ac=; b=R4B9yI3hFynN+YYBIZJs3vxv32Uf/ur4tWfhqpqU8uS9hzBC34GCbrtahgR2hPsv1N 0XEjRqcWWV99g2nmPIy5B4iuH31bAeYQZlXFbKBS3nLZrtEN0wqZzeeTJaiippfhGvgl L1i1PFFOBLuLmgeH9Zn1Jb7SqMKTMPtcyu9ug6WfJou3aJY7DR//1lROEmDe9GPe76uy wFfb9LKQtZeOQoht1paQmUDacGXUclFghJA0+UrDdSukXonoB2IqIbkqE9Cf+D//xzZb NCSRxM6oMaq/iQck8thlgjYDaLsqPZZKYW+SGBYcDwyNvwiVWzG6JfpBunEAyXm/LR0v XgoA== X-Gm-Message-State: AOJu0Yxw8mtZO/uFlLC2J8XS9UkI+RJ2UCB585iUrVPu/6u4jYNj+9Lr iHx/37GfQ5t6jEqkXf6oph/ibRzd6j3++nwzBEz5Y3Q7ElCN4vLePZIkUOp7StqMfHl5v8dfog2 AEMtwOs93eA6s8NFSNtGaBq9EaEv149sD X-Gm-Gg: ASbGncvEUHFdUr8tQYguEIbbyocxK/5CeI5gvfc3aUf+YipAIOLUg7Eo9T1tz6WJ/th G5aZ3ew6UVJADJ+of2hqzdWkqt1jWjh8RvUQAf3Xpb99mQ7SGX5plgdCMxkjOMYcY9vNcfzSCSL RWy8hz+zfMlNWfO3LDclK6HbZtFs4B3EIkDmgBKnWhx9gg6K05j2hDiGWm+y3wI1GHm+MonGBFT q4g/VCZ0FU9LyFjtB3rSLIXjh9wfo7N6yQwUGidJUp8ppcpsihKg6jqSjM6Cap+xuW2uzBFRA6Z /wzdpIYndhPkxDV5S4c5V3rkPk9qcA== X-Google-Smtp-Source: AGHT+IGhUWwSh+y7EjO9AzqoazOuIfNBDdIr0p6LyGKNakh5Ft41eIlaQYfcA5C5do91WWe62qt8Gc7wPiMz X-Received: by 2002:a05:6e02:1c86:b0:3cf:c82f:586c with SMTP id e9e14a558f8ab-3d13dcde651mr107904525ab.4.1739169431851; Sun, 09 Feb 2025 22:37:11 -0800 (PST) Received: from postal.iol.unh.edu (postal.iol.unh.edu. [132.177.123.84]) by smtp-relay.gmail.com with ESMTPS id e9e14a558f8ab-3d05e8fe293sm5897665ab.20.2025.02.09.22.37.11 (version=TLS1_2 cipher=ECDHE-ECDSA-AES128-GCM-SHA256 bits=128/128); Sun, 09 Feb 2025 22:37:11 -0800 (PST) X-Relaying-Domain: iol.unh.edu Date: Sun, 09 Feb 2025 22:37:11 -0800 (PST) Message-ID: <67a99e97.050a0220.2a1c22.e452SMTPIN_ADDED_MISSING@mx.google.com> Received: from [172.21.0.6] (unknown [172.18.0.240]) by postal.iol.unh.edu (Postfix) with ESMTP id 567886052471; Mon, 10 Feb 2025 01:36:41 -0500 (EST) Subject: |SUCCESS| [GIT MASTER] f2eea2f37a82bb73fb01d56350708f7d70e21379 From: dpdklab@iol.unh.edu To: Test Report Cc: dpdk-test-reports@iol.unh.edu, Xueming Li , Christian Ehrhardt , Kevin Traynor , Luca Boccassi Content-Type: text/plain X-BeenThere: test-report@dpdk.org X-Mailman-Version: 2.1.29 Precedence: list List-Id: automatic DPDK test reports List-Unsubscribe: , List-Archive: List-Post: List-Help: List-Subscribe: , Errors-To: test-report-bounces@dpdk.org _Testing PASS_ Branch: tags/v24.11 f2eea2f37a82bb73fb01d56350708f7d70e21379 --> testing pass Upstream job id: Generic-DPDK-Compile-ABI#115606 Test environment and result as below: +-------------------+----------+ | Environment | abi_test | +===================+==========+ | CentOS Stream 9 | PASS | +-------------------+----------+ | Debian Bullseye | PASS | +-------------------+----------+ | Debian 12 | PASS | +-------------------+----------+ | Fedora 40 (Clang) | PASS | +-------------------+----------+ | Fedora 41 (Clang) | PASS | +-------------------+----------+ | openSUSE Leap 15 | PASS | +-------------------+----------+ | Fedora 40 | PASS | +-------------------+----------+ | Fedora 41 | PASS | +-------------------+----------+ | RHEL8 | PASS | +-------------------+----------+ | Ubuntu 22.04 | PASS | +-------------------+----------+ | RHEL9 | PASS | +-------------------+----------+ | Ubuntu 24.04 | PASS | +-------------------+----------+ CentOS Stream 9 Kernel: Depends on container host Compiler: gcc 11.5.0 20240719 (Red Hat 11.5.0-2) Debian Bullseye Kernel: Depends on container host Compiler: gcc (Debian 10.2.1-6) 10.2.1 20210110 Debian 12 Kernel: Depends on container host Compiler: gcc (Debian 12.2.0-14) 12.2.0 Fedora 40 (Clang) Kernel: Depends on container host Compiler: clang 18.1.8 (Fedora 18.1.8-1.fc40) Fedora 41 (Clang) Kernel: Depends on container host Compiler: clang 19.1.5 (Fedora 19.1.5-1.fc41) openSUSE Leap 15 Kernel: Depends on container host Compiler: gcc (SUSE Linux) 7.5.0 Fedora 40 Kernel: Depends on container host Compiler: gcc 14.2.1 20240912 (Red Hat 14.2.1-3) Fedora 41 Kernel: Depends on container host Compiler: gcc 14.2.1 20240912 (Red Hat 14.2.1-3) RHEL8 Kernel: Depends on container host Compiler: gcc 8.5.0 20210514 (Red Hat 8.5.0-22) Ubuntu 22.04 Kernel: Depends on container host Compiler: gcc (Ubuntu 11.4.0-1ubuntu1~22.04) 11.4.0 RHEL9 Kernel: Depends on container host Compiler: gcc 11.5.0 20240719 (Red Hat 11.5.0-2) Ubuntu 24.04 Kernel: Depends on container host Compiler: gcc (Ubuntu 13.3.0-6ubuntu2~24.04) 13.3.0 To view detailed results, visit: https://lab.dpdk.org/results/dashboard/tarballs/32522/ UNH-IOL DPDK Community Lab To manage your email subscriptions, visit: https://lab.dpdk.org/results/dashboard/preferences/subscriptions/