From mboxrd@z Thu Jan 1 00:00:00 1970 Return-Path: Received: from mails.dpdk.org (mails.dpdk.org [217.70.189.124]) by inbox.dpdk.org (Postfix) with ESMTP id D7CCC461E4 for ; Mon, 10 Feb 2025 08:17:58 +0100 (CET) Received: from mails.dpdk.org (localhost [127.0.0.1]) by mails.dpdk.org (Postfix) with ESMTP id AD4EE40268; Mon, 10 Feb 2025 08:17:58 +0100 (CET) Received: from mail-yw1-f225.google.com (mail-yw1-f225.google.com [209.85.128.225]) by mails.dpdk.org (Postfix) with ESMTP id 889C04021E for ; Mon, 10 Feb 2025 08:17:57 +0100 (CET) Received: by mail-yw1-f225.google.com with SMTP id 00721157ae682-6f9625c0fccso36515577b3.1 for ; Sun, 09 Feb 2025 23:17:57 -0800 (PST) DKIM-Signature: v=1; a=rsa-sha256; c=relaxed/relaxed; d=iol.unh.edu; s=unh-iol; t=1739171877; x=1739776677; darn=dpdk.org; h=cc:to:from:subject:message-id:date:from:to:cc:subject:date :message-id:reply-to; bh=2r/oVN6tc2BbjsL0BBUS9A5VDrO7kLLkehRQV1jJjUQ=; b=ZWbMRqyAebKK2kNOf7hYQgz3hpbCY25LiwvEsjUd6t2eRV0/T4oumBzDwcCzHs6x4U Za9kkZ0sMszy4vkrR7QNL8Tk5315Qbm9aryfGc5M+gbSkLslxBZKLEESTO4ZN1UTWNdG r61Y59nymr0CKr7DLaDF+Aa9/SWnSQusqBP20= X-Google-DKIM-Signature: v=1; a=rsa-sha256; c=relaxed/relaxed; d=1e100.net; s=20230601; t=1739171877; x=1739776677; h=cc:to:from:subject:message-id:date:x-gm-message-state:from:to:cc :subject:date:message-id:reply-to; bh=2r/oVN6tc2BbjsL0BBUS9A5VDrO7kLLkehRQV1jJjUQ=; b=jTkQfXy9wBvOSNMExihxSs+DU0CtdpMf1JiFyX1WYECRqBr30VCfacgYaR+grOFgSl PrZVLopNpdlqkbsUeTua8oHB4ihEZdCIYcGBRWcrHoWppZk4VQeHrGqggjXR59bWzFPM hJp19LYm3SwnLkKLJi5ju9faewXoeom6SVSOaI5qF6zEsqFMsTjKFos1YaZg1itUTKba A+ajTBAlXowmkBmqQEIeJ/oByJ69NFY3H9p1l7DPDQuqmg4vPTNIhOkVfVuLclpamu+A ndmViY5I5FC5HufAgBWpLi5Wp1/ogkbb7f2cxKWrhuNRXJlgVlHdrym79/uqRT+c7peY eftg== X-Gm-Message-State: AOJu0YwYKETBWzFDkCfalbFeozgj1AXRo80TtUYVsVvAs76+aRi6QVOA k4bm1/8L5AZRY8pnpAtGg7OSjvNKgeGV0VWuQ2zl6L+wYM2VC0OutrRLG8IYl+qj+Mn1/CluroE 3Mi5ZihZeqWXoX83pKLW2bxi5+7BXvM5Z X-Gm-Gg: ASbGncu0E0ClgX0+tt37BNAJz2m1hglY+ILKhEX9DR6V6P+R4nr0Lp0xYJ0ymwysSsN uKwC30o1NCF4AigB8OSxQdTyRhmq6yG5OJ+Pe0mFdAcXa9MIWPBWkrRTYhnH5RAPjvQ2kQIL7EV X006j9btePXEltzdfjbuKPs3LpDgP8lVTficUmfpXAqAEm/AjMJe8dRr9a+ZzISRGxAcKuzJvQq jW7L77weAdwvyL034aTkAX7wapmw+EDOfTSO7QVp57JDxMcYjno8cv1STlGa3KHo/EpRWVnM8he K86kY4FUotTNEfeelTDWqPtDpGO6oQ== X-Google-Smtp-Source: AGHT+IGXQDiokmuvXwCVP7rjP9QNA6WF1S6tBKEjM/zMXM0zKiYrX1PvbiAqcCTr0tUMjO8at5+1JRRccefj X-Received: by 2002:a05:690c:67c1:b0:6f9:a023:5e25 with SMTP id 00721157ae682-6f9b2a2cb8emr97257677b3.38.1739171876836; Sun, 09 Feb 2025 23:17:56 -0800 (PST) Received: from postal.iol.unh.edu (postal.iol.unh.edu. [132.177.123.84]) by smtp-relay.gmail.com with ESMTPS id 00721157ae682-6f99ffeefdbsm774827b3.68.2025.02.09.23.17.56 (version=TLS1_2 cipher=ECDHE-ECDSA-AES128-GCM-SHA256 bits=128/128); Sun, 09 Feb 2025 23:17:56 -0800 (PST) X-Relaying-Domain: iol.unh.edu Date: Sun, 09 Feb 2025 23:17:56 -0800 (PST) Message-ID: <67a9a824.050a0220.8a3d5.3d83SMTPIN_ADDED_MISSING@mx.google.com> Received: from [172.21.0.5] (unknown [172.18.0.240]) by postal.iol.unh.edu (Postfix) with ESMTP id 638136052471; Mon, 10 Feb 2025 02:17:56 -0500 (EST) Subject: |SUCCESS| [GIT MASTER] c66daa12e76d7b4912cfb7109a761856a7a873ab From: dpdklab@iol.unh.edu To: Test Report Cc: dpdk-test-reports@iol.unh.edu, Xueming Li , Christian Ehrhardt , Kevin Traynor , Luca Boccassi Content-Type: text/plain X-BeenThere: test-report@dpdk.org X-Mailman-Version: 2.1.29 Precedence: list List-Id: automatic DPDK test reports List-Unsubscribe: , List-Archive: List-Post: List-Help: List-Subscribe: , Errors-To: test-report-bounces@dpdk.org _Testing PASS_ Branch: tags/v23.11 c66daa12e76d7b4912cfb7109a761856a7a873ab --> testing pass Upstream job id: Generic-DPDK-Compile-ABI#115614 Test environment and result as below: +-------------------+----------+ | Environment | abi_test | +===================+==========+ | CentOS Stream 9 | PASS | +-------------------+----------+ | Debian 12 | PASS | +-------------------+----------+ | Debian Bullseye | PASS | +-------------------+----------+ | Fedora 40 | PASS | +-------------------+----------+ | Fedora 40 (Clang) | PASS | +-------------------+----------+ | Fedora 41 (Clang) | PASS | +-------------------+----------+ | Fedora 41 | PASS | +-------------------+----------+ | openSUSE Leap 15 | PASS | +-------------------+----------+ | RHEL8 | PASS | +-------------------+----------+ | RHEL9 | PASS | +-------------------+----------+ | Ubuntu 22.04 | PASS | +-------------------+----------+ | Ubuntu 24.04 | PASS | +-------------------+----------+ CentOS Stream 9 Kernel: Depends on container host Compiler: gcc 11.5.0 20240719 (Red Hat 11.5.0-2) Debian 12 Kernel: Depends on container host Compiler: gcc (Debian 12.2.0-14) 12.2.0 Debian Bullseye Kernel: Depends on container host Compiler: gcc (Debian 10.2.1-6) 10.2.1 20210110 Fedora 40 Kernel: Depends on container host Compiler: gcc 14.2.1 20240912 (Red Hat 14.2.1-3) Fedora 40 (Clang) Kernel: Depends on container host Compiler: clang 18.1.8 (Fedora 18.1.8-1.fc40) Fedora 41 (Clang) Kernel: Depends on container host Compiler: clang 19.1.5 (Fedora 19.1.5-1.fc41) Fedora 41 Kernel: Depends on container host Compiler: gcc 14.2.1 20240912 (Red Hat 14.2.1-3) openSUSE Leap 15 Kernel: Depends on container host Compiler: gcc (SUSE Linux) 7.5.0 RHEL8 Kernel: Depends on container host Compiler: gcc 8.5.0 20210514 (Red Hat 8.5.0-22) RHEL9 Kernel: Depends on container host Compiler: gcc 11.5.0 20240719 (Red Hat 11.5.0-2) Ubuntu 22.04 Kernel: Depends on container host Compiler: gcc (Ubuntu 11.4.0-1ubuntu1~22.04) 11.4.0 Ubuntu 24.04 Kernel: Depends on container host Compiler: gcc (Ubuntu 13.3.0-6ubuntu2~24.04) 13.3.0 To view detailed results, visit: https://lab.dpdk.org/results/dashboard/tarballs/32523/ UNH-IOL DPDK Community Lab To manage your email subscriptions, visit: https://lab.dpdk.org/results/dashboard/preferences/subscriptions/