From mboxrd@z Thu Jan 1 00:00:00 1970 Return-Path: Received: from mails.dpdk.org (mails.dpdk.org [217.70.189.124]) by inbox.dpdk.org (Postfix) with ESMTP id 8B8D9461E4 for ; Mon, 10 Feb 2025 08:31:03 +0100 (CET) Received: from mails.dpdk.org (localhost [127.0.0.1]) by mails.dpdk.org (Postfix) with ESMTP id 7D63540F1A; Mon, 10 Feb 2025 08:31:03 +0100 (CET) Received: from mail-qv1-f97.google.com (mail-qv1-f97.google.com [209.85.219.97]) by mails.dpdk.org (Postfix) with ESMTP id EFDEC40268 for ; Mon, 10 Feb 2025 08:31:02 +0100 (CET) Received: by mail-qv1-f97.google.com with SMTP id 6a1803df08f44-6e17d3e92d9so31966036d6.1 for ; Sun, 09 Feb 2025 23:31:02 -0800 (PST) DKIM-Signature: v=1; a=rsa-sha256; c=relaxed/relaxed; d=iol.unh.edu; s=unh-iol; t=1739172662; x=1739777462; darn=dpdk.org; h=cc:to:from:subject:message-id:date:from:to:cc:subject:date :message-id:reply-to; bh=knI/kJdXLDCZp2u7uPC/oEi8UC97VdSFgRGC56pmEEs=; b=Zi3erqNHnUQXumLj5C57oa6OO7ZHWnRb7hNMTBH8Jz67LqxMBoAehioioiMPW/PIz/ oRS5Sqxy+hkUQOh1eWPxLN5R9j/bjWl1PjBTVugeAeP/1jVaQj4pU5ji0+N15lAR087w ed9IP6DOCylwVCnygh9S0vkHICdWPhZkoztEA= X-Google-DKIM-Signature: v=1; a=rsa-sha256; c=relaxed/relaxed; d=1e100.net; s=20230601; t=1739172662; x=1739777462; h=cc:to:from:subject:message-id:date:x-gm-message-state:from:to:cc :subject:date:message-id:reply-to; bh=knI/kJdXLDCZp2u7uPC/oEi8UC97VdSFgRGC56pmEEs=; b=ilJnSwwBtyzy61QGeiQBndiAvoBcobaPnvRdLaSVB1jZO4BWh0RnD8iMBrS5SunRYp NRA4kf1lNJ3TjoH3fk0aJQDcs431cLsvtPKDStFTwkALMBB54Dtpxh8DMKXFaLcQKz+R nCXw8F2uSXZ42EfozRsMUz7A5gSEwZcjkLoE5uP9s7euOd3P/zioMWn9yCyEzn5Iellk uSmCQBikiD80ZsqFWLhljI874xlkdkCTwSgAqKji8k85SlxQyeRp6QYgPg7cNtJHsb90 KRG+dUt03qqgFmAkjCqkbQv3h13ubj4y8Mi1unSlH3+WfPHKEWryTar/kDgD27xqDwcs boIg== X-Gm-Message-State: AOJu0YxnTs5/XBHVqXS7/UYFm7ZTGd4LoBNURFV00zjAcaqIt12Eante w05JqYm6xDo1+86/LmEMOoLL2VVCnz9VxL3YxAgojFbLcshgJv23ksZdsd51Iq3JBdjV34skw9F 7yIXN/A1Y0jV/EksIvRkYIGsUtGmY6Wl9 X-Gm-Gg: ASbGncseCcQ7PfYC1GM4snEiDW3XQ2SOaLF8XGLKPf8GKf8wJyPpX3j8S1ZM61e+pTd FVpOtLbK4l3fCsEmWf3WJwUsUK4nqNSZ0QetAfVtcJen788vmpj52avopzcuF+dhRB05dJZLg8P 8rSvFJ2ZLIqmcLIMSNshj3Hw8338pYgMgEK3vVBCswg7Kb1mJQitt1+vc3+SjDC7UL/Uku0+ur+ Ptn7BJ40nqbzfeIA5AxH6V4pF7iFL5vGzbdn4HycsWbHb+KCcgxCdcQvM+vkNbWY6dg042NQQv3 nbt6I9hwQ1AuTS1rjXrg9ZrSFHJraQ== X-Google-Smtp-Source: AGHT+IFzLPw4SK8m9Z1dwZufNGhO/O+LYgRRTtr6SU6Tmx7+IAJIK/S02SDthUpc1eD66tueXm/JDMc8EMb8 X-Received: by 2002:a05:6214:d4d:b0:6df:99e9:39b3 with SMTP id 6a1803df08f44-6e445629c85mr160652096d6.15.1739172662381; Sun, 09 Feb 2025 23:31:02 -0800 (PST) Received: from postal.iol.unh.edu (postal.iol.unh.edu. [132.177.123.84]) by smtp-relay.gmail.com with ESMTPS id 6a1803df08f44-6e450d6f647sm3063276d6.63.2025.02.09.23.31.02 (version=TLS1_2 cipher=ECDHE-ECDSA-AES128-GCM-SHA256 bits=128/128); Sun, 09 Feb 2025 23:31:02 -0800 (PST) X-Relaying-Domain: iol.unh.edu Date: Sun, 09 Feb 2025 23:31:02 -0800 (PST) Message-ID: <67a9ab36.050a0220.29c3bb.f021SMTPIN_ADDED_MISSING@mx.google.com> Received: from [172.21.0.6] (unknown [172.18.0.240]) by postal.iol.unh.edu (Postfix) with ESMTP id C4D546052471; Mon, 10 Feb 2025 02:31:00 -0500 (EST) Subject: |SUCCESS| [GIT MASTER] c66daa12e76d7b4912cfb7109a761856a7a873ab From: dpdklab@iol.unh.edu To: Test Report Cc: dpdk-test-reports@iol.unh.edu, Xueming Li , Christian Ehrhardt , Kevin Traynor , Luca Boccassi Content-Type: text/plain X-BeenThere: test-report@dpdk.org X-Mailman-Version: 2.1.29 Precedence: list List-Id: automatic DPDK test reports List-Unsubscribe: , List-Archive: List-Post: List-Help: List-Subscribe: , Errors-To: test-report-bounces@dpdk.org _Testing PASS_ Branch: tags/v23.11 c66daa12e76d7b4912cfb7109a761856a7a873ab --> testing pass Upstream job id: Generic-Unit-Test-DPDK#313586 Test environment and result as below: +-----------------------------+----------------+--------------+---------------------------+------------------------------+ | Environment | dpdk_unit_test | lpm_autotest | cryptodev_sw_zuc_autotest | cryptodev_sw_snow3g_autotest | +=============================+================+==============+===========================+==============================+ | CentOS Stream 9 (ARM) | PASS | SKIPPED | SKIPPED | SKIPPED | +-----------------------------+----------------+--------------+---------------------------+------------------------------+ | Debian 11 (Buster) (ARM) | PASS | SKIPPED | SKIPPED | SKIPPED | +-----------------------------+----------------+--------------+---------------------------+------------------------------+ | Fedora 41 (ARM) | PASS | SKIPPED | SKIPPED | SKIPPED | +-----------------------------+----------------+--------------+---------------------------+------------------------------+ | Debian 12 (arm) | PASS | SKIPPED | PASS | PASS | +-----------------------------+----------------+--------------+---------------------------+------------------------------+ | Fedora 40 (ARM) | PASS | SKIPPED | SKIPPED | SKIPPED | +-----------------------------+----------------+--------------+---------------------------+------------------------------+ | Fedora 40 (ARM Clang) | PASS | SKIPPED | SKIPPED | SKIPPED | +-----------------------------+----------------+--------------+---------------------------+------------------------------+ | Fedora 41 (ARM Clang) | PASS | SKIPPED | SKIPPED | SKIPPED | +-----------------------------+----------------+--------------+---------------------------+------------------------------+ | Ubuntu 20.04 (ARM) | PASS | SKIPPED | SKIPPED | SKIPPED | +-----------------------------+----------------+--------------+---------------------------+------------------------------+ | RHEL9 (ARM) | PASS | SKIPPED | SKIPPED | SKIPPED | +-----------------------------+----------------+--------------+---------------------------+------------------------------+ | Ubuntu 22.04 (ARM) | PASS | SKIPPED | SKIPPED | SKIPPED | +-----------------------------+----------------+--------------+---------------------------+------------------------------+ | 32-bit Ubuntu 22.04.4 (ARM) | PASS | SKIPPED | SKIPPED | SKIPPED | +-----------------------------+----------------+--------------+---------------------------+------------------------------+ | Ubuntu 24.04 (ARM) | PASS | SKIPPED | SKIPPED | SKIPPED | +-----------------------------+----------------+--------------+---------------------------+------------------------------+ | Ubuntu 20.04 ARM SVE | SKIPPED | PASS | SKIPPED | SKIPPED | +-----------------------------+----------------+--------------+---------------------------+------------------------------+ CentOS Stream 9 (ARM) Kernel: Depends on container host Compiler: gcc 11.5.0 20240719 (Red Hat 11.5.0-2) Debian 11 (Buster) (ARM) Kernel: Depends on container host Compiler: gcc (Debian 10.2.1-6) 10.2.1 20210110 Fedora 41 (ARM) Kernel: Depends on container host Compiler: gcc 14.2.1 20240912 (Red Hat 14.2.1-3) Debian 12 (arm) Kernel: Depends on container host Compiler: gcc (Debian 12.2.0-14) 12.2.0 Fedora 40 (ARM) Kernel: Depends on container host Compiler: gcc 14.2.1 20240912 (Red Hat 14.2.1-3) Fedora 40 (ARM Clang) Kernel: Depends on container host Compiler: clang 18.1.8 (Fedora 18.1.8-1.fc40) Fedora 41 (ARM Clang) Kernel: Depends on container host Compiler: clang 19.1.5 (Fedora 19.1.5-1.fc41) Ubuntu 20.04 (ARM) Kernel: Depends on container host Compiler: gcc (Ubuntu 9.4.0-1ubuntu1~20.04.2) 9.4.0 RHEL9 (ARM) Kernel: Depends on container host Compiler: gcc 11.5.0 20240719 (Red Hat 11.5.0-2) Ubuntu 22.04 (ARM) Kernel: Depends on container host Compiler: gcc (Ubuntu 11.4.0-1ubuntu1~22.04) 11.4.0 32-bit Ubuntu 22.04.4 (ARM) Kernel: 5.15.83+ aarch64 Compiler: gcc (Ubuntu 11.4.0-1ubuntu1~22.04) 11.4.0 Ubuntu 24.04 (ARM) Kernel: Depends on container host Compiler: gcc (Ubuntu 13.3.0-6ubuntu2~24.04) 13.3.0 Ubuntu 20.04 ARM SVE Kernel: Depends on container host Compiler: gcc (Ubuntu 10.5.0-1ubuntu1~20.04) 10.5.0 To view detailed results, visit: https://lab.dpdk.org/results/dashboard/tarballs/32523/ UNH-IOL DPDK Community Lab To manage your email subscriptions, visit: https://lab.dpdk.org/results/dashboard/preferences/subscriptions/