From mboxrd@z Thu Jan 1 00:00:00 1970 Return-Path: Received: from mails.dpdk.org (mails.dpdk.org [217.70.189.124]) by inbox.dpdk.org (Postfix) with ESMTP id D6348461E4 for ; Mon, 10 Feb 2025 08:56:02 +0100 (CET) Received: from mails.dpdk.org (localhost [127.0.0.1]) by mails.dpdk.org (Postfix) with ESMTP id C47AF40E49; Mon, 10 Feb 2025 08:56:02 +0100 (CET) Received: from mail-pl1-f228.google.com (mail-pl1-f228.google.com [209.85.214.228]) by mails.dpdk.org (Postfix) with ESMTP id B12DC40E54 for ; Mon, 10 Feb 2025 08:56:00 +0100 (CET) Received: by mail-pl1-f228.google.com with SMTP id d9443c01a7336-21f50895565so37914435ad.2 for ; Sun, 09 Feb 2025 23:56:00 -0800 (PST) DKIM-Signature: v=1; a=rsa-sha256; c=relaxed/relaxed; d=iol.unh.edu; s=unh-iol; t=1739174160; x=1739778960; darn=dpdk.org; h=cc:to:from:subject:message-id:date:from:to:cc:subject:date :message-id:reply-to; bh=MNAZOd6beHg7vBur1VWERyxhK+RbsKH+urRyfBgHKoE=; b=PdQP1GS8V3BdhZD8CvuNe+gyl8VvZWHE2jqKgXLXMQiVwrgB+orEj8e0tTVKHtH/1C OsZpJFw3FleCq4o5CnmUAlKLfxOGxC3vRJHhSqspN+nIoPXrCICZicSb8hoVLWtwa/ZA PB+eYbDkyZHKtZtU0dQ4UqmQqGFJ7nxIm2e2I= X-Google-DKIM-Signature: v=1; a=rsa-sha256; c=relaxed/relaxed; d=1e100.net; s=20230601; t=1739174160; x=1739778960; h=cc:to:from:subject:message-id:date:x-gm-message-state:from:to:cc :subject:date:message-id:reply-to; bh=MNAZOd6beHg7vBur1VWERyxhK+RbsKH+urRyfBgHKoE=; b=jOFij0XSfDHgbzKBa5w82ucuv7ynbATiJVTb/x/jj1+mLNgcmf8J85v3YiONtFSw/i 4wcrQd7Cvi66BjyqW9H7/GveSClQ4SElKlVOclq+ZyaBem59Dvxn9IYIEK2piB2XapoC AjhWJak54xS0jOCrCinJFazSr1i18cfrGL/sSNrSjVbLyjjpk45sO+Pbi1ZFvDY/LsaS VKvKSvAK1st5sv4DFcwpoO+D+DTeKxnCj3IlSoC/T5PLKwImUQG0ETKZZCDlPEYAYQZw BBbFz6aXkwi0HChOM57fVw2113ocI+xDdr5zLGchage0eZ/eeJQ3pssETccjD2knQ2RL Oe8g== X-Gm-Message-State: AOJu0YwNpdr6zc13nei/98RrRYPDI4so/M9O5YknjRLcZUykc2u5a6rw lSppHqNnWlRgidDPeJSrKbkAC5g8WlkF+8nf0w85y8XX/GRRWkn4Zh7VP2ncOQNJOmmCGMU5SVV rW/5pxh4MVAY3PwYPdP7zyq1uFIAofEr2 X-Gm-Gg: ASbGncvxUZxW66DgwxO//eOqNbkjaOuUF6CmrUKAqBP0ARPQjKXU8HnEkfeADNBziNW xmEp9VQB+6kP0N0Zvzp8TojzqZPPP1gRAOWgNeEEwjVzTTtDeeeBFvaRXGoarlVkS/zg+w0DmfB h3b2EqLNvhjjYszPhJJPtTUX0P52hKb3O/KihAqiDjxhOlNzh//67Qbz787ECc3O+Wl5qKB+MfS su5gmk8i7QHaKC7uwshPzExTlrs81JAEhipKQr6dXjB7Yl/8ZQJT0tJUyvE5ovkgg9NLtEYByi2 7FQIc3iYL7kBu5qVtU/qylVw34ixXg== X-Google-Smtp-Source: AGHT+IGa7S18dXK38sDmxzQX8ylAvJq5P/h3i3bwl1pE77WgUzevA2BOqyAoHfHOv3PiCx93qNPNiB0tlf/D X-Received: by 2002:a17:902:fc85:b0:216:3466:7414 with SMTP id d9443c01a7336-21f4e76df0cmr223239455ad.44.1739174159963; Sun, 09 Feb 2025 23:55:59 -0800 (PST) Received: from postal.iol.unh.edu (postal.iol.unh.edu. [132.177.123.84]) by smtp-relay.gmail.com with ESMTPS id d9443c01a7336-21f368a1ef3sm5351075ad.125.2025.02.09.23.55.59 (version=TLS1_2 cipher=ECDHE-ECDSA-AES128-GCM-SHA256 bits=128/128); Sun, 09 Feb 2025 23:55:59 -0800 (PST) X-Relaying-Domain: iol.unh.edu Date: Sun, 09 Feb 2025 23:55:59 -0800 (PST) Message-ID: <67a9b10f.170a0220.aa790.b2aeSMTPIN_ADDED_MISSING@mx.google.com> Received: from [172.21.0.5] (unknown [172.18.0.240]) by postal.iol.unh.edu (Postfix) with ESMTP id 1BD5C6052471; Mon, 10 Feb 2025 02:55:59 -0500 (EST) Subject: |SUCCESS| [GIT MASTER] c66daa12e76d7b4912cfb7109a761856a7a873ab From: dpdklab@iol.unh.edu To: Test Report Cc: dpdk-test-reports@iol.unh.edu, Xueming Li , Christian Ehrhardt , Kevin Traynor , Luca Boccassi Content-Type: text/plain X-BeenThere: test-report@dpdk.org X-Mailman-Version: 2.1.29 Precedence: list List-Id: automatic DPDK test reports List-Unsubscribe: , List-Archive: List-Post: List-Help: List-Subscribe: , Errors-To: test-report-bounces@dpdk.org _Testing PASS_ Branch: tags/v23.11 c66daa12e76d7b4912cfb7109a761856a7a873ab --> testing pass Upstream job id: Generic-Unit-Test-DPDK#313573 Test environment and result as below: +---------------------+----------------+ | Environment | dpdk_unit_test | +=====================+================+ | Debian 12 | PASS | +---------------------+----------------+ | Fedora 40 (Clang) | PASS | +---------------------+----------------+ | CentOS Stream 9 | PASS | +---------------------+----------------+ | Debian Bullseye | PASS | +---------------------+----------------+ | Fedora 40 | PASS | +---------------------+----------------+ | Fedora 41 (Clang) | PASS | +---------------------+----------------+ | RHEL8 | PASS | +---------------------+----------------+ | Ubuntu 22.04 | PASS | +---------------------+----------------+ | RHEL9 | PASS | +---------------------+----------------+ | Fedora 41 | PASS | +---------------------+----------------+ | Ubuntu 20.04 | PASS | +---------------------+----------------+ | Ubuntu 24.04 | PASS | +---------------------+----------------+ | Windows Server 2022 | PASS | +---------------------+----------------+ Debian 12 Kernel: Depends on container host Compiler: gcc (Debian 12.2.0-14) 12.2.0 Fedora 40 (Clang) Kernel: Depends on container host Compiler: clang 18.1.8 (Fedora 18.1.8-1.fc40) CentOS Stream 9 Kernel: Depends on container host Compiler: gcc 11.5.0 20240719 (Red Hat 11.5.0-2) Debian Bullseye Kernel: Depends on container host Compiler: gcc (Debian 10.2.1-6) 10.2.1 20210110 Fedora 40 Kernel: Depends on container host Compiler: gcc 14.2.1 20240912 (Red Hat 14.2.1-3) Fedora 41 (Clang) Kernel: Depends on container host Compiler: clang 19.1.5 (Fedora 19.1.5-1.fc41) RHEL8 Kernel: Depends on container host Compiler: gcc 8.5.0 20210514 (Red Hat 8.5.0-22) Ubuntu 22.04 Kernel: Depends on container host Compiler: gcc (Ubuntu 11.4.0-1ubuntu1~22.04) 11.4.0 RHEL9 Kernel: Depends on container host Compiler: gcc 11.5.0 20240719 (Red Hat 11.5.0-2) Fedora 41 Kernel: Depends on container host Compiler: gcc 14.2.1 20240912 (Red Hat 14.2.1-3) Ubuntu 20.04 Kernel: Depends on container host Compiler: gcc (Ubuntu 9.4.0-1ubuntu1~20.04.2) 9.4.0 Ubuntu 24.04 Kernel: Depends on container host Compiler: gcc (Ubuntu 13.3.0-6ubuntu2~24.04) 13.3.0 Windows Server 2022 Kernel: 10.0.20348.2031 Compiler: clang 15.0.7, gcc 14.1.0 (MinGW), and MSVC VS 19.39.33521 To view detailed results, visit: https://lab.dpdk.org/results/dashboard/tarballs/32523/ UNH-IOL DPDK Community Lab To manage your email subscriptions, visit: https://lab.dpdk.org/results/dashboard/preferences/subscriptions/