From mboxrd@z Thu Jan 1 00:00:00 1970 Return-Path: Received: from mails.dpdk.org (mails.dpdk.org [217.70.189.124]) by inbox.dpdk.org (Postfix) with ESMTP id B057E461E4 for ; Mon, 10 Feb 2025 09:18:59 +0100 (CET) Received: from mails.dpdk.org (localhost [127.0.0.1]) by mails.dpdk.org (Postfix) with ESMTP id AD23040268; Mon, 10 Feb 2025 09:18:59 +0100 (CET) Received: from mail-il1-f226.google.com (mail-il1-f226.google.com [209.85.166.226]) by mails.dpdk.org (Postfix) with ESMTP id C5CF240150 for ; Mon, 10 Feb 2025 09:18:58 +0100 (CET) Received: by mail-il1-f226.google.com with SMTP id e9e14a558f8ab-3d150512bd5so5366345ab.3 for ; Mon, 10 Feb 2025 00:18:58 -0800 (PST) DKIM-Signature: v=1; a=rsa-sha256; c=relaxed/relaxed; d=iol.unh.edu; s=unh-iol; t=1739175538; x=1739780338; darn=dpdk.org; h=cc:to:from:subject:message-id:date:from:to:cc:subject:date :message-id:reply-to; bh=rBw7jNA1KpszVQ81+Eb3wqfwGRYy0QrLU71zDFyLRaQ=; b=gB/3OP8RPH9m6QE3VxNIOFidOdHQ8Ujb7b4funZq7iJQv6XS2vrXRdI5NtSlaVB+Nu /oMJ9V2qMZUkF9DJ5jZXtFnDH3n18E7ZsIW2iDuOxdlfH05gsro9gcqrJ5uhaZHWW115 QyOs3rMwby4n8cmC7XBdHAFDPfWFd/JmHkwrs= X-Google-DKIM-Signature: v=1; a=rsa-sha256; c=relaxed/relaxed; d=1e100.net; s=20230601; t=1739175538; x=1739780338; h=cc:to:from:subject:message-id:date:x-gm-message-state:from:to:cc :subject:date:message-id:reply-to; bh=rBw7jNA1KpszVQ81+Eb3wqfwGRYy0QrLU71zDFyLRaQ=; b=tFbAJhVTlBlFs3Zafag42Jx9OuWVP67ikZxHzP7IstGByiELpz+c+mgRhGAGPAZsIL L/7Ps6noRE3WMd30lianpi6kJQpEoGtyrXIpKbfPrPfRSq2+OzgBmts3HlqWKBf+2/oq 6o/Xs4Qg67ohefba4C3BH2wZs+tRDAGEj9FCkt/W1ZwvF4WaBBvJ2oostjV/R81yYwN/ d15UtMSvEyVX9HugDFxs9xzQBdgMFrpqoHat2lkQxeSFr+xMGkRXO93Bx2EmzcOQyD8N q75DBWysR9BBROtiDpzKcdV4FeTZkvQjvn31/Wh/ZJdvl0bAoFaIiYWdPEgZSWHOmdqI i6jA== X-Gm-Message-State: AOJu0Yz3DGWv034mKH3LHCPKMe/eCN1uoqo9hdOVtlypGiA5/UqH7Abo 6k2oB5S9T+iCVQRSuE/TqA8bUmXZQYrbqkMw+3IyKsRIYd+IJROjGeeeOmZtpvGwkhWVDe9sd9E xSn+R64f9hgpwKxO7h4CrjlBHNe3AT0CV X-Gm-Gg: ASbGnctF1IBjyVadckhKB5eXc0zSVRisZxfLfyG6CsHjUjHxBySwD+Y1lh3eb3VT3ln CyjGAsxv9Va4+e+c4JESKipjgjEHXULDkTeZ9cB9q0EX3b1J0YXRWZ86VdoS9hVxV7WJZgRFoDl zRwRUEYfUKg2Pdl7OxHkOyJ6GHBZmJua4LPFCUh7iAQJwAQRlxNr44OhkoqMpCnk+CKd+ib8R/H PA2/mk7AKRZXuwXr6slv9dCTOH1RP5zBmlChoL6qMyzf4eeUmfJrW4UIlIX7aWStrAOaC/hja4/ 43MeFjgxY7IKv8Cw6jwwylvLtk38cA== X-Google-Smtp-Source: AGHT+IGwHEtxVcG2FbSsvExOLC8Cki+CKJ46axJTqNbA99s1aQ5s9jzbB04in02gsiMpV3hX+EZ+f1iKoab3 X-Received: by 2002:a05:6e02:20c9:b0:3d0:4700:db18 with SMTP id e9e14a558f8ab-3d13df1108amr85488775ab.20.1739175538139; Mon, 10 Feb 2025 00:18:58 -0800 (PST) Received: from postal.iol.unh.edu (postal.iol.unh.edu. [132.177.123.84]) by smtp-relay.gmail.com with ESMTPS id e9e14a558f8ab-3d14631981esm3866225ab.23.2025.02.10.00.18.58 (version=TLS1_2 cipher=ECDHE-ECDSA-AES128-GCM-SHA256 bits=128/128); Mon, 10 Feb 2025 00:18:58 -0800 (PST) X-Relaying-Domain: iol.unh.edu Date: Mon, 10 Feb 2025 00:18:58 -0800 (PST) Message-ID: <67a9b672.050a0220.9a5c.2851SMTPIN_ADDED_MISSING@mx.google.com> Received: from [172.21.0.5] (unknown [172.18.0.240]) by postal.iol.unh.edu (Postfix) with ESMTP id 9834F6052471; Mon, 10 Feb 2025 03:18:57 -0500 (EST) Subject: |WARNING| [GIT MASTER] c66daa12e76d7b4912cfb7109a761856a7a873ab From: dpdklab@iol.unh.edu To: Test Report Cc: dpdk-test-reports@iol.unh.edu, Xueming Li , Christian Ehrhardt , Kevin Traynor , Luca Boccassi Content-Type: text/plain X-BeenThere: test-report@dpdk.org X-Mailman-Version: 2.1.29 Precedence: list List-Id: automatic DPDK test reports List-Unsubscribe: , List-Archive: List-Post: List-Help: List-Subscribe: , Errors-To: test-report-bounces@dpdk.org _Testing issues_ Branch: tags/v23.11 c66daa12e76d7b4912cfb7109a761856a7a873ab --> testing issues Upstream job id: ACVP-FIPS-testing#8859 Test environment and result as below: +--------------------+----------------------+----------------------+ | Environment | compressdev_zlib_pmd | dpdk_fips_validation | +====================+======================+======================+ | Ubuntu 22.04 (ARM) | PASS | SKIPPED | +--------------------+----------------------+----------------------+ | Ubuntu 22.04 | PASS | SKIPPED | +--------------------+----------------------+----------------------+ | Ubuntu 20.04 | SKIPPED | WARN | +--------------------+----------------------+----------------------+ ==== 20 line log output for Ubuntu 20.04 (dpdk_fips_validation): ==== INFO:root:Uploading response file... INFO:root:Fetching verdict... INFO:root:Downloading verdict for vector set 2881377 INFO:root:Vector set verdict not ready, waiting 30 seconds... INFO:root:Vector set verdict not ready, waiting 30 seconds... INFO:root:Done INFO:root:Using response file... INFO:root:Uploading response file... INFO:root:Fetching verdict... INFO:root:Downloading verdict for vector set 2881378 INFO:root:Vector set verdict not ready, waiting 30 seconds... INFO:root:Vector set verdict not ready, waiting 30 seconds... INFO:root:Done INFO:root:Using response file... INFO:root:Uploading response file... INFO:root:Fetching verdict... INFO:root:Downloading verdict for vector set 2881380 INFO:root:Vector set verdict not ready, waiting 30 seconds... INFO:root:Vector set verdict not ready, waiting 30 seconds... INFO:root:Done ==== End log output ==== Ubuntu 22.04 (ARM) Kernel: 5.15.0-97-generic Compiler: gcc gcc (Ubuntu 11.4.0-1ubuntu1~22.04) 11.4.0 Ubuntu 22.04 Kernel: 5.15.0-100-generic Compiler: gcc gcc (Ubuntu 11.4.0-1ubuntu1~22.04) 11.4.0 Ubuntu 20.04 Kernel: Depends on container host Compiler: gcc (Ubuntu 9.4.0-1ubuntu1~20.04.2) 9.4.0 To view detailed results, visit: https://lab.dpdk.org/results/dashboard/tarballs/32523/ UNH-IOL DPDK Community Lab To manage your email subscriptions, visit: https://lab.dpdk.org/results/dashboard/preferences/subscriptions/