From mboxrd@z Thu Jan 1 00:00:00 1970 Return-Path: Received: from mails.dpdk.org (mails.dpdk.org [217.70.189.124]) by inbox.dpdk.org (Postfix) with ESMTP id D2E64461E4 for ; Mon, 10 Feb 2025 09:20:12 +0100 (CET) Received: from mails.dpdk.org (localhost [127.0.0.1]) by mails.dpdk.org (Postfix) with ESMTP id CFAAB40268; Mon, 10 Feb 2025 09:20:12 +0100 (CET) Received: from mail-io1-f99.google.com (mail-io1-f99.google.com [209.85.166.99]) by mails.dpdk.org (Postfix) with ESMTP id 7B7C340150 for ; Mon, 10 Feb 2025 09:20:11 +0100 (CET) Received: by mail-io1-f99.google.com with SMTP id ca18e2360f4ac-844ce213af6so113363939f.1 for ; Mon, 10 Feb 2025 00:20:11 -0800 (PST) DKIM-Signature: v=1; a=rsa-sha256; c=relaxed/relaxed; d=iol.unh.edu; s=unh-iol; t=1739175610; x=1739780410; darn=dpdk.org; h=cc:to:from:subject:message-id:date:from:to:cc:subject:date :message-id:reply-to; bh=SN9a3ImJTYOkQ7ZWwKZTBZna41tMbm5ka4jV2az09q8=; b=C+Upfb0a8urPVPYs7Lf2YLx66ughrj4RD31+OyYgm5Gxkk8DEEKWhwbTU4mZfsiYij ax4lWgrvHUIZxtzRtFBxce/q5fDvgRwlMj8ze6TYFeQTfj1JbKCZzXk3BvTe/5WPW/mG zTClNXDhoguxNkgfn4Cm/fKRj5ePF1apmkAnE= X-Google-DKIM-Signature: v=1; a=rsa-sha256; c=relaxed/relaxed; d=1e100.net; s=20230601; t=1739175610; x=1739780410; h=cc:to:from:subject:message-id:date:x-gm-message-state:from:to:cc :subject:date:message-id:reply-to; bh=SN9a3ImJTYOkQ7ZWwKZTBZna41tMbm5ka4jV2az09q8=; b=l1PCt8TgEYqKNJfdAAuClAs6lBrFbvyfimdjsPuriuoxepV6IvsZFfJ/xaRG+Ce4hS /uBT1uYmTGX6Mt7jt8hlQ+/YSlBuo6hyx6CQsHBWRdoB3/gE99K4pdUjdPXpW/9563oe J4WXLEa4L/3B2bjDaHHPTYsnKgRCTyktC+x6hdikdNk8Zt3dm2ubiDKfyHk9Isd2FSfs 5i7LP/2LC9+Rk/1YaB167VEfgqMOgWcxdd8uXxxmHZ7HJS+WsN8uT4M4z92uc2N84OAW +FOpEnrDuH1eCKRp7pHrVm3mLBOwt3zdIxyDH5JyN/B8rwXVjQGZ8I8Fh7fhWtlzPYEm 1o/A== X-Gm-Message-State: AOJu0Yw+9MfYbsWW/70EA3WlqiftN7JsoZnYIY+zYbZAkyDVzNOChPgt KAHjdI0G4IujpE4AOTAgt01Dz2AsSGEj8a38TpRRB4lyIh689GMLBw4kCF/czLK4SZ++HK0nbK3 dZxB/ONZavufmBAW/vSg6jp7aCeoFTYwkLtXvZjxgsA/JeZz0 X-Gm-Gg: ASbGncvvJ1QU6fO4KxI/EQgf3TyihBgI1Wdc5DFZXVrQHx9/wtCBthQ8PkOxsjOa8tX yfU+xvblmGRfRnENQZ8YXGwmdGSAzjdzav3X0jWA0BHzWeovtvfiXZRVeHnR1sRmXuXlQTOeSi/ sOYTpfMbvEOo9ElraydXkJUMVA7zEQXdL6ysVDTFfqy0GX02QWURBqz+kwyDXY8oBoVELy9TyjH oewseIqD8NADKjSNkzreX/Fw+lWZtTj07ykqk6kLeHQ3ZvIR18qa99i0+A/JxWdWFZdbOXG84J9 z1fh2lhRjmF26OO+czNquQ7Q7dlT8cIuECPVCme11Q== X-Google-Smtp-Source: AGHT+IExNULbcK7T3PI+wEPedoOLDUvv2/TfAxRVCdidVxSTUeJS1HyjqAhO+OJjZc/xaarbKiko2XFH9754 X-Received: by 2002:a05:6602:29ac:b0:832:480d:6fe1 with SMTP id ca18e2360f4ac-854fd7a0b65mr1175513339f.0.1739175610649; Mon, 10 Feb 2025 00:20:10 -0800 (PST) Received: from postal.iol.unh.edu (postal.iol.unh.edu. [2606:4100:3880:1234::84]) by smtp-relay.gmail.com with ESMTPS id ca18e2360f4ac-854f675aeb7sm45316839f.25.2025.02.10.00.20.10 (version=TLS1_2 cipher=ECDHE-ECDSA-AES128-GCM-SHA256 bits=128/128); Mon, 10 Feb 2025 00:20:10 -0800 (PST) X-Relaying-Domain: iol.unh.edu Date: Mon, 10 Feb 2025 00:20:10 -0800 (PST) Message-ID: <67a9b6ba.050a0220.c9b8f.6f90SMTPIN_ADDED_MISSING@mx.google.com> Received: from [172.21.0.5] (unknown [172.18.0.240]) by postal.iol.unh.edu (Postfix) with ESMTP id EF74F6052471; Mon, 10 Feb 2025 03:20:09 -0500 (EST) Subject: |SUCCESS| [GIT MASTER] 7ce7d3341d7e21c2a81f2fea8e451681d7306d77 From: dpdklab@iol.unh.edu To: Test Report Cc: dpdk-test-reports@iol.unh.edu, Xueming Li , Christian Ehrhardt , Kevin Traynor , Luca Boccassi Content-Type: text/plain X-BeenThere: test-report@dpdk.org X-Mailman-Version: 2.1.29 Precedence: list List-Id: automatic DPDK test reports List-Unsubscribe: , List-Archive: List-Post: List-Help: List-Subscribe: , Errors-To: test-report-bounces@dpdk.org _Testing PASS_ Branch: tags/v22.11 7ce7d3341d7e21c2a81f2fea8e451681d7306d77 --> testing pass Upstream job id: Generic-DPDK-Compile-ABI#115631 Test environment and result as below: +-------------------+----------+ | Environment | abi_test | +===================+==========+ | CentOS Stream 9 | PASS | +-------------------+----------+ | Debian Bullseye | PASS | +-------------------+----------+ | Fedora 40 (Clang) | PASS | +-------------------+----------+ | Fedora 40 | PASS | +-------------------+----------+ | Debian 12 | PASS | +-------------------+----------+ | Ubuntu 22.04 | PASS | +-------------------+----------+ | Fedora 41 (Clang) | PASS | +-------------------+----------+ | Ubuntu 24.04 | PASS | +-------------------+----------+ | RHEL8 | PASS | +-------------------+----------+ | openSUSE Leap 15 | PASS | +-------------------+----------+ | RHEL9 | PASS | +-------------------+----------+ | Fedora 41 | PASS | +-------------------+----------+ CentOS Stream 9 Kernel: Depends on container host Compiler: gcc 11.5.0 20240719 (Red Hat 11.5.0-2) Debian Bullseye Kernel: Depends on container host Compiler: gcc (Debian 10.2.1-6) 10.2.1 20210110 Fedora 40 (Clang) Kernel: Depends on container host Compiler: clang 18.1.8 (Fedora 18.1.8-1.fc40) Fedora 40 Kernel: Depends on container host Compiler: gcc 14.2.1 20240912 (Red Hat 14.2.1-3) Debian 12 Kernel: Depends on container host Compiler: gcc (Debian 12.2.0-14) 12.2.0 Ubuntu 22.04 Kernel: Depends on container host Compiler: gcc (Ubuntu 11.4.0-1ubuntu1~22.04) 11.4.0 Fedora 41 (Clang) Kernel: Depends on container host Compiler: clang 19.1.5 (Fedora 19.1.5-1.fc41) Ubuntu 24.04 Kernel: Depends on container host Compiler: gcc (Ubuntu 13.3.0-6ubuntu2~24.04) 13.3.0 RHEL8 Kernel: Depends on container host Compiler: gcc 8.5.0 20210514 (Red Hat 8.5.0-22) openSUSE Leap 15 Kernel: Depends on container host Compiler: gcc (SUSE Linux) 7.5.0 RHEL9 Kernel: Depends on container host Compiler: gcc 11.5.0 20240719 (Red Hat 11.5.0-2) Fedora 41 Kernel: Depends on container host Compiler: gcc 14.2.1 20240912 (Red Hat 14.2.1-3) To view detailed results, visit: https://lab.dpdk.org/results/dashboard/tarballs/32524/ UNH-IOL DPDK Community Lab To manage your email subscriptions, visit: https://lab.dpdk.org/results/dashboard/preferences/subscriptions/