From mboxrd@z Thu Jan 1 00:00:00 1970 Return-Path: Received: from mails.dpdk.org (mails.dpdk.org [217.70.189.124]) by inbox.dpdk.org (Postfix) with ESMTP id AD7E9461EB for ; Mon, 10 Feb 2025 10:09:56 +0100 (CET) Received: from mails.dpdk.org (localhost [127.0.0.1]) by mails.dpdk.org (Postfix) with ESMTP id 9261540268; Mon, 10 Feb 2025 10:09:56 +0100 (CET) Received: from mail-yb1-f226.google.com (mail-yb1-f226.google.com [209.85.219.226]) by mails.dpdk.org (Postfix) with ESMTP id 5B20540150 for ; Mon, 10 Feb 2025 10:09:55 +0100 (CET) Received: by mail-yb1-f226.google.com with SMTP id 3f1490d57ef6-e5ad75ca787so3426129276.0 for ; Mon, 10 Feb 2025 01:09:55 -0800 (PST) DKIM-Signature: v=1; a=rsa-sha256; c=relaxed/relaxed; d=iol.unh.edu; s=unh-iol; t=1739178594; x=1739783394; darn=dpdk.org; h=cc:to:from:subject:message-id:date:from:to:cc:subject:date :message-id:reply-to; bh=fvOyeEaLWA/T8/5CDwcwi//GI2JE7x9kfk3kdmiwKY8=; b=OmGg/7+Rp46h2PCUFt9Ani7sA+c149/PTrACmKIEvb9oFHqTijX4ougFiskCiIHSbb FjxmjPHyl3Ev1lNIj/ZoTIIq4fWJUWZK1eHL1WE0RjbhF2QHr3cWPZaj5noECym+akos qmjY6Gw63rLYS869Ymy01dwfm0dA+6h9CL3TU= X-Google-DKIM-Signature: v=1; a=rsa-sha256; c=relaxed/relaxed; d=1e100.net; s=20230601; t=1739178594; x=1739783394; h=cc:to:from:subject:message-id:date:x-gm-message-state:from:to:cc :subject:date:message-id:reply-to; bh=fvOyeEaLWA/T8/5CDwcwi//GI2JE7x9kfk3kdmiwKY8=; b=OHdwgvhfal0xjpOEx7q0KqmUyEPB0+UirtuzWH4wiwICUUjau0EzktG9xKRzijbjzW Mi98Mpoa6Z91/9vhSDpzajs1YkFQYSFCe+bOKapO6K8grj2U2ibqrpUOWjjVuKMgMAix qIMYg7qphgN33PGNwWDpqogFi4K3dc9x3Ot4jiuCWxWSQq2b5HkScIeIhiY5ZnzbCm1W QMuZMzWbxzmwf9s/sv4aZBFbmAaFBGYYHCs0LmgQhX+Rze8yZ6JqbL6+c3sJOdUmOMC+ 8YxuZuUDHgJPo9daXgp5H2SuCgOGH2ZO2DyxBSSjg0K6Mxer/NwZMUB2YWgfVe1FrP2u +w+A== X-Gm-Message-State: AOJu0YwAe2za5OWbVIyPpkVBXkk3wqqnmbd6I7WbnK8ktlDtr1URYQEP IivyoCBbRX5VhL9sSlDs3VZ63P3UHPBQi8GokbMPLmXQb0e7SJteAjafHYJ9JL0r/YO0ULheppV cck0TPBrUk1RY2Yqwo0OdXuNoRoCVxX8J X-Gm-Gg: ASbGncusovtIMjO12IBnodMc1/K13uMiP1GcT4BMJXFLCmpZNST51BUAiCU3yDnjOPv klqLevZpNpj8+kTN/1weM+I3l0Nc49yhzDgt7+qEFRuME+nObcNUH4c8N/ZB5mNGX5jGZdVXI0S fuD4ijSGf8DklRZwXpXSN5Wy0GeI8k/8PLbI8iyIDkGae5KDRiq5Y/YfulF1yfLhZqqkir7nnnU CbmUOts9Hdxps1rIEmYwnFROlVUxQ0AjhHboQZIoV0alSVpx4c5JxPVXK3fisDzlJw1hivZSjAu 7FYjdkSlNQGAQKReumM0HO81/T6jdw== X-Google-Smtp-Source: AGHT+IFUPdyz8lR5Ucw+LE5trZdhm2KnX38IQ8Y0b+HPKwD/Rbc/UWR6qLrgf2FMa85+okY7c+fQTTp7PNiN X-Received: by 2002:a05:6902:986:b0:e38:d040:eeed with SMTP id 3f1490d57ef6-e5b46c7f0e7mr10041888276.15.1739178594758; Mon, 10 Feb 2025 01:09:54 -0800 (PST) Received: from postal.iol.unh.edu (postal.iol.unh.edu. [132.177.123.84]) by smtp-relay.gmail.com with ESMTPS id 3f1490d57ef6-e5b3a21e1desm501111276.12.2025.02.10.01.09.54 (version=TLS1_2 cipher=ECDHE-ECDSA-AES128-GCM-SHA256 bits=128/128); Mon, 10 Feb 2025 01:09:54 -0800 (PST) X-Relaying-Domain: iol.unh.edu Date: Mon, 10 Feb 2025 01:09:54 -0800 (PST) Message-ID: <67a9c262.250a0220.1b5a2f.bb85SMTPIN_ADDED_MISSING@mx.google.com> Received: from [172.21.0.5] (unknown [172.18.0.240]) by postal.iol.unh.edu (Postfix) with ESMTP id 5BA7C6052471; Mon, 10 Feb 2025 04:09:54 -0500 (EST) Subject: |SUCCESS| [GIT MASTER] 7ce7d3341d7e21c2a81f2fea8e451681d7306d77 From: dpdklab@iol.unh.edu To: Test Report Cc: dpdk-test-reports@iol.unh.edu, Xueming Li , Christian Ehrhardt , Kevin Traynor , Luca Boccassi Content-Type: text/plain X-BeenThere: test-report@dpdk.org X-Mailman-Version: 2.1.29 Precedence: list List-Id: automatic DPDK test reports List-Unsubscribe: , List-Archive: List-Post: List-Help: List-Subscribe: , Errors-To: test-report-bounces@dpdk.org _Testing PASS_ Branch: tags/v22.11 7ce7d3341d7e21c2a81f2fea8e451681d7306d77 --> testing pass Upstream job id: Generic-Unit-Test-DPDK#313601 Test environment and result as below: +-----------------------------+------------------------------+---------------------------+--------------+----------------+ | Environment | cryptodev_sw_snow3g_autotest | cryptodev_sw_zuc_autotest | lpm_autotest | dpdk_unit_test | +=============================+==============================+===========================+==============+================+ | Debian 12 (arm) | PASS | PASS | SKIPPED | SKIPPED | +-----------------------------+------------------------------+---------------------------+--------------+----------------+ | Ubuntu 20.04 ARM SVE | SKIPPED | SKIPPED | PASS | SKIPPED | +-----------------------------+------------------------------+---------------------------+--------------+----------------+ | 32-bit Ubuntu 22.04.4 (ARM) | SKIPPED | SKIPPED | SKIPPED | PASS | +-----------------------------+------------------------------+---------------------------+--------------+----------------+ Debian 12 (arm) Kernel: Depends on container host Compiler: gcc (Debian 12.2.0-14) 12.2.0 Ubuntu 20.04 ARM SVE Kernel: Depends on container host Compiler: gcc (Ubuntu 10.5.0-1ubuntu1~20.04) 10.5.0 32-bit Ubuntu 22.04.4 (ARM) Kernel: 5.15.83+ aarch64 Compiler: gcc (Ubuntu 11.4.0-1ubuntu1~22.04) 11.4.0 To view detailed results, visit: https://lab.dpdk.org/results/dashboard/tarballs/32524/ UNH-IOL DPDK Community Lab To manage your email subscriptions, visit: https://lab.dpdk.org/results/dashboard/preferences/subscriptions/