From mboxrd@z Thu Jan 1 00:00:00 1970 Return-Path: Received: from mails.dpdk.org (mails.dpdk.org [217.70.189.124]) by inbox.dpdk.org (Postfix) with ESMTP id 622D6461AE for ; Mon, 10 Feb 2025 10:28:32 +0100 (CET) Received: from mails.dpdk.org (localhost [127.0.0.1]) by mails.dpdk.org (Postfix) with ESMTP id 3C83840268; Mon, 10 Feb 2025 10:28:32 +0100 (CET) Received: from mail-oa1-f100.google.com (mail-oa1-f100.google.com [209.85.160.100]) by mails.dpdk.org (Postfix) with ESMTP id 5AF3B40150 for ; Mon, 10 Feb 2025 10:28:30 +0100 (CET) Received: by mail-oa1-f100.google.com with SMTP id 586e51a60fabf-2b1a9cbfc8dso1235616fac.2 for ; Mon, 10 Feb 2025 01:28:30 -0800 (PST) DKIM-Signature: v=1; a=rsa-sha256; c=relaxed/relaxed; d=iol.unh.edu; s=unh-iol; t=1739179709; x=1739784509; darn=dpdk.org; h=cc:to:from:subject:message-id:date:from:to:cc:subject:date :message-id:reply-to; bh=cuZ3fdWbUMBtp/GCdFBb6UWfc8VI2WfCpJT4uIIcFBM=; b=JWqTujydf5y4DmujfqS00BM3gqOG3VWwl3v8JCLzMo8qg5I0Z7MDAVszNUiNBrZ6Va uJVYUeB57ZY79cG9nbKpZYrHvTbCYzhohZToZUP+IMel+TXWIO3Bn7jLhqiQeUVzQjtS Xa4Pv2S7r7fsuHqGHG/Mn45wINvNLsttvUbSM= X-Google-DKIM-Signature: v=1; a=rsa-sha256; c=relaxed/relaxed; d=1e100.net; s=20230601; t=1739179709; x=1739784509; h=cc:to:from:subject:message-id:date:x-gm-message-state:from:to:cc :subject:date:message-id:reply-to; bh=cuZ3fdWbUMBtp/GCdFBb6UWfc8VI2WfCpJT4uIIcFBM=; b=JcQvvMoOS9y844CXoY4U+EIf7g+9ghaHVdPeaj8kVwTJz0bDPj04g+IIsc54OPIvkj Pbcf8SF1PG6h5ZY5Ma4prdOw9/xUnNa4qX69spHqqx4OnvLjK7i/FaWnvZ+HpPaXh5jE MqMfjMJdf53pZDXLojErQqrk9A7HjcpVcarITEjJ94QeEsY3gtH1my2qB+Tbeu9uneQM SSbrWcfpFFu+6TCIm5O/+IhA0sndw38jZfTsPC7BWF4L2njYchvVLGnKcc6BiTlNcBBM /q3cz7ovvN8+PiIfRMkx9tk2e37YPSTHlXVzv2/T4/0pcb9+tcKp9mBqKF5TfqDcY7nB zqSA== X-Gm-Message-State: AOJu0YxdxhPQvWjTPjjUCR9D5srkVnZac9iL4rep0NUpnMXisAX/3tMT RZYhgcVrW2OKEmB5eZVRRatRmjhfnrriVriymxYFQ5xJLCJSlIwxyHjv8kCHIxEQAjEfb5GUE++ lnFfZoksttG71UJZYsOjojMyrMcDcIVfqeDpZsXqfWjMit8Ze X-Gm-Gg: ASbGnctcAxQibsgwdYtYGoUbg2yqSZkjZsE+bG6Cb/go84pHHLwNsrg7d9CGrx7aWF3 26sofc8CsPzO5K5QxA8q6zVTlg+qdvth0bJEei0qAZXxkTvvLcFdfikJwi6/R9LeeJi9SB2VcVx hrS2k67kHU0AegPY+y650bZcD0WuaGjOPCd+v+dwg9HxZ5JFwgsED1Zb60qz8zTdwZ2wLlJFJ5J sOsKZR4u4Htk5V3Qx7s7hxAy2EbB4jNeZpoGWPJ/wSTPGw+29duHDbZDsVt3d7QMxp722qqfCTc htjx578aE9x09EGVNDJdCEznv9WqZ+SUCQo9BNBdVQ== X-Google-Smtp-Source: AGHT+IHGb0nlbvfGeDsmiFag+CoG0cvxuivTIkLi725H8GDWmrls9Odd6C1Mjbb3Xg7aS8zkPvr5uTilGwUk X-Received: by 2002:a05:6870:9729:b0:29e:5de2:cffb with SMTP id 586e51a60fabf-2b83ecc3070mr7287605fac.17.1739179709453; Mon, 10 Feb 2025 01:28:29 -0800 (PST) Received: from postal.iol.unh.edu (postal.iol.unh.edu. [2606:4100:3880:1234::84]) by smtp-relay.gmail.com with ESMTPS id 586e51a60fabf-2b856684362sm240702fac.29.2025.02.10.01.28.29 (version=TLS1_2 cipher=ECDHE-ECDSA-AES128-GCM-SHA256 bits=128/128); Mon, 10 Feb 2025 01:28:29 -0800 (PST) X-Relaying-Domain: iol.unh.edu Date: Mon, 10 Feb 2025 01:28:29 -0800 (PST) Message-ID: <67a9c6bd.050a0220.1e7236.c214SMTPIN_ADDED_MISSING@mx.google.com> Received: from [172.21.0.5] (unknown [172.18.0.240]) by postal.iol.unh.edu (Postfix) with ESMTP id 0561C6052471; Mon, 10 Feb 2025 04:28:29 -0500 (EST) Subject: |SUCCESS| [GIT MASTER] c66daa12e76d7b4912cfb7109a761856a7a873ab From: dpdklab@iol.unh.edu To: Test Report Cc: dpdk-test-reports@iol.unh.edu, Xueming Li , Christian Ehrhardt , Kevin Traynor , Luca Boccassi Content-Type: text/plain X-BeenThere: test-report@dpdk.org X-Mailman-Version: 2.1.29 Precedence: list List-Id: automatic DPDK test reports List-Unsubscribe: , List-Archive: List-Post: List-Help: List-Subscribe: , Errors-To: test-report-bounces@dpdk.org _Testing PASS_ Branch: tags/v23.11 c66daa12e76d7b4912cfb7109a761856a7a873ab --> testing pass Upstream job id: Generic-DPDK-Compile-Meson#360049 Test environment and result as below: +------------------------------------+--------------------+ | Environment | dpdk_meson_compile | +====================================+====================+ | RHEL9 (ARM) | PASS | +------------------------------------+--------------------+ | Ubuntu 20.04 ARM GCC Cross Compile | PASS | +------------------------------------+--------------------+ | Fedora 40 (ARM) | PASS | +------------------------------------+--------------------+ | Debian 12 with MUSDK | PASS | +------------------------------------+--------------------+ | Ubuntu 20.04 ARM SVE | PASS | +------------------------------------+--------------------+ | Fedora 41 (ARM) | PASS | +------------------------------------+--------------------+ | Fedora 41 (ARM Clang) | PASS | +------------------------------------+--------------------+ | Fedora 40 (ARM Clang) | PASS | +------------------------------------+--------------------+ | Ubuntu 20.04 (ARM) | PASS | +------------------------------------+--------------------+ | Ubuntu 22.04 (ARM) | PASS | +------------------------------------+--------------------+ | Ubuntu 24.04 (ARM) | PASS | +------------------------------------+--------------------+ | Debian 11 (Buster) (ARM) | PASS | +------------------------------------+--------------------+ | CentOS Stream 9 (ARM) | PASS | +------------------------------------+--------------------+ | Debian 12 (arm) | PASS | +------------------------------------+--------------------+ RHEL9 (ARM) Kernel: Depends on container host Compiler: gcc 11.5.0 20240719 (Red Hat 11.5.0-2) Ubuntu 20.04 ARM GCC Cross Compile Kernel: Depends on container host Compiler: aarch64-linux-gnu-gcc (Ubuntu 9.4.0-1ubuntu1~20.04.2) 9.4.0 Fedora 40 (ARM) Kernel: Depends on container host Compiler: gcc 14.2.1 20240912 (Red Hat 14.2.1-3) Debian 12 with MUSDK Kernel: Depends on container host Compiler: gcc (Debian 12.2.0-14) 12.2.0 Ubuntu 20.04 ARM SVE Kernel: Depends on container host Compiler: gcc (Ubuntu 10.5.0-1ubuntu1~20.04) 10.5.0 Fedora 41 (ARM) Kernel: Depends on container host Compiler: gcc 14.2.1 20240912 (Red Hat 14.2.1-3) Fedora 41 (ARM Clang) Kernel: Depends on container host Compiler: clang 19.1.5 (Fedora 19.1.5-1.fc41) Fedora 40 (ARM Clang) Kernel: Depends on container host Compiler: clang 18.1.8 (Fedora 18.1.8-1.fc40) Ubuntu 20.04 (ARM) Kernel: Depends on container host Compiler: gcc (Ubuntu 9.4.0-1ubuntu1~20.04.2) 9.4.0 Ubuntu 22.04 (ARM) Kernel: Depends on container host Compiler: gcc (Ubuntu 11.4.0-1ubuntu1~22.04) 11.4.0 Ubuntu 24.04 (ARM) Kernel: Depends on container host Compiler: gcc (Ubuntu 13.3.0-6ubuntu2~24.04) 13.3.0 Debian 11 (Buster) (ARM) Kernel: Depends on container host Compiler: gcc (Debian 10.2.1-6) 10.2.1 20210110 CentOS Stream 9 (ARM) Kernel: Depends on container host Compiler: gcc 11.5.0 20240719 (Red Hat 11.5.0-2) Debian 12 (arm) Kernel: Depends on container host Compiler: gcc (Debian 12.2.0-14) 12.2.0 To view detailed results, visit: https://lab.dpdk.org/results/dashboard/tarballs/32523/ UNH-IOL DPDK Community Lab To manage your email subscriptions, visit: https://lab.dpdk.org/results/dashboard/preferences/subscriptions/