From mboxrd@z Thu Jan 1 00:00:00 1970 Return-Path: Received: from mails.dpdk.org (mails.dpdk.org [217.70.189.124]) by inbox.dpdk.org (Postfix) with ESMTP id 1520C461EB for ; Mon, 10 Feb 2025 10:52:32 +0100 (CET) Received: from mails.dpdk.org (localhost [127.0.0.1]) by mails.dpdk.org (Postfix) with ESMTP id DCF0B40268; Mon, 10 Feb 2025 10:52:31 +0100 (CET) Received: from mail-qv1-f99.google.com (mail-qv1-f99.google.com [209.85.219.99]) by mails.dpdk.org (Postfix) with ESMTP id 2571540150 for ; Mon, 10 Feb 2025 10:52:31 +0100 (CET) Received: by mail-qv1-f99.google.com with SMTP id 6a1803df08f44-6e17d3e92d9so32819446d6.1 for ; Mon, 10 Feb 2025 01:52:31 -0800 (PST) DKIM-Signature: v=1; a=rsa-sha256; c=relaxed/relaxed; d=iol.unh.edu; s=unh-iol; t=1739181150; x=1739785950; darn=dpdk.org; h=cc:to:from:subject:message-id:date:from:to:cc:subject:date :message-id:reply-to; bh=rs91mlxeDLtPTi0CIz8PnIt2JByqIadkIgC2xu+HrdA=; b=aiphy9jF/ceLCYaMBl3KdLcuRg1hZUj51a2l9HRXnR6UEInJjF/5wsgFhWiF0x6hUp WCGICzh1Lnl4FMTwFKcTdhrfNv0e7PSsxUvMdxjuT8SyRgon3GyRSzY1m3Tvmjpbmm6T ufwYdbwot4c0c3QHLVM94OL3YmTfJXhmaKW68= X-Google-DKIM-Signature: v=1; a=rsa-sha256; c=relaxed/relaxed; d=1e100.net; s=20230601; t=1739181150; x=1739785950; h=cc:to:from:subject:message-id:date:x-gm-message-state:from:to:cc :subject:date:message-id:reply-to; bh=rs91mlxeDLtPTi0CIz8PnIt2JByqIadkIgC2xu+HrdA=; b=mqEJyzkyIgZrj4p1IVNk/46TGZbJN+GCypD0xj2o+nVz/f2ifo3Wx00jve0gEl/1bL bYh42XIfk+FDj3L7N9/qVU0RxasQJ3sOFtgx+KPHIjPm6w19Rv4AlTwaBbJ69Qg2IgqL cCh3Ys55Q7j1UaMPTAS7/AtQYRboMc44hgYgkJvuI+oYPmxNgEgA6zYCyoaRveM2SxAk 0ma5b/36u3TMR9dbmVoVCouL1uHPtIZqS0tVJZ4nmyjLnxcVSb2kNmk7+JoYQINFHodj FCYuV3E3OS27NftHIxKmLnjewTV0+5s4wyhyd7331fSl5V3uv+lJUWSXgLctpy04uuxl GZVQ== X-Gm-Message-State: AOJu0Yx53qVpqipivAKj1Q5QUqlIUacMsMq/50aM2MLjDKdggzPa5Y7Z oIm28vrukKDqnRkErPTjotA0o3s0nlXCLGm8EvdVPbSw0MkU5QloOYk6aXzqV97fnF61rfoWYC4 GtTcMrvJfCxIazMWm6PhZAad3MuN2TjkMdmQ5d4+hLIeOEB+l X-Gm-Gg: ASbGnctspvGl8f88H5peY4yaWMHxAqHR488R820hFwwytyW5m5tms73ZBtjjGjf1WF7 mziBVj64/MZiX1NPGXdL2Pu59AW1H+6T8iN1jmM2f9xvxIrTzAX2dcES3wNB0z0JBp11QtYdXBg 0+3TNXw+qVQG7bS9FPVbFtKw62bGd2N/9VNYHDlN2rEvVdzxrcxy+toq251poxDKLOoNdz2Yc+W NO4m1RHGAehafeAHC+Jjeb+k7rNP/O3dlaFGIee/G8XLbShgjpRHgn+2VDgGGCSCE89yjr935iU 4A5WLesfMfqC8OtvFDbHoIf8bul2ofx/6na+J3CEBg== X-Google-Smtp-Source: AGHT+IFpO22JYQ8VGp7gNMfscFo7NVZKcY4dGLH/+8+/BREYHHmGIMYESVnCLMpD789yoyetO6xjJWrMww5Z X-Received: by 2002:a05:6214:2241:b0:6e4:41b3:4968 with SMTP id 6a1803df08f44-6e44576ca4dmr157036806d6.45.1739181150410; Mon, 10 Feb 2025 01:52:30 -0800 (PST) Received: from postal.iol.unh.edu (postal.iol.unh.edu. [2606:4100:3880:1234::84]) by smtp-relay.gmail.com with ESMTPS id 6a1803df08f44-6e45d062f20sm1714026d6.61.2025.02.10.01.52.30 (version=TLS1_2 cipher=ECDHE-ECDSA-AES128-GCM-SHA256 bits=128/128); Mon, 10 Feb 2025 01:52:30 -0800 (PST) X-Relaying-Domain: iol.unh.edu Date: Mon, 10 Feb 2025 01:52:30 -0800 (PST) Message-ID: <67a9cc5e.050a0220.343b06.897fSMTPIN_ADDED_MISSING@mx.google.com> Received: from [172.17.0.3] (unknown [172.18.0.217]) by postal.iol.unh.edu (Postfix) with ESMTP id 0FE086052471; Mon, 10 Feb 2025 04:52:30 -0500 (EST) Subject: |SUCCESS| [GIT MASTER] f2eea2f37a82bb73fb01d56350708f7d70e21379 From: dpdklab@iol.unh.edu To: Test Report Cc: dpdk-test-reports@iol.unh.edu, Xueming Li , Christian Ehrhardt , Kevin Traynor , Luca Boccassi Content-Type: text/plain X-BeenThere: test-report@dpdk.org X-Mailman-Version: 2.1.29 Precedence: list List-Id: automatic DPDK test reports List-Unsubscribe: , List-Archive: List-Post: List-Help: List-Subscribe: , Errors-To: test-report-bounces@dpdk.org _Testing PASS_ Branch: tags/v24.11 f2eea2f37a82bb73fb01d56350708f7d70e21379 --> testing pass Upstream job id: Generic-Unit-Test-DPDK#313619 Test environment and result as below: +---------------------+----------------+ | Environment | dpdk_unit_test | +=====================+================+ | Debian Bullseye | PASS | +---------------------+----------------+ | CentOS Stream 9 | PASS | +---------------------+----------------+ | Fedora 40 | PASS | +---------------------+----------------+ | Fedora 41 | PASS | +---------------------+----------------+ | Debian 12 | PASS | +---------------------+----------------+ | Fedora 41 (Clang) | PASS | +---------------------+----------------+ | Fedora 40 (Clang) | PASS | +---------------------+----------------+ | RHEL9 | PASS | +---------------------+----------------+ | RHEL8 | PASS | +---------------------+----------------+ | Ubuntu 20.04 | PASS | +---------------------+----------------+ | Ubuntu 22.04 | PASS | +---------------------+----------------+ | Ubuntu 24.04 | PASS | +---------------------+----------------+ | Windows Server 2022 | PASS | +---------------------+----------------+ Debian Bullseye Kernel: Depends on container host Compiler: gcc (Debian 10.2.1-6) 10.2.1 20210110 CentOS Stream 9 Kernel: Depends on container host Compiler: gcc 11.5.0 20240719 (Red Hat 11.5.0-2) Fedora 40 Kernel: Depends on container host Compiler: gcc 14.2.1 20240912 (Red Hat 14.2.1-3) Fedora 41 Kernel: Depends on container host Compiler: gcc 14.2.1 20240912 (Red Hat 14.2.1-3) Debian 12 Kernel: Depends on container host Compiler: gcc (Debian 12.2.0-14) 12.2.0 Fedora 41 (Clang) Kernel: Depends on container host Compiler: clang 19.1.5 (Fedora 19.1.5-1.fc41) Fedora 40 (Clang) Kernel: Depends on container host Compiler: clang 18.1.8 (Fedora 18.1.8-1.fc40) RHEL9 Kernel: Depends on container host Compiler: gcc 11.5.0 20240719 (Red Hat 11.5.0-2) RHEL8 Kernel: Depends on container host Compiler: gcc 8.5.0 20210514 (Red Hat 8.5.0-22) Ubuntu 20.04 Kernel: Depends on container host Compiler: gcc (Ubuntu 9.4.0-1ubuntu1~20.04.2) 9.4.0 Ubuntu 22.04 Kernel: Depends on container host Compiler: gcc (Ubuntu 11.4.0-1ubuntu1~22.04) 11.4.0 Ubuntu 24.04 Kernel: Depends on container host Compiler: gcc (Ubuntu 13.3.0-6ubuntu2~24.04) 13.3.0 Windows Server 2022 Kernel: 10.0.20348.2031 Compiler: clang 15.0.7, gcc 14.1.0 (MinGW), and MSVC VS 19.39.33521 To view detailed results, visit: https://lab.dpdk.org/results/dashboard/tarballs/32522/ UNH-IOL DPDK Community Lab To manage your email subscriptions, visit: https://lab.dpdk.org/results/dashboard/preferences/subscriptions/