From mboxrd@z Thu Jan 1 00:00:00 1970 Return-Path: Received: from mails.dpdk.org (mails.dpdk.org [217.70.189.124]) by inbox.dpdk.org (Postfix) with ESMTP id 596BA461EB for ; Mon, 10 Feb 2025 11:08:00 +0100 (CET) Received: from mails.dpdk.org (localhost [127.0.0.1]) by mails.dpdk.org (Postfix) with ESMTP id 2F1C240268; Mon, 10 Feb 2025 11:08:00 +0100 (CET) Received: from mail-pj1-f99.google.com (mail-pj1-f99.google.com [209.85.216.99]) by mails.dpdk.org (Postfix) with ESMTP id 19AA440150 for ; Mon, 10 Feb 2025 11:07:59 +0100 (CET) Received: by mail-pj1-f99.google.com with SMTP id 98e67ed59e1d1-2f441791e40so5658444a91.3 for ; Mon, 10 Feb 2025 02:07:58 -0800 (PST) DKIM-Signature: v=1; a=rsa-sha256; c=relaxed/relaxed; d=iol.unh.edu; s=unh-iol; t=1739182078; x=1739786878; darn=dpdk.org; h=cc:to:from:subject:message-id:date:from:to:cc:subject:date :message-id:reply-to; bh=S1uNstVKc2nGQdyAxcN/8ZH+wZNJUZ3vbotonKgdpGE=; b=Jl8iYJKSx7BGezP8xhnGOpF7Z6Jl58zLWdvzkYn8kCwIgQOtBf/+jKxXpryAQJtLHy oBq4z6h0iiWEnndPu3l83wqaI84PbYsZ4QXGBomPCj3DzXr/QpKHTbJU8bGhcCqqhUb0 uvahx84qSLxcVbJM8RutERpJrfFq0mGeo3M8E= X-Google-DKIM-Signature: v=1; a=rsa-sha256; c=relaxed/relaxed; d=1e100.net; s=20230601; t=1739182078; x=1739786878; h=cc:to:from:subject:message-id:date:x-gm-message-state:from:to:cc :subject:date:message-id:reply-to; bh=S1uNstVKc2nGQdyAxcN/8ZH+wZNJUZ3vbotonKgdpGE=; b=I1dk6G2AIqUX8FEU5SGGH//ezmjjp3Yu6yJyGUxbfvA5b5W2Tag3/H1BkFKej0YJaK kckVXkGytEGHtqqLg4vUxQOOpJnt64xUixIlw3QaPRTxufH1HYP+D1IAozQVeCulFW+m wo9pQDkuq/xA+/jk8uZd8g67MCe1QxzQjQFDcyo1eTC0c+0qjUR3Kso0sqfhqWNbsz6m cRYvatZz+ImuosfoGsvtDHXNwISbsI+ua9/Jcu0CeGa+vM6fIbgxrWTI1boAbK3Vpfw/ KuHr1eBy+Gfv754rFYzAPEaRPmEnfwWD8eJgwf/ajYeXHpqooeGE3pjMUI1/YG/TYC2Q Dvow== X-Gm-Message-State: AOJu0Yw5G+RS5P3iN2K9f5Oq9QworeNKS7IIZzFh/72cEchG9u+P2/o5 y06vcTl/DdzGlRlc8Jqn8wIP72u/yuAUsjBtD4m9A2z/sIOAyp7lc1yMbFDA0k9h6smPZcbGJ/I UTLzWTQzQuWoK0NRZFMVxc3NH9bYcLdUPVsq3sP+tYzSb0Wn3 X-Gm-Gg: ASbGncuzeaUCENoYJ0bO84nqgima4Tfw0N3eH12V0Rs4bIj0gMI0Li0C+wBdUoi6YeR HN+AiJRU5p/wyTtRCSqqznLCuagsw+LliIAD9p5kn9CxzUWfyDkopmwgqx6AZ10+eab12BaFLAj lN+kRUEs43/8NN34NmaHHhs/XzU63oeKR8FSc8Pn9jGVJw/n+qKeWljxgvdP9lm8GQJqP5oYA7r 5sZoRpxtjFiZSy1gMT4LnsP1a5sVzmRlpfaYT1oLyjfvGwhlNgz5MYSCqrq/A7lxwVHj1bDysWn jHoU87TClv/Wh9C8JLzIqs2714hrx9/dNv3SWJ1GTA== X-Google-Smtp-Source: AGHT+IH4X/wwzuCVDmYDdw2aRdVj8zrFNJBn/RZvuXqm91ZKRvTNO2ZrGUAKjgoWB+7REeiSuD7doxrDbKic X-Received: by 2002:a17:90b:3b4b:b0:2ee:ab29:1a65 with SMTP id 98e67ed59e1d1-2fa23f55bafmr19705116a91.4.1739182077883; Mon, 10 Feb 2025 02:07:57 -0800 (PST) Received: from postal.iol.unh.edu (postal.iol.unh.edu. [2606:4100:3880:1234::84]) by smtp-relay.gmail.com with ESMTPS id d9443c01a7336-21f36877f0csm4769295ad.112.2025.02.10.02.07.57 (version=TLS1_2 cipher=ECDHE-ECDSA-AES128-GCM-SHA256 bits=128/128); Mon, 10 Feb 2025 02:07:57 -0800 (PST) X-Relaying-Domain: iol.unh.edu Date: Mon, 10 Feb 2025 02:07:57 -0800 (PST) Message-ID: <67a9cffd.170a0220.7ec43.7649SMTPIN_ADDED_MISSING@mx.google.com> Received: from [172.17.0.3] (unknown [172.18.0.217]) by postal.iol.unh.edu (Postfix) with ESMTP id 09B356052471; Mon, 10 Feb 2025 05:07:57 -0500 (EST) Subject: |SUCCESS| [GIT MASTER] 7ce7d3341d7e21c2a81f2fea8e451681d7306d77 From: dpdklab@iol.unh.edu To: Test Report Cc: dpdk-test-reports@iol.unh.edu, Xueming Li , Christian Ehrhardt , Kevin Traynor , Luca Boccassi Content-Type: text/plain X-BeenThere: test-report@dpdk.org X-Mailman-Version: 2.1.29 Precedence: list List-Id: automatic DPDK test reports List-Unsubscribe: , List-Archive: List-Post: List-Help: List-Subscribe: , Errors-To: test-report-bounces@dpdk.org _Testing PASS_ Branch: tags/v22.11 7ce7d3341d7e21c2a81f2fea8e451681d7306d77 --> testing pass Upstream job id: ACVP-FIPS-testing#8860 Test environment and result as below: +--------------------+----------------------+----------------------+ | Environment | compressdev_zlib_pmd | dpdk_fips_validation | +====================+======================+======================+ | Ubuntu 22.04 (ARM) | PASS | SKIPPED | +--------------------+----------------------+----------------------+ | Ubuntu 22.04 | PASS | SKIPPED | +--------------------+----------------------+----------------------+ | Ubuntu 20.04 | SKIPPED | PASS | +--------------------+----------------------+----------------------+ Ubuntu 22.04 (ARM) Kernel: 5.15.0-97-generic Compiler: gcc gcc (Ubuntu 11.4.0-1ubuntu1~22.04) 11.4.0 Ubuntu 22.04 Kernel: 5.15.0-100-generic Compiler: gcc gcc (Ubuntu 11.4.0-1ubuntu1~22.04) 11.4.0 Ubuntu 20.04 Kernel: Depends on container host Compiler: gcc (Ubuntu 9.4.0-1ubuntu1~20.04.2) 9.4.0 To view detailed results, visit: https://lab.dpdk.org/results/dashboard/tarballs/32524/ UNH-IOL DPDK Community Lab To manage your email subscriptions, visit: https://lab.dpdk.org/results/dashboard/preferences/subscriptions/