From mboxrd@z Thu Jan 1 00:00:00 1970 Return-Path: Received: from mails.dpdk.org (mails.dpdk.org [217.70.189.124]) by inbox.dpdk.org (Postfix) with ESMTP id 81B93461EB for ; Mon, 10 Feb 2025 11:35:42 +0100 (CET) Received: from mails.dpdk.org (localhost [127.0.0.1]) by mails.dpdk.org (Postfix) with ESMTP id 706D740268; Mon, 10 Feb 2025 11:35:42 +0100 (CET) Received: from mail-il1-f227.google.com (mail-il1-f227.google.com [209.85.166.227]) by mails.dpdk.org (Postfix) with ESMTP id 912F740150 for ; Mon, 10 Feb 2025 11:35:40 +0100 (CET) Received: by mail-il1-f227.google.com with SMTP id e9e14a558f8ab-3cf8e017abcso13806875ab.1 for ; Mon, 10 Feb 2025 02:35:40 -0800 (PST) DKIM-Signature: v=1; a=rsa-sha256; c=relaxed/relaxed; d=iol.unh.edu; s=unh-iol; t=1739183740; x=1739788540; darn=dpdk.org; h=cc:to:from:subject:message-id:date:from:to:cc:subject:date :message-id:reply-to; bh=kqfK2tRt1JShHRN+hsFd7GTbfM7Cc0kMIk86FRtGeyY=; b=Fx8fA6g/Ie31TIHP7TmeXwrAOLC9uHlEiMnhtrZRLlPhT2DQxj97aTt4hsIlRI6Uw/ lkFxbMKpufa67Xa+rmEBbGs4rX3SJniGAc15VWb5VmsX59Fkw6fl3LsEJiVRIvTB/la8 loFPYB0HII1hAOsADabDwuW4T/+LRScWjKrW8= X-Google-DKIM-Signature: v=1; a=rsa-sha256; c=relaxed/relaxed; d=1e100.net; s=20230601; t=1739183740; x=1739788540; h=cc:to:from:subject:message-id:date:x-gm-message-state:from:to:cc :subject:date:message-id:reply-to; bh=kqfK2tRt1JShHRN+hsFd7GTbfM7Cc0kMIk86FRtGeyY=; b=FtTZ6o3OIyi2lp89JPq71I5kmcRVFsrQZHk1u3EXsxPlzdiUZgXJbyXuH23gBO4Skg AfWX/lyNZlhyX2OqaJ5rt8olXPT2yBZ2LVmCA9uoQGv7hv4a8in89R/v4vyMt5upJoZX SCFYOWgz3tRCQxT4qiyBNKO8JrUfZt7nBXlfPsHkydB6tATRcgLbScKsmMbOpBuxUHkh 0FqFW9F6Kk5LzzUXA9d5fBfCeesAwIoBguBW7o/fM7zvmhNIypolqMKKv4O7VZ6R5hpf 1TN01Q6w+oXKr/KQkV6k6LGH3qzLC2WV0LdIRDpCNRrIhO2RL1n1xm4vqoPbGBvKwU3q Ao0Q== X-Gm-Message-State: AOJu0YzyGPzxYZTnw8eczB4dcIkKhZWFRBIAKtC4RbV7gOggPoMgx0j6 pbBcTzuJoxahzOhrK4+pCZ4KkdQ9IBRMSzIZ10ba9S0wFb/CQbbcYB0hy0XxfkO/wqJ3hd5Ai9N fjioK9EjBQyUQ6MqN0HpwMsqUvo04UlPC+zPzDG2HAIjXYQxw X-Gm-Gg: ASbGncsh1cdtrlT62BMpzBMFU+fhF8EXewolp2wW7TuB2JYU1k9vJ12hE2UtM9M/DoW q8p4aT12obplAROoUUXaLHmd8eIJlkK4om9P+/j0LiPYC7BsFCJ2ctWii7zzFCwErTW/Nx7A0tA 85bikwySFQW4+vm7bKuUV+sRmoBjAvW7Kkcq/A7jpeVx4C+SCiInvUdZAHI8xIIDC2+0n2lCQmM yMqn2uWIj4nYCxni5M/DFrSfyugbXTj3gc4HZqfnRzLWELPTuUHFbhQ7wxX1xfVc8LM6s6VOO8+ JSZo9d6udLX+nh0nguRh3/vy4KBersItO7PLCL2dLA== X-Google-Smtp-Source: AGHT+IGTtI9/QlORYSUeQfLdMyeTvojPj3qH0Z71AqlfxKaqfKAwSC8+zCdN1eM3H5+JN+lhbu7hv6a/TAiA X-Received: by 2002:a05:6e02:1d91:b0:3d0:4e2b:9bbb with SMTP id e9e14a558f8ab-3d13df2eb4dmr124104555ab.21.1739183739895; Mon, 10 Feb 2025 02:35:39 -0800 (PST) Received: from postal.iol.unh.edu (postal.iol.unh.edu. [2606:4100:3880:1234::84]) by smtp-relay.gmail.com with ESMTPS id 8926c6da1cb9f-4ecf96594adsm108748173.42.2025.02.10.02.35.39 (version=TLS1_2 cipher=ECDHE-ECDSA-AES128-GCM-SHA256 bits=128/128); Mon, 10 Feb 2025 02:35:39 -0800 (PST) X-Relaying-Domain: iol.unh.edu Date: Mon, 10 Feb 2025 02:35:39 -0800 (PST) Message-ID: <67a9d67b.050a0220.2a42d3.5819SMTPIN_ADDED_MISSING@mx.google.com> Received: from [172.17.0.3] (unknown [172.18.0.217]) by postal.iol.unh.edu (Postfix) with ESMTP id 5987D6052471; Mon, 10 Feb 2025 05:35:39 -0500 (EST) Subject: |SUCCESS| [GIT MASTER] f2eea2f37a82bb73fb01d56350708f7d70e21379 From: dpdklab@iol.unh.edu To: Test Report Cc: dpdk-test-reports@iol.unh.edu, Xueming Li , Christian Ehrhardt , Kevin Traynor , Luca Boccassi Content-Type: text/plain X-BeenThere: test-report@dpdk.org X-Mailman-Version: 2.1.29 Precedence: list List-Id: automatic DPDK test reports List-Unsubscribe: , List-Archive: List-Post: List-Help: List-Subscribe: , Errors-To: test-report-bounces@dpdk.org _Testing PASS_ Branch: tags/v24.11 f2eea2f37a82bb73fb01d56350708f7d70e21379 --> testing pass Upstream job id: ACVP-FIPS-testing#8861 Test environment and result as below: +--------------------+----------------------+----------------------+ | Environment | compressdev_zlib_pmd | dpdk_fips_validation | +====================+======================+======================+ | Ubuntu 22.04 (ARM) | PASS | SKIPPED | +--------------------+----------------------+----------------------+ | Ubuntu 22.04 | PASS | SKIPPED | +--------------------+----------------------+----------------------+ | Ubuntu 20.04 | SKIPPED | PASS | +--------------------+----------------------+----------------------+ Ubuntu 22.04 (ARM) Kernel: 5.15.0-97-generic Compiler: gcc gcc (Ubuntu 11.4.0-1ubuntu1~22.04) 11.4.0 Ubuntu 22.04 Kernel: 5.15.0-100-generic Compiler: gcc gcc (Ubuntu 11.4.0-1ubuntu1~22.04) 11.4.0 Ubuntu 20.04 Kernel: Depends on container host Compiler: gcc (Ubuntu 9.4.0-1ubuntu1~20.04.2) 9.4.0 To view detailed results, visit: https://lab.dpdk.org/results/dashboard/tarballs/32522/ UNH-IOL DPDK Community Lab To manage your email subscriptions, visit: https://lab.dpdk.org/results/dashboard/preferences/subscriptions/