From mboxrd@z Thu Jan 1 00:00:00 1970 Return-Path: Received: from mails.dpdk.org (mails.dpdk.org [217.70.189.124]) by inbox.dpdk.org (Postfix) with ESMTP id A4775461EB for ; Mon, 10 Feb 2025 11:36:54 +0100 (CET) Received: from mails.dpdk.org (localhost [127.0.0.1]) by mails.dpdk.org (Postfix) with ESMTP id 9DD3140268; Mon, 10 Feb 2025 11:36:54 +0100 (CET) Received: from mail-qv1-f98.google.com (mail-qv1-f98.google.com [209.85.219.98]) by mails.dpdk.org (Postfix) with ESMTP id 4651840150 for ; Mon, 10 Feb 2025 11:36:53 +0100 (CET) Received: by mail-qv1-f98.google.com with SMTP id 6a1803df08f44-6dd420f82e2so55094216d6.1 for ; Mon, 10 Feb 2025 02:36:53 -0800 (PST) DKIM-Signature: v=1; a=rsa-sha256; c=relaxed/relaxed; d=iol.unh.edu; s=unh-iol; t=1739183812; x=1739788612; darn=dpdk.org; h=cc:to:from:subject:message-id:date:from:to:cc:subject:date :message-id:reply-to; bh=Hdeo/pieaZ57uCLJqJ5mRZDoUr0diOzxnKa2998tAqY=; b=cOTT2qYnjWCAQa7tLX4ZbFXWY0XtN9vRRcpI/dQcYeZO01ePaA09i+8q7pl69nFPCb brAVDhizMPX620MeKDLvh9desuJhkjcLRKEM6C4cR378t0RGvQoO6kQUaEFMuSKtz7w+ 5nurQ0C51to40tFYecNIS3APOC/OxaFmMn8oo= X-Google-DKIM-Signature: v=1; a=rsa-sha256; c=relaxed/relaxed; d=1e100.net; s=20230601; t=1739183812; x=1739788612; h=cc:to:from:subject:message-id:date:x-gm-message-state:from:to:cc :subject:date:message-id:reply-to; bh=Hdeo/pieaZ57uCLJqJ5mRZDoUr0diOzxnKa2998tAqY=; b=ZG4oYtJDmIUYDeW1ZEkOPXGyvSmCRlDOfUcJGFqQIcFO2/zWFmzOVzhEYRTS90byw1 mhhU9W9s8i64AcogRWVBF1mMcHc2C9pm/RgrrgZjgSUclLE5oAYL+FcxA+rfOLVCROE3 7whEzy7dcJGz6yuD0wMlkovyeg8+sBgYBsJMKRZyVcskiO2lSAQ2j52yjuVP6fI+mVHE iPUTbFgDvJN//yDzBftr7nZGRcnRV5prML39yL19y5atVclCbrELpA8XPRplIGhQsIcl 5+1LTz+V07v6/kZRpCrkD+E71z9g/EwyUlOx0kbbgCpZQju8rUb4F+voZvsFGWxCF2AU jbhw== X-Gm-Message-State: AOJu0Yy6YIinNK/EFCyiEAcM/2yQbLFgjPuTnLH6CjdC6XObBBdLgLQL Fz5eVQcRrtbdl/T5d7y6WMg1WVAXxjFmzDcv1ggS3bVf5H0jCwjiHXykuh+yqWuFeboTI2MavBT dPF7NXNp2/GjTn+3l3XHXoozls1np+90H X-Gm-Gg: ASbGncvhg+6IK2lL/eSsxx6qrlVOhOomkW0ogxce0YLofZDrL8pzu0aG680DjwHn8sZ PR5/masWcyLXum4kVIWB2lI1zTuGqz6JTHoz/fuuM1yxEGnDAxGTcs10IjZzqPLksmBVcAwATh1 QYNJBWkHa5JKs3m/rKFIib5ThK+q18t1d2n+aUCpeYc7MPQFbad1GTfBOfO9Jm1M4SwHJscRPQ8 F2Bmi0cNtcQwaVV9xuIeJ2duMDDfezWPBYic9GMa0MC9WXcunKXQhZO0vFiEGdrhMMDr3MrcmG0 JGqF2lCY29Df0DQlYooxpCK6Vt5RSA== X-Google-Smtp-Source: AGHT+IFnFu7+91btCflfX88YJ1dF19CihSt3rUruZVW1BaB8xJBACSAU1GE4nIjAB3o8bYfsD6JCI3H8RrIa X-Received: by 2002:a05:6214:2125:b0:6dd:d513:6124 with SMTP id 6a1803df08f44-6e4456e077emr220033976d6.35.1739183812655; Mon, 10 Feb 2025 02:36:52 -0800 (PST) Received: from postal.iol.unh.edu (postal.iol.unh.edu. [132.177.123.84]) by smtp-relay.gmail.com with ESMTPS id 6a1803df08f44-6e43ba40941sm5593466d6.20.2025.02.10.02.36.52 (version=TLS1_2 cipher=ECDHE-ECDSA-AES128-GCM-SHA256 bits=128/128); Mon, 10 Feb 2025 02:36:52 -0800 (PST) X-Relaying-Domain: iol.unh.edu Date: Mon, 10 Feb 2025 02:36:52 -0800 (PST) Message-ID: <67a9d6c4.050a0220.39bff0.ce98SMTPIN_ADDED_MISSING@mx.google.com> Received: from [172.17.0.3] (unknown [172.18.0.217]) by postal.iol.unh.edu (Postfix) with ESMTP id 583676052471; Mon, 10 Feb 2025 05:36:52 -0500 (EST) Subject: |SUCCESS| [GIT MASTER] f2eea2f37a82bb73fb01d56350708f7d70e21379 From: dpdklab@iol.unh.edu To: Test Report Cc: dpdk-test-reports@iol.unh.edu, Xueming Li , Christian Ehrhardt , Kevin Traynor , Luca Boccassi Content-Type: text/plain X-BeenThere: test-report@dpdk.org X-Mailman-Version: 2.1.29 Precedence: list List-Id: automatic DPDK test reports List-Unsubscribe: , List-Archive: List-Post: List-Help: List-Subscribe: , Errors-To: test-report-bounces@dpdk.org _Testing PASS_ Branch: tags/v24.11 f2eea2f37a82bb73fb01d56350708f7d70e21379 --> testing pass Upstream job id: Generic-DPDK-Compile-Meson#360096 Test environment and result as below: +------------------------------------+--------------------+ | Environment | dpdk_meson_compile | +====================================+====================+ | RHEL9 (ARM) | PASS | +------------------------------------+--------------------+ | Ubuntu 20.04 ARM GCC Cross Compile | PASS | +------------------------------------+--------------------+ | Ubuntu 20.04 ARM SVE | PASS | +------------------------------------+--------------------+ | Debian 12 with MUSDK | PASS | +------------------------------------+--------------------+ | Fedora 40 (ARM Clang) | PASS | +------------------------------------+--------------------+ | Fedora 40 (ARM) | PASS | +------------------------------------+--------------------+ | Fedora 41 (ARM) | PASS | +------------------------------------+--------------------+ | Fedora 41 (ARM Clang) | PASS | +------------------------------------+--------------------+ | Ubuntu 22.04 (ARM) | PASS | +------------------------------------+--------------------+ | Ubuntu 20.04 (ARM) | PASS | +------------------------------------+--------------------+ | Ubuntu 24.04 (ARM) | PASS | +------------------------------------+--------------------+ | CentOS Stream 9 (ARM) | PASS | +------------------------------------+--------------------+ | Debian 11 (Buster) (ARM) | PASS | +------------------------------------+--------------------+ | Debian 12 (arm) | PASS | +------------------------------------+--------------------+ RHEL9 (ARM) Kernel: Depends on container host Compiler: gcc 11.5.0 20240719 (Red Hat 11.5.0-2) Ubuntu 20.04 ARM GCC Cross Compile Kernel: Depends on container host Compiler: aarch64-linux-gnu-gcc (Ubuntu 9.4.0-1ubuntu1~20.04.2) 9.4.0 Ubuntu 20.04 ARM SVE Kernel: Depends on container host Compiler: gcc (Ubuntu 10.5.0-1ubuntu1~20.04) 10.5.0 Debian 12 with MUSDK Kernel: Depends on container host Compiler: gcc (Debian 12.2.0-14) 12.2.0 Fedora 40 (ARM Clang) Kernel: Depends on container host Compiler: clang 18.1.8 (Fedora 18.1.8-1.fc40) Fedora 40 (ARM) Kernel: Depends on container host Compiler: gcc 14.2.1 20240912 (Red Hat 14.2.1-3) Fedora 41 (ARM) Kernel: Depends on container host Compiler: gcc 14.2.1 20240912 (Red Hat 14.2.1-3) Fedora 41 (ARM Clang) Kernel: Depends on container host Compiler: clang 19.1.5 (Fedora 19.1.5-1.fc41) Ubuntu 22.04 (ARM) Kernel: Depends on container host Compiler: gcc (Ubuntu 11.4.0-1ubuntu1~22.04) 11.4.0 Ubuntu 20.04 (ARM) Kernel: Depends on container host Compiler: gcc (Ubuntu 9.4.0-1ubuntu1~20.04.2) 9.4.0 Ubuntu 24.04 (ARM) Kernel: Depends on container host Compiler: gcc (Ubuntu 13.3.0-6ubuntu2~24.04) 13.3.0 CentOS Stream 9 (ARM) Kernel: Depends on container host Compiler: gcc 11.5.0 20240719 (Red Hat 11.5.0-2) Debian 11 (Buster) (ARM) Kernel: Depends on container host Compiler: gcc (Debian 10.2.1-6) 10.2.1 20210110 Debian 12 (arm) Kernel: Depends on container host Compiler: gcc (Debian 12.2.0-14) 12.2.0 To view detailed results, visit: https://lab.dpdk.org/results/dashboard/tarballs/32522/ UNH-IOL DPDK Community Lab To manage your email subscriptions, visit: https://lab.dpdk.org/results/dashboard/preferences/subscriptions/