From mboxrd@z Thu Jan  1 00:00:00 1970
Return-Path: <test-report-bounces@dpdk.org>
Received: from mails.dpdk.org (mails.dpdk.org [217.70.189.124])
	by inbox.dpdk.org (Postfix) with ESMTP id 5A039461EC
	for <public@inbox.dpdk.org>; Mon, 10 Feb 2025 13:11:12 +0100 (CET)
Received: from mails.dpdk.org (localhost [127.0.0.1])
	by mails.dpdk.org (Postfix) with ESMTP id 7387942670;
	Mon, 10 Feb 2025 13:11:11 +0100 (CET)
Received: from mail-il1-f226.google.com (mail-il1-f226.google.com
 [209.85.166.226])
 by mails.dpdk.org (Postfix) with ESMTP id 4760A40268
 for <test-report@dpdk.org>; Mon, 10 Feb 2025 13:11:09 +0100 (CET)
Received: by mail-il1-f226.google.com with SMTP id
 e9e14a558f8ab-3d144f1f68bso9384725ab.3
 for <test-report@dpdk.org>; Mon, 10 Feb 2025 04:11:09 -0800 (PST)
DKIM-Signature: v=1; a=rsa-sha256; c=relaxed/relaxed;
 d=iol.unh.edu; s=unh-iol; t=1739189468; x=1739794268; darn=dpdk.org;
 h=references:in-reply-to:cc:to:from:subject:message-id:date:from:to
 :cc:subject:date:message-id:reply-to;
 bh=uv30ltsm4FIwac2My5xhzWaKNb/U7EYIKBFdIGSEKYg=;
 b=MXkkN4UaGY715IanzwcI5PY+uPcjhiSLcRe7BLEGjQz3VcfJfgVR+6zLRGAWfshaGy
 VQYEMaUW38zfjqEVSd+Sp7PVNk73W9CD5Z9nAdhXhBQ0aBMaUZ7YI9m0fgn7dwjBZHUt
 W9WfjqKahELZP8jbsvrnlqr2drtiTWuXmjXeU=
X-Google-DKIM-Signature: v=1; a=rsa-sha256; c=relaxed/relaxed;
 d=1e100.net; s=20230601; t=1739189468; x=1739794268;
 h=references:in-reply-to:cc:to:from:subject:message-id:date
 :x-gm-message-state:from:to:cc:subject:date:message-id:reply-to;
 bh=uv30ltsm4FIwac2My5xhzWaKNb/U7EYIKBFdIGSEKYg=;
 b=dveDeH9CbTZX72dYmv+mfdFnRSSDNZ0J/D6DNK9xYJe+vSejgxJQok5vZWg9mQcPLa
 ac0lJV9wzgD+oigAJPL0u+77kbL/QvZlD5O85XLSFdHLyhliAdyRDuoyRunaCZ4p8+Yw
 QxrOpvoENa+7vxeu/36fJW+Iq5hvrGXbB0spAMBAlNqB8ZEmcI5WF4RXDxG+N10V776+
 CCww7eieHwTu+OrFZQrbqsaX7BbMfPKKb1y7cy1/4ZC0X5KYyn3SzxMBIbf3HJK6a/oR
 jmEABEOsreY24eHmJ5gUm8neaBM7RMbI4o6bGsI3vjZ3P7vYFEnl6selh9PhloYuNPgK
 tJMg==
X-Gm-Message-State: AOJu0YwCoUWtJ2CAdAuazWaLVAg0TL8ZssRFs6YUAnML2ZHKjVGrQjx9
 H6kxsR3ZoWluTh4YK8c4ph7LhT+/qrlgnRSzP/jTh3x8ZdGSzrNFWTbEeq57qMoou29PRWuCsXw
 xwnONuh7aGH5U0dbxk9/gYznQxBSlAO7DMV3c40nT
X-Gm-Gg: ASbGncsSjGUCE3/PEYbiZuB4QpBrkywWHDo7MmRwQg/ubf35LYkMP7xhSHzkQnbQHf2
 ShF+T2eXsx2hcVntZZXfaV9fpi+CCxTJFJcl7BCy1T28Dqm7cBKtF3TKNFLZfuAhruMvg2OapmW
 lfn8QOrjFDOUsGlkog/5nsIQXXEKD1FxOnzZbm0V9EcFsitVyZ6QMVB8d3bkBoPuSXFHlghOvvT
 TnxBdfxOhEH7+o004q2UKfUCN0zRqNMI+6/BbuNzNB3Gj20FylPGnMOspZEhhPZlP0KNJ/tkLRA
 VGeC9GMfbBgyyw5fwueXpAuzmdzcjQ==
X-Google-Smtp-Source: AGHT+IEPxyh2DkRttFrpaBze7jrEGxSWeFNY53Acrx7d/RNsMcxKDCXZVGk1aYwIC9tcck903rkDx0aEx8eP
X-Received: by 2002:a05:6e02:12e9:b0:3ce:78e5:d36d with SMTP id
 e9e14a558f8ab-3d13dd3f53bmr98525515ab.12.1739189468534; 
 Mon, 10 Feb 2025 04:11:08 -0800 (PST)
Received: from postal.iol.unh.edu (postal.iol.unh.edu. [132.177.123.84])
 by smtp-relay.gmail.com with ESMTPS id
 e9e14a558f8ab-3d15f9af3cfsm1366095ab.21.2025.02.10.04.11.08
 (version=TLS1_2 cipher=ECDHE-ECDSA-AES128-GCM-SHA256 bits=128/128);
 Mon, 10 Feb 2025 04:11:08 -0800 (PST)
X-Relaying-Domain: iol.unh.edu
Date: Mon, 10 Feb 2025 04:11:08 -0800 (PST)
Message-ID: <67a9ecdc.050a0220.3c9e06.7428SMTPIN_ADDED_MISSING@mx.google.com>
Received: from [172.17.0.6] (unknown [172.18.0.217])
 by postal.iol.unh.edu (Postfix) with ESMTP id 1966F6052471;
 Mon, 10 Feb 2025 07:11:08 -0500 (EST)
Subject: |SUCCESS| pw151275 [PATCH] net/mlx5: fix the GRE mask set on root ta
From: dpdklab@iol.unh.edu
To: Test Report <test-report@dpdk.org>
Cc: dpdk-test-reports@iol.unh.edu
In-Reply-To: <20250210101457.306368-1-getelson@nvidia.com>
References: <20250210101457.306368-1-getelson@nvidia.com>
Content-Type: text/plain
X-BeenThere: test-report@dpdk.org
X-Mailman-Version: 2.1.29
Precedence: list
List-Id: automatic DPDK test reports <test-report.dpdk.org>
List-Unsubscribe: <https://mails.dpdk.org/options/test-report>,
 <mailto:test-report-request@dpdk.org?subject=unsubscribe>
List-Archive: <http://mails.dpdk.org/archives/test-report/>
List-Post: <mailto:test-report@dpdk.org>
List-Help: <mailto:test-report-request@dpdk.org?subject=help>
List-Subscribe: <https://mails.dpdk.org/listinfo/test-report>,
 <mailto:test-report-request@dpdk.org?subject=subscribe>
Errors-To: test-report-bounces@dpdk.org

Test-Label: iol-unit-arm64-testing
Test-Status: SUCCESS
http://dpdk.org/patch/151275

_Testing PASS_

Submitter: Gregory Etelson <getelson@nvidia.com>
Date: Monday, February 10 2025 10:14:56 
DPDK git baseline: Repo:dpdk
  Branch: master
  CommitID:af389f2da68c0e9bb08a68055996bececbd45108

151275 --> testing pass

Upstream job id: Generic-Unit-Test-DPDK#313650

Test environment and result as below:

+-----------------------------+----------------+---------------------------+------------------------------+--------------+
|         Environment         | dpdk_unit_test | cryptodev_sw_zuc_autotest | cryptodev_sw_snow3g_autotest | lpm_autotest |
+=============================+================+===========================+==============================+==============+
| CentOS Stream 9 (ARM)       | PASS           | SKIPPED                   | SKIPPED                      | SKIPPED      |
+-----------------------------+----------------+---------------------------+------------------------------+--------------+
| Debian 12 (arm)             | PASS           | PASS                      | PASS                         | SKIPPED      |
+-----------------------------+----------------+---------------------------+------------------------------+--------------+
| Fedora 40 (ARM)             | PASS           | SKIPPED                   | SKIPPED                      | SKIPPED      |
+-----------------------------+----------------+---------------------------+------------------------------+--------------+
| Debian 11 (Buster) (ARM)    | PASS           | SKIPPED                   | SKIPPED                      | SKIPPED      |
+-----------------------------+----------------+---------------------------+------------------------------+--------------+
| Fedora 40 (ARM Clang)       | PASS           | SKIPPED                   | SKIPPED                      | SKIPPED      |
+-----------------------------+----------------+---------------------------+------------------------------+--------------+
| Ubuntu 20.04 (ARM)          | PASS           | SKIPPED                   | SKIPPED                      | SKIPPED      |
+-----------------------------+----------------+---------------------------+------------------------------+--------------+
| Ubuntu 22.04 (ARM)          | PASS           | SKIPPED                   | SKIPPED                      | SKIPPED      |
+-----------------------------+----------------+---------------------------+------------------------------+--------------+
| RHEL9 (ARM)                 | PASS           | SKIPPED                   | SKIPPED                      | SKIPPED      |
+-----------------------------+----------------+---------------------------+------------------------------+--------------+
| Fedora 41 (ARM)             | PASS           | SKIPPED                   | SKIPPED                      | SKIPPED      |
+-----------------------------+----------------+---------------------------+------------------------------+--------------+
| Fedora 41 (ARM Clang)       | PASS           | SKIPPED                   | SKIPPED                      | SKIPPED      |
+-----------------------------+----------------+---------------------------+------------------------------+--------------+
| Ubuntu 24.04 (ARM)          | PASS           | SKIPPED                   | SKIPPED                      | SKIPPED      |
+-----------------------------+----------------+---------------------------+------------------------------+--------------+
| 32-bit Ubuntu 22.04.4 (ARM) | PASS           | SKIPPED                   | SKIPPED                      | SKIPPED      |
+-----------------------------+----------------+---------------------------+------------------------------+--------------+
| Ubuntu 20.04 ARM SVE        | SKIPPED        | SKIPPED                   | SKIPPED                      | PASS         |
+-----------------------------+----------------+---------------------------+------------------------------+--------------+


CentOS Stream 9 (ARM)
	Kernel: Depends on container host
	Compiler: gcc 11.5.0 20240719 (Red Hat 11.5.0-2)

Debian 12 (arm)
	Kernel: Depends on container host
	Compiler: gcc (Debian 12.2.0-14) 12.2.0

Fedora 40 (ARM)
	Kernel: Depends on container host
	Compiler: gcc 14.2.1 20240912 (Red Hat 14.2.1-3)

Debian 11 (Buster) (ARM)
	Kernel: Depends on container host
	Compiler: gcc (Debian 10.2.1-6) 10.2.1 20210110

Fedora 40 (ARM Clang)
	Kernel: Depends on container host
	Compiler: clang 18.1.8 (Fedora 18.1.8-1.fc40)

Ubuntu 20.04 (ARM)
	Kernel: Depends on container host
	Compiler: gcc (Ubuntu 9.4.0-1ubuntu1~20.04.2) 9.4.0

Ubuntu 22.04 (ARM)
	Kernel: Depends on container host
	Compiler: gcc (Ubuntu 11.4.0-1ubuntu1~22.04) 11.4.0

RHEL9 (ARM)
	Kernel: Depends on container host
	Compiler: gcc 11.5.0 20240719 (Red Hat 11.5.0-2)

Fedora 41 (ARM)
	Kernel: Depends on container host
	Compiler: gcc 14.2.1 20240912 (Red Hat 14.2.1-3)

Fedora 41 (ARM Clang)
	Kernel: Depends on container host
	Compiler: clang 19.1.5 (Fedora 19.1.5-1.fc41)

Ubuntu 24.04 (ARM)
	Kernel: Depends on container host
	Compiler: gcc (Ubuntu 13.3.0-6ubuntu2~24.04) 13.3.0

32-bit Ubuntu 22.04.4 (ARM)
	Kernel: 5.15.83+ aarch64
	Compiler: gcc (Ubuntu 11.4.0-1ubuntu1~22.04) 11.4.0

Ubuntu 20.04 ARM SVE
	Kernel: Depends on container host
	Compiler: gcc (Ubuntu 10.5.0-1ubuntu1~20.04) 10.5.0

To view detailed results, visit:
https://lab.dpdk.org/results/dashboard/patchsets/32547/

UNH-IOL DPDK Community Lab

To manage your email subscriptions, visit: 
https://lab.dpdk.org/results/dashboard/preferences/subscriptions/