From mboxrd@z Thu Jan  1 00:00:00 1970
Return-Path: <test-report-bounces@dpdk.org>
Received: from mails.dpdk.org (mails.dpdk.org [217.70.189.124])
	by inbox.dpdk.org (Postfix) with ESMTP id C56AA461EC
	for <public@inbox.dpdk.org>; Mon, 10 Feb 2025 13:12:49 +0100 (CET)
Received: from mails.dpdk.org (localhost [127.0.0.1])
	by mails.dpdk.org (Postfix) with ESMTP id ADB4642670;
	Mon, 10 Feb 2025 13:12:49 +0100 (CET)
Received: from mail-io1-f100.google.com (mail-io1-f100.google.com
 [209.85.166.100])
 by mails.dpdk.org (Postfix) with ESMTP id 5355640268
 for <test-report@dpdk.org>; Mon, 10 Feb 2025 13:12:48 +0100 (CET)
Received: by mail-io1-f100.google.com with SMTP id
 ca18e2360f4ac-851c4f1fb18so107949739f.2
 for <test-report@dpdk.org>; Mon, 10 Feb 2025 04:12:48 -0800 (PST)
DKIM-Signature: v=1; a=rsa-sha256; c=relaxed/relaxed;
 d=iol.unh.edu; s=unh-iol; t=1739189567; x=1739794367; darn=dpdk.org;
 h=references:in-reply-to:cc:to:from:subject:message-id:date:from:to
 :cc:subject:date:message-id:reply-to;
 bh=+FfCuyaOGYA5XSv/gI0WpR2qyN8kQa3gw79SLbKydAA=;
 b=Ro3fqZ8FPfIWuvb98CbAWUSBx8U8gMJnL2M7O2T8nDh4i2Hfr/tOUiQLwuLiF8KzEB
 8HQc5JwnwkrUMItcugd9f3JG+OBt+xlMLhi23kxgCpDVVo/Q3Ru6hKOF7kexAJjasDRT
 50lq4XyxyIS34uAhbXF2Jece9C0GZOPQsWRbQ=
X-Google-DKIM-Signature: v=1; a=rsa-sha256; c=relaxed/relaxed;
 d=1e100.net; s=20230601; t=1739189567; x=1739794367;
 h=references:in-reply-to:cc:to:from:subject:message-id:date
 :x-gm-message-state:from:to:cc:subject:date:message-id:reply-to;
 bh=+FfCuyaOGYA5XSv/gI0WpR2qyN8kQa3gw79SLbKydAA=;
 b=XN8pm+GePnPN9a5IvJ4kXeIwWwJ738B4ylLmHKqp4Yo7FexXOURvQ2VFTUSjAfeUlb
 /ma+C1y6g0YfRW6A+IudU5WdOXM3vsW1FNwHveAgQbIiE248P7GyHnw8a84eamh/BG/X
 8ikdXWahEPl0ZeMz267VFLOCZ9y/an1VITjVJoRFVNoE/0TFSwDxk3r1UIJwelwdZJ8z
 lpaSQ9X7CZTfzn+kHGKF9kMpSROXYEhffZp3NZMTfngfIRJ9JhEfYHU+7GYzXR8K0dGO
 1NCcPd+HK1UXaO3wM78aLRNO1bXxgUtFpXAI/fJbZuEO58uLDU81mj2Q2Ve5mZUiS9UC
 KfvQ==
X-Gm-Message-State: AOJu0YzgiqDMFG+sj4Ffh/Cf27tTaP+FJx7/Vy5glmJJWw4C2iG0NE/L
 PDF+QxaTlb4EL/Qz1fAoJVqaJ9KhqHh7JEyyZxW6zBtK+ZPYOICwa40LM7mkHQvM1KL+cBmqQXV
 r295mTZbhCFdvYYKASVPRdyGdf4llj5M8e8ZGLsh2
X-Gm-Gg: ASbGncu337tWAHs3mpUGj0VQdAKTru6DAFRfHyteb1bEcYe6GQ/XA4Ex5v9lzGPimDW
 MGDZCSCmFSnonbg1OO6a2ewu6JUfiO9QVkwUJElaVWtE+MjAOpRbrOK5Re1cv7vT7pAWU68fbr0
 +RTbReSnFWqVTS1aFtA7Nro9lINWoD4TZal/3CM+D6xUSRwfKMSqnAxgBJtiQylI5eD6kApKWm9
 shQ8I9G0VQR6vh1rqRpm+Sr7ekvphRG/0/Zkti6cfMj/MouMmgKwgG1jHFadM19rlEPzFq4RwJN
 fJ0T8b17dcclsZxmjRVysCK+tHKEzw==
X-Google-Smtp-Source: AGHT+IFcV+w7A6TVXWy/zadPEJP8NJv5oyUkUR9ohQdIPWMDMAYoJhszk3EkvrrthWXs73gQczm4Kzd57gIp
X-Received: by 2002:a05:6602:3807:b0:84f:44de:9ca7 with SMTP id
 ca18e2360f4ac-854fd88d7fbmr1186989339f.3.1739189567599; 
 Mon, 10 Feb 2025 04:12:47 -0800 (PST)
Received: from postal.iol.unh.edu (postal.iol.unh.edu. [132.177.123.84])
 by smtp-relay.gmail.com with ESMTPS id
 ca18e2360f4ac-8553bad59f0sm3056839f.15.2025.02.10.04.12.47
 (version=TLS1_2 cipher=ECDHE-ECDSA-AES128-GCM-SHA256 bits=128/128);
 Mon, 10 Feb 2025 04:12:47 -0800 (PST)
X-Relaying-Domain: iol.unh.edu
Date: Mon, 10 Feb 2025 04:12:47 -0800 (PST)
Message-ID: <67a9ed3f.050a0220.1fe3c0.1bcdSMTPIN_ADDED_MISSING@mx.google.com>
Received: from [172.21.0.5] (unknown [172.18.0.240])
 by postal.iol.unh.edu (Postfix) with ESMTP id 3862A6052471;
 Mon, 10 Feb 2025 07:12:47 -0500 (EST)
Subject: |SUCCESS| pw151275 [PATCH] net/mlx5: fix the GRE mask set on root ta
From: dpdklab@iol.unh.edu
To: Test Report <test-report@dpdk.org>
Cc: dpdk-test-reports@iol.unh.edu
In-Reply-To: <20250210101457.306368-1-getelson@nvidia.com>
References: <20250210101457.306368-1-getelson@nvidia.com>
Content-Type: text/plain
X-BeenThere: test-report@dpdk.org
X-Mailman-Version: 2.1.29
Precedence: list
List-Id: automatic DPDK test reports <test-report.dpdk.org>
List-Unsubscribe: <https://mails.dpdk.org/options/test-report>,
 <mailto:test-report-request@dpdk.org?subject=unsubscribe>
List-Archive: <http://mails.dpdk.org/archives/test-report/>
List-Post: <mailto:test-report@dpdk.org>
List-Help: <mailto:test-report-request@dpdk.org?subject=help>
List-Subscribe: <https://mails.dpdk.org/listinfo/test-report>,
 <mailto:test-report-request@dpdk.org?subject=subscribe>
Errors-To: test-report-bounces@dpdk.org

Test-Label: iol-abi-testing
Test-Status: SUCCESS
http://dpdk.org/patch/151275

_Testing PASS_

Submitter: Gregory Etelson <getelson@nvidia.com>
Date: Monday, February 10 2025 10:14:56 
DPDK git baseline: Repo:dpdk
  Branch: master
  CommitID:af389f2da68c0e9bb08a68055996bececbd45108

151275 --> testing pass

Upstream job id: Generic-DPDK-Compile-ABI#115639

Test environment and result as below:

+-------------------+----------+
|    Environment    | abi_test |
+===================+==========+
| CentOS Stream 9   | PASS     |
+-------------------+----------+
| Debian Bullseye   | PASS     |
+-------------------+----------+
| Fedora 40         | PASS     |
+-------------------+----------+
| Fedora 41 (Clang) | PASS     |
+-------------------+----------+
| Debian 12         | PASS     |
+-------------------+----------+
| Fedora 40 (Clang) | PASS     |
+-------------------+----------+
| Fedora 41         | PASS     |
+-------------------+----------+
| Ubuntu 22.04      | PASS     |
+-------------------+----------+
| Ubuntu 24.04      | PASS     |
+-------------------+----------+
| openSUSE Leap 15  | PASS     |
+-------------------+----------+
| RHEL9             | PASS     |
+-------------------+----------+
| RHEL8             | PASS     |
+-------------------+----------+


CentOS Stream 9
	Kernel: Depends on container host
	Compiler: gcc 11.5.0 20240719 (Red Hat 11.5.0-2)

Debian Bullseye
	Kernel: Depends on container host
	Compiler: gcc (Debian 10.2.1-6) 10.2.1 20210110

Fedora 40
	Kernel: Depends on container host
	Compiler: gcc 14.2.1 20240912 (Red Hat 14.2.1-3)

Fedora 41 (Clang)
	Kernel: Depends on container host
	Compiler: clang 19.1.5 (Fedora 19.1.5-1.fc41)

Debian 12
	Kernel: Depends on container host
	Compiler: gcc (Debian 12.2.0-14) 12.2.0

Fedora 40 (Clang)
	Kernel: Depends on container host
	Compiler: clang 18.1.8 (Fedora 18.1.8-1.fc40)

Fedora 41
	Kernel: Depends on container host
	Compiler: gcc 14.2.1 20240912 (Red Hat 14.2.1-3)

Ubuntu 22.04
	Kernel: Depends on container host
	Compiler: gcc (Ubuntu 11.4.0-1ubuntu1~22.04) 11.4.0

Ubuntu 24.04
	Kernel: Depends on container host
	Compiler: gcc (Ubuntu 13.3.0-6ubuntu2~24.04) 13.3.0

openSUSE Leap 15
	Kernel: Depends on container host
	Compiler: gcc (SUSE Linux) 7.5.0

RHEL9
	Kernel: Depends on container host
	Compiler: gcc 11.5.0 20240719 (Red Hat 11.5.0-2)

RHEL8
	Kernel: Depends on container host
	Compiler: gcc 8.5.0 20210514 (Red Hat 8.5.0-22)

To view detailed results, visit:
https://lab.dpdk.org/results/dashboard/patchsets/32547/

UNH-IOL DPDK Community Lab

To manage your email subscriptions, visit: 
https://lab.dpdk.org/results/dashboard/preferences/subscriptions/