From mboxrd@z Thu Jan 1 00:00:00 1970 Return-Path: Received: from mails.dpdk.org (mails.dpdk.org [217.70.189.124]) by inbox.dpdk.org (Postfix) with ESMTP id 6A673461EC for ; Mon, 10 Feb 2025 13:17:51 +0100 (CET) Received: from mails.dpdk.org (localhost [127.0.0.1]) by mails.dpdk.org (Postfix) with ESMTP id 4032F42670; Mon, 10 Feb 2025 13:17:51 +0100 (CET) Received: from mail-yb1-f225.google.com (mail-yb1-f225.google.com [209.85.219.225]) by mails.dpdk.org (Postfix) with ESMTP id ECF6F40268 for ; Mon, 10 Feb 2025 13:17:49 +0100 (CET) Received: by mail-yb1-f225.google.com with SMTP id 3f1490d57ef6-e53a91756e5so3586089276.1 for ; Mon, 10 Feb 2025 04:17:49 -0800 (PST) DKIM-Signature: v=1; a=rsa-sha256; c=relaxed/relaxed; d=iol.unh.edu; s=unh-iol; t=1739189869; x=1739794669; darn=dpdk.org; h=references:in-reply-to:cc:to:from:subject:message-id:date:from:to :cc:subject:date:message-id:reply-to; bh=tU6GIm1EdaFuP16Z858iL9FEOa5j9UyeDZNQyI/2QGw=; b=Qkva8F9cNsSdV7kbDMc0eohnnAak9YzT80eVrBpDvXrkKormMM/K5zQnBW4f8O8m19 g17GrNlJBEi8/NwevBpP7IQM6cNu773iggTH5Tzgn6Z3NDVLE/qnFjmFOwm9brvdRHjw 26s7xOxLSUcaNkrDOKZnTfrkt8HYDVECVOUvc= X-Google-DKIM-Signature: v=1; a=rsa-sha256; c=relaxed/relaxed; d=1e100.net; s=20230601; t=1739189869; x=1739794669; h=references:in-reply-to:cc:to:from:subject:message-id:date :x-gm-message-state:from:to:cc:subject:date:message-id:reply-to; bh=tU6GIm1EdaFuP16Z858iL9FEOa5j9UyeDZNQyI/2QGw=; b=RGICTDhv12cvm3mjnKYOhVpUcB9LJ+z5gawJQJNckjFVNsQIUF6pksHH/Y3tl7BvBk k6yh2dEBN2qODlcfEM4nW/G4p4Uj5uH9A3pmnwAdpTd07hsf+UMHJuBw44yLi3+942W6 Scuw8BKt2JgKJs5z+yNb9AHqbw5JUKniJuMQqzkixoKTbEHj53lG6qVGlHQO/W1lFgH7 IRoHXXwUM9ZYTIBPmlcnlS3I50Yvw2Nu6s04xp71FqmcnWyYTVgh9h8+fZe0DShWK9vQ k+FrGX1fFj+L2I1rBIl/nrV37WPzQYGVA8/v0+leVe5syM9QjcDgDaZF8ohlPMLL8fqE lXCw== X-Gm-Message-State: AOJu0YxMg96f9rCWRb2cLTXfnACNFZXI3GiEsMIUEzfiR17uSgGJp01B VHVmppeNsMX8rbOsIzPRCAxno2uapc9fODnac07wHxVIDJviBD/ZfmDMSMdQvjnS21NOoHwZWt3 5rm7mXllTX2YAvWVZHdcFCDZmIlYMp5/dxZMN3oYGvGR3LrdrEDO9eAge X-Gm-Gg: ASbGncsjH/RGo+deu8P/qq9IZE8uJC5MJPaauXVDR4BzQKMDBg49UjrC+61n+hfRmxP g/wjpqi8hlO7O2dMYrdTTKJQmikJclcQv2442Zx2qmXwLcYv5g3eqJdGDU2J3Ne6ndlF4Zm8jYf Wb2wd5ON8YmeVV31nVRkTbhDrCYFNp1cLCj9heGILK4TXGhkF6m7gM+OzcUcsRWzLqO4rKKTlew tm3n3GZkYvioYicvjCK2KUfJTiz4wAtUzVHVGPSTJ+vKmozrJY2gj4fZ9MuuAl1LmYPvGA5E4ux Oqy/3vH4/Is9pmt8Mkl6MLdN1tZRbVWrIqRqxCMFvg== X-Google-Smtp-Source: AGHT+IFMZau7B3DZbb8QICvuBaqssFCX//AdmGKUkIh50uCZvWpb7tQqu70zcoYkDtQzGQELvUaiK0z2Zo8Y X-Received: by 2002:a05:690c:4986:b0:6f9:4bb6:eb4e with SMTP id 00721157ae682-6f9b29ead87mr118693577b3.31.1739189869252; Mon, 10 Feb 2025 04:17:49 -0800 (PST) Received: from postal.iol.unh.edu (postal.iol.unh.edu. [2606:4100:3880:1234::84]) by smtp-relay.gmail.com with ESMTPS id 00721157ae682-6f99fcf6c9dsm900907b3.14.2025.02.10.04.17.49 (version=TLS1_2 cipher=ECDHE-ECDSA-AES128-GCM-SHA256 bits=128/128); Mon, 10 Feb 2025 04:17:49 -0800 (PST) X-Relaying-Domain: iol.unh.edu Date: Mon, 10 Feb 2025 04:17:49 -0800 (PST) Message-ID: <67a9ee6d.050a0220.371070.4901SMTPIN_ADDED_MISSING@mx.google.com> Received: from [172.17.0.4] (unknown [172.18.0.217]) by postal.iol.unh.edu (Postfix) with ESMTP id CFFFE6052471; Mon, 10 Feb 2025 07:17:48 -0500 (EST) Subject: |SUCCESS| pw151275 [PATCH] net/mlx5: fix the GRE mask set on root ta From: dpdklab@iol.unh.edu To: Test Report Cc: dpdk-test-reports@iol.unh.edu In-Reply-To: <20250210101457.306368-1-getelson@nvidia.com> References: <20250210101457.306368-1-getelson@nvidia.com> Content-Type: text/plain X-BeenThere: test-report@dpdk.org X-Mailman-Version: 2.1.29 Precedence: list List-Id: automatic DPDK test reports List-Unsubscribe: , List-Archive: List-Post: List-Help: List-Subscribe: , Errors-To: test-report-bounces@dpdk.org Test-Label: iol-unit-amd64-testing Test-Status: SUCCESS http://dpdk.org/patch/151275 _Testing PASS_ Submitter: Gregory Etelson Date: Monday, February 10 2025 10:14:56 DPDK git baseline: Repo:dpdk Branch: master CommitID:af389f2da68c0e9bb08a68055996bececbd45108 151275 --> testing pass Upstream job id: Generic-VM-Unit-Test-DPDK#27181 Test environment and result as below: +---------------------+----------------+ | Environment | dpdk_unit_test | +=====================+================+ | Debian Bullseye | PASS | +---------------------+----------------+ | Debian 12 | PASS | +---------------------+----------------+ | CentOS Stream 9 | PASS | +---------------------+----------------+ | Fedora 40 | PASS | +---------------------+----------------+ | Fedora 41 | PASS | +---------------------+----------------+ | Ubuntu 20.04 | PASS | +---------------------+----------------+ | Fedora 40 (Clang) | PASS | +---------------------+----------------+ | Fedora 41 (Clang) | PASS | +---------------------+----------------+ | RHEL9 | PASS | +---------------------+----------------+ | RHEL8 | PASS | +---------------------+----------------+ | Ubuntu 22.04 | PASS | +---------------------+----------------+ | Ubuntu 24.04 | PASS | +---------------------+----------------+ | Windows Server 2022 | PASS | +---------------------+----------------+ Debian Bullseye Kernel: Depends on container host Compiler: gcc (Debian 10.2.1-6) 10.2.1 20210110 Debian 12 Kernel: Depends on container host Compiler: gcc (Debian 12.2.0-14) 12.2.0 CentOS Stream 9 Kernel: Depends on container host Compiler: gcc 11.5.0 20240719 (Red Hat 11.5.0-2) Fedora 40 Kernel: Depends on container host Compiler: gcc 14.2.1 20240912 (Red Hat 14.2.1-3) Fedora 41 Kernel: Depends on container host Compiler: gcc 14.2.1 20240912 (Red Hat 14.2.1-3) Ubuntu 20.04 Kernel: Depends on container host Compiler: gcc (Ubuntu 9.4.0-1ubuntu1~20.04.2) 9.4.0 Fedora 40 (Clang) Kernel: Depends on container host Compiler: clang 18.1.8 (Fedora 18.1.8-1.fc40) Fedora 41 (Clang) Kernel: Depends on container host Compiler: clang 19.1.5 (Fedora 19.1.5-1.fc41) RHEL9 Kernel: Depends on container host Compiler: gcc 11.5.0 20240719 (Red Hat 11.5.0-2) RHEL8 Kernel: Depends on container host Compiler: gcc 8.5.0 20210514 (Red Hat 8.5.0-22) Ubuntu 22.04 Kernel: Depends on container host Compiler: gcc (Ubuntu 11.4.0-1ubuntu1~22.04) 11.4.0 Ubuntu 24.04 Kernel: Depends on container host Compiler: gcc (Ubuntu 13.3.0-6ubuntu2~24.04) 13.3.0 Windows Server 2022 Kernel: 10.0.20348.2031 Compiler: clang 15.0.7, gcc 14.1.0 (MinGW), and MSVC VS 19.39.33521 To view detailed results, visit: https://lab.dpdk.org/results/dashboard/patchsets/32547/ UNH-IOL DPDK Community Lab To manage your email subscriptions, visit: https://lab.dpdk.org/results/dashboard/preferences/subscriptions/