From mboxrd@z Thu Jan 1 00:00:00 1970 Return-Path: Received: from mails.dpdk.org (mails.dpdk.org [217.70.189.124]) by inbox.dpdk.org (Postfix) with ESMTP id 4BB31461EC for ; Mon, 10 Feb 2025 13:39:56 +0100 (CET) Received: from mails.dpdk.org (localhost [127.0.0.1]) by mails.dpdk.org (Postfix) with ESMTP id 28F1E42670; Mon, 10 Feb 2025 13:39:56 +0100 (CET) Received: from mail-yw1-f226.google.com (mail-yw1-f226.google.com [209.85.128.226]) by mails.dpdk.org (Postfix) with ESMTP id 5221840268 for ; Mon, 10 Feb 2025 13:39:55 +0100 (CET) Received: by mail-yw1-f226.google.com with SMTP id 00721157ae682-6f99efce804so28855887b3.0 for ; Mon, 10 Feb 2025 04:39:55 -0800 (PST) DKIM-Signature: v=1; a=rsa-sha256; c=relaxed/relaxed; d=iol.unh.edu; s=unh-iol; t=1739191194; x=1739795994; darn=dpdk.org; h=references:in-reply-to:cc:to:from:subject:message-id:date:from:to :cc:subject:date:message-id:reply-to; bh=4nJWZDft0KoO6ohYdoFPGAeqp4XvY1T12uF6TS0t41o=; b=blbOpCeAECUiuSg9x+3ItDyc7f8b799sHtGJBQ9jGmfE8pmpLcA0S+LbaTClmcK0K1 LVM4Zq+Ykn3qLChBR2xPJCOFJLx9OQXbVTLD+muhL5ZEQyo8V4qholoNmFEJHtGXNtW3 CjufTWvsTH+tc4lQbJEL+pifQVQ/mOIn4SM8c= X-Google-DKIM-Signature: v=1; a=rsa-sha256; c=relaxed/relaxed; d=1e100.net; s=20230601; t=1739191194; x=1739795994; h=references:in-reply-to:cc:to:from:subject:message-id:date :x-gm-message-state:from:to:cc:subject:date:message-id:reply-to; bh=4nJWZDft0KoO6ohYdoFPGAeqp4XvY1T12uF6TS0t41o=; b=k/9HFBhX3QoMUGVHpQh2plXcAu7UlL7z0EzNbuhEypbFsWfx6/nQM/u8LZQLnYtz9W l6IWTNR2GOJabXaCjzpbuV541hn8VOEx4fwIPwGlXcf/lMFHTXfgTV12ygs+f1tEv3eQ pULdmRKW2YgRXz333mTo1IbGHJeiLDFlam+O9MgCNLwF+rANVFWOsCxUSfU+9ZUh2KB5 lpFkALZCG4GBwLvxDgm9ad5iGAmMEvHl1R1YGDME8Xtm3TSIwl1udDsGzEtrbjccowHf EIz6jo5FwjHQM4veIG9U9amAZzul7DpQreaspxFbxV39xIeQZT9rosDfnCw/rZhO7AdH Rf4A== X-Gm-Message-State: AOJu0YxbPFKirtnGLjiI4QVxNcrHfOuAWOoSS8HwyfTbOV6hubSsWHkw Lt3v/RpHu5MC+5h7IexbWi/f/syqnmSg+efd/Y9QE9YyuLsHpuvIi6C6hxtdEy3S/D9rtTlNwS8 WImetuDrC6ZUWTca5BrMblm799tysvSvVjzYAszMLhF6ATFoTa2QGppsB X-Gm-Gg: ASbGncvAaUORH++PcTprcu3tqmeU46lMAAuuZNylw6CwtAWtCUSmIuG4e9CslektqRk nAGNsH15WDWNJfhpxj75vy1jtMEy1QrkRObhq/Cd+peY6Psp9//iU3eiw3z+2BQda4QBmrSC8kv tBipFnnPdEwMvqJP+tfKn6EwdkOptRIUNGS0PQ7TiTaj2yRZpi35bzvw9Wp/aWjvyyTP6kXu8N/ cyvRkuwsSIoz41ggRdAd/FUhFo7vvxp8VTTVIib95E8pXkyTOtbXRuLVtjSoz0nJsjKZTeLI9nw TqwXa1Q+q3Ra+GjJXuSXy4VjZfFFrgpQbMwoy3Ka4w== X-Google-Smtp-Source: AGHT+IFu25dMAgVYa1burWFGHqaF7zVbfN/YVG8QjXeQvbvbiU5r/LVaqaGw7M4O42SfD/q+MivZvaQGZZM5 X-Received: by 2002:a05:690c:640c:b0:6f9:acb3:4434 with SMTP id 00721157ae682-6f9b287a308mr112298167b3.19.1739191194485; Mon, 10 Feb 2025 04:39:54 -0800 (PST) Received: from postal.iol.unh.edu (postal.iol.unh.edu. [2606:4100:3880:1234::84]) by smtp-relay.gmail.com with ESMTPS id 00721157ae682-6f99ff947a4sm865537b3.47.2025.02.10.04.39.54 (version=TLS1_2 cipher=ECDHE-ECDSA-AES128-GCM-SHA256 bits=128/128); Mon, 10 Feb 2025 04:39:54 -0800 (PST) X-Relaying-Domain: iol.unh.edu Date: Mon, 10 Feb 2025 04:39:54 -0800 (PST) Message-ID: <67a9f39a.050a0220.abf35.467eSMTPIN_ADDED_MISSING@mx.google.com> Received: from [172.17.0.3] (unknown [172.18.0.217]) by postal.iol.unh.edu (Postfix) with ESMTP id 17EB36052471; Mon, 10 Feb 2025 07:39:54 -0500 (EST) Subject: |SUCCESS| pw151275 [PATCH] net/mlx5: fix the GRE mask set on root ta From: dpdklab@iol.unh.edu To: Test Report Cc: dpdk-test-reports@iol.unh.edu In-Reply-To: <20250210101457.306368-1-getelson@nvidia.com> References: <20250210101457.306368-1-getelson@nvidia.com> Content-Type: text/plain X-BeenThere: test-report@dpdk.org X-Mailman-Version: 2.1.29 Precedence: list List-Id: automatic DPDK test reports List-Unsubscribe: , List-Archive: List-Post: List-Help: List-Subscribe: , Errors-To: test-report-bounces@dpdk.org Test-Label: iol-sample-apps-testing Test-Status: SUCCESS http://dpdk.org/patch/151275 _Testing PASS_ Submitter: Gregory Etelson Date: Monday, February 10 2025 10:14:56 DPDK git baseline: Repo:dpdk Branch: master CommitID:af389f2da68c0e9bb08a68055996bececbd45108 151275 --> testing pass Upstream job id: ACVP-FIPS-testing#8862 Test environment and result as below: +--------------------+----------------------+----------------------+ | Environment | compressdev_zlib_pmd | dpdk_fips_validation | +====================+======================+======================+ | Ubuntu 22.04 (ARM) | PASS | SKIPPED | +--------------------+----------------------+----------------------+ | Ubuntu 22.04 | PASS | SKIPPED | +--------------------+----------------------+----------------------+ | Ubuntu 20.04 | SKIPPED | PASS | +--------------------+----------------------+----------------------+ Ubuntu 22.04 (ARM) Kernel: 5.15.0-97-generic Compiler: gcc gcc (Ubuntu 11.4.0-1ubuntu1~22.04) 11.4.0 Ubuntu 22.04 Kernel: 5.15.0-100-generic Compiler: gcc gcc (Ubuntu 11.4.0-1ubuntu1~22.04) 11.4.0 Ubuntu 20.04 Kernel: Depends on container host Compiler: gcc (Ubuntu 9.4.0-1ubuntu1~20.04.2) 9.4.0 To view detailed results, visit: https://lab.dpdk.org/results/dashboard/patchsets/32547/ UNH-IOL DPDK Community Lab To manage your email subscriptions, visit: https://lab.dpdk.org/results/dashboard/preferences/subscriptions/