From mboxrd@z Thu Jan 1 00:00:00 1970 Return-Path: Received: from mails.dpdk.org (mails.dpdk.org [217.70.189.124]) by inbox.dpdk.org (Postfix) with ESMTP id 23C63461EC for ; Mon, 10 Feb 2025 13:46:48 +0100 (CET) Received: from mails.dpdk.org (localhost [127.0.0.1]) by mails.dpdk.org (Postfix) with ESMTP id 1D8D542670; Mon, 10 Feb 2025 13:46:48 +0100 (CET) Received: from mail-oa1-f97.google.com (mail-oa1-f97.google.com [209.85.160.97]) by mails.dpdk.org (Postfix) with ESMTP id C351C40268 for ; Mon, 10 Feb 2025 13:46:46 +0100 (CET) Received: by mail-oa1-f97.google.com with SMTP id 586e51a60fabf-2b85131e68dso1665963fac.1 for ; Mon, 10 Feb 2025 04:46:46 -0800 (PST) DKIM-Signature: v=1; a=rsa-sha256; c=relaxed/relaxed; d=iol.unh.edu; s=unh-iol; t=1739191606; x=1739796406; darn=dpdk.org; h=references:in-reply-to:cc:to:from:subject:message-id:date:from:to :cc:subject:date:message-id:reply-to; bh=pAFoDrnSXYEcj1odjDKCDU0oo7NBOCefhlbIfooyrK8=; b=Aw3X+Sjcp+W8S0Qhv+CDajhObCm4f1Uz9HGQVQY8hgdRY1+7t/81O4keOBbmgAWwtm 8AnZiUZloEgX3RRSbQ/CGvbHRs1fmGiA238mrEyWnRraFH7pFor223+Q0PJMIC0TADNH 2eiDtnxD9jXmF6swy7Hv7kmtdRbdNVV06+tPE= X-Google-DKIM-Signature: v=1; a=rsa-sha256; c=relaxed/relaxed; d=1e100.net; s=20230601; t=1739191606; x=1739796406; h=references:in-reply-to:cc:to:from:subject:message-id:date :x-gm-message-state:from:to:cc:subject:date:message-id:reply-to; bh=pAFoDrnSXYEcj1odjDKCDU0oo7NBOCefhlbIfooyrK8=; b=iTK/pPruI52//GSYxFcfU9dqPyiW1fkFhUe5Ztn2MjRlP1ZvzcbBenslQfWLJn7BVq rIL+QGJLSKt1WxrpWuSgKf7f1yhRNL+WHvW8hCsmrKM2ehS4Xz1fPD9ijwbwyzOCB+GD ucVw+dCwfi37+WMiMj4W/rorLyFKMAyHE5mM3Nged83w6sLO/UDUpK0UkuoFhKXZgilI ZJcYWEj5smo6jWc3HseL98034LwDxQebFnCDZe7XYhE/QgWT3hiWZpNtFwGGMfcjfGX7 JR/JelDBx86sORDaVUeEEPiDXp0DU5lbMkVx6IbYaI4DzqthnwoJe3HiVELIFNkWW0yI 0HKA== X-Gm-Message-State: AOJu0Yyq03aZ97Q9XNbD0ZCbHMkmmueIw6Wh82bSBT5Htv2HXVs/BLfa Lm1B4EMXImAm+PUlP8l/nUNUEMBMm6xxPT8ovZhAFK1dNekbSd3mD9v3QNF9AaMASW68/c3mwWP BNsGvnyCu0QXNKd/tFcRVKRpvZwC98No9MT+j3OWXgf9YqT36XWdIf3XK X-Gm-Gg: ASbGncu4XexZlyjwpyO2h370nNlBS8nig+byVTWQAavOCbqRxr9Eld9NkjhalJxy6JQ 2M3hE3B2R3Y5qS7o1i89KXOOBPh5omyFOEtRVqP12C3Vyj49wgV7spHEpuF2PfvY2EZwvdNfUYT +gvaiwbKQZur9WJVyHhSEwYHOdO9zHbc+JFWYGSA8At8MrRmHNvQ5QpX0J0xNpNde/PU0ettzBZ 4yPighhuhQSp3ZUd0b3T96VY+sFxQV3rsJyl3A2ZgX4a4RUOGeP74cgtSGxKRsJpVkHCOaVH1mX CJ7itn7K+cqXX9ZDCxjalDRFWPqChyUXEZN9Jl7ewQ== X-Google-Smtp-Source: AGHT+IH+665oum2q0tfZtxzskkTxOOBBFBH96r0Uy6kiUgrnWZc0VvtntB7bGPK1PrjvBJRbgLd9JBdR2W0a X-Received: by 2002:a05:6871:c3c7:b0:29e:67cd:1a89 with SMTP id 586e51a60fabf-2b83ef6b9damr9071448fac.36.1739191605820; Mon, 10 Feb 2025 04:46:45 -0800 (PST) Received: from postal.iol.unh.edu (postal.iol.unh.edu. [2606:4100:3880:1234::84]) by smtp-relay.gmail.com with ESMTPS id 586e51a60fabf-2b8855ea4e7sm118599fac.13.2025.02.10.04.46.45 (version=TLS1_2 cipher=ECDHE-ECDSA-AES128-GCM-SHA256 bits=128/128); Mon, 10 Feb 2025 04:46:45 -0800 (PST) X-Relaying-Domain: iol.unh.edu Date: Mon, 10 Feb 2025 04:46:45 -0800 (PST) Message-ID: <67a9f535.050a0220.3bd4e.6995SMTPIN_ADDED_MISSING@mx.google.com> Received: from [172.17.0.3] (unknown [172.18.0.217]) by postal.iol.unh.edu (Postfix) with ESMTP id 4B4BE6052471; Mon, 10 Feb 2025 07:46:45 -0500 (EST) Subject: |SUCCESS| pw151275 [PATCH] net/mlx5: fix the GRE mask set on root ta From: dpdklab@iol.unh.edu To: Test Report Cc: dpdk-test-reports@iol.unh.edu In-Reply-To: <20250210101457.306368-1-getelson@nvidia.com> References: <20250210101457.306368-1-getelson@nvidia.com> Content-Type: text/plain X-BeenThere: test-report@dpdk.org X-Mailman-Version: 2.1.29 Precedence: list List-Id: automatic DPDK test reports List-Unsubscribe: , List-Archive: List-Post: List-Help: List-Subscribe: , Errors-To: test-report-bounces@dpdk.org Test-Label: iol-compile-amd64-testing Test-Status: SUCCESS http://dpdk.org/patch/151275 _Testing PASS_ Submitter: Gregory Etelson Date: Monday, February 10 2025 10:14:56 DPDK git baseline: Repo:dpdk Branch: master CommitID:af389f2da68c0e9bb08a68055996bececbd45108 151275 --> testing pass Upstream job id: Generic-DPDK-Compile-Meson#360116 Test environment and result as below: +---------------------+--------------------+------------------+-------------------+-------------------------+-------------------+----------------------+ | Environment | dpdk_meson_compile | dpdk_compile_ovs | dpdk_compile_spdk | dpdk_llvm_clang_compile | dpdk_msvc_compile | dpdk_mingw64_compile | +=====================+====================+==================+===================+=========================+===================+======================+ | CentOS Stream 9 | PASS | PASS | PASS | SKIPPED | SKIPPED | SKIPPED | +---------------------+--------------------+------------------+-------------------+-------------------------+-------------------+----------------------+ | Debian Bullseye | PASS | PASS | PASS | SKIPPED | SKIPPED | SKIPPED | +---------------------+--------------------+------------------+-------------------+-------------------------+-------------------+----------------------+ | Debian 12 | PASS | PASS | PASS | SKIPPED | SKIPPED | SKIPPED | +---------------------+--------------------+------------------+-------------------+-------------------------+-------------------+----------------------+ | Fedora 40 (Clang) | PASS | PASS | PASS | SKIPPED | SKIPPED | SKIPPED | +---------------------+--------------------+------------------+-------------------+-------------------------+-------------------+----------------------+ | Fedora 40 | PASS | PASS | PASS | SKIPPED | SKIPPED | SKIPPED | +---------------------+--------------------+------------------+-------------------+-------------------------+-------------------+----------------------+ | Fedora 41 (Clang) | PASS | PASS | PASS | SKIPPED | SKIPPED | SKIPPED | +---------------------+--------------------+------------------+-------------------+-------------------------+-------------------+----------------------+ | Fedora 41 | PASS | PASS | PASS | SKIPPED | SKIPPED | SKIPPED | +---------------------+--------------------+------------------+-------------------+-------------------------+-------------------+----------------------+ | openSUSE Leap 15 | PASS | SKIPPED | SKIPPED | SKIPPED | SKIPPED | SKIPPED | +---------------------+--------------------+------------------+-------------------+-------------------------+-------------------+----------------------+ | RHEL8 | PASS | PASS | SKIPPED | SKIPPED | SKIPPED | SKIPPED | +---------------------+--------------------+------------------+-------------------+-------------------------+-------------------+----------------------+ | RHEL9 | PASS | PASS | SKIPPED | SKIPPED | SKIPPED | SKIPPED | +---------------------+--------------------+------------------+-------------------+-------------------------+-------------------+----------------------+ | Ubuntu 20.04 | PASS | SKIPPED | SKIPPED | SKIPPED | SKIPPED | SKIPPED | +---------------------+--------------------+------------------+-------------------+-------------------------+-------------------+----------------------+ | Ubuntu 24.04 | PASS | PASS | PASS | SKIPPED | SKIPPED | SKIPPED | +---------------------+--------------------+------------------+-------------------+-------------------------+-------------------+----------------------+ | Alpine | PASS | PASS | SKIPPED | SKIPPED | SKIPPED | SKIPPED | +---------------------+--------------------+------------------+-------------------+-------------------------+-------------------+----------------------+ | FreeBSD 13.4 | PASS | SKIPPED | SKIPPED | SKIPPED | SKIPPED | SKIPPED | +---------------------+--------------------+------------------+-------------------+-------------------------+-------------------+----------------------+ | FreeBSD 14.2 | PASS | SKIPPED | SKIPPED | SKIPPED | SKIPPED | SKIPPED | +---------------------+--------------------+------------------+-------------------+-------------------------+-------------------+----------------------+ | Ubuntu 22.04 | PASS | PASS | PASS | SKIPPED | SKIPPED | SKIPPED | +---------------------+--------------------+------------------+-------------------+-------------------------+-------------------+----------------------+ | Windows Server 2022 | SKIPPED | SKIPPED | SKIPPED | PASS | PASS | PASS | +---------------------+--------------------+------------------+-------------------+-------------------------+-------------------+----------------------+ CentOS Stream 9 Kernel: Depends on container host Compiler: gcc 11.5.0 20240719 (Red Hat 11.5.0-2) Debian Bullseye Kernel: Depends on container host Compiler: gcc (Debian 10.2.1-6) 10.2.1 20210110 Debian 12 Kernel: Depends on container host Compiler: gcc (Debian 12.2.0-14) 12.2.0 Fedora 40 (Clang) Kernel: Depends on container host Compiler: clang 18.1.8 (Fedora 18.1.8-1.fc40) Fedora 40 Kernel: Depends on container host Compiler: gcc 14.2.1 20240912 (Red Hat 14.2.1-3) Fedora 41 (Clang) Kernel: Depends on container host Compiler: clang 19.1.5 (Fedora 19.1.5-1.fc41) Fedora 41 Kernel: Depends on container host Compiler: gcc 14.2.1 20240912 (Red Hat 14.2.1-3) openSUSE Leap 15 Kernel: Depends on container host Compiler: gcc (SUSE Linux) 7.5.0 RHEL8 Kernel: Depends on container host Compiler: gcc 8.5.0 20210514 (Red Hat 8.5.0-22) RHEL9 Kernel: Depends on container host Compiler: gcc 11.5.0 20240719 (Red Hat 11.5.0-2) Ubuntu 20.04 Kernel: Depends on container host Compiler: gcc (Ubuntu 9.4.0-1ubuntu1~20.04.2) 9.4.0 Ubuntu 24.04 Kernel: Depends on container host Compiler: gcc (Ubuntu 13.3.0-6ubuntu2~24.04) 13.3.0 Alpine Kernel: Depends on container host Compiler: gcc (Alpine 14.2.0) 14.2.0 FreeBSD 13.4 Kernel: 13.4-RELEASE-p1 Compiler: clang 18.1.6 FreeBSD 14.2 Kernel: 14.2-RELEASE Compiler: clang 18.1.6 Ubuntu 22.04 Kernel: Depends on container host Compiler: gcc (Ubuntu 11.4.0-1ubuntu1~22.04) 11.4.0 Windows Server 2022 Kernel: 10.0.20348.2031 Compiler: clang 15.0.7, gcc 14.1.0 (MinGW), and MSVC VS 19.39.33521 To view detailed results, visit: https://lab.dpdk.org/results/dashboard/patchsets/32547/ UNH-IOL DPDK Community Lab To manage your email subscriptions, visit: https://lab.dpdk.org/results/dashboard/preferences/subscriptions/