From mboxrd@z Thu Jan  1 00:00:00 1970
Return-Path: <test-report-bounces@dpdk.org>
Received: from mails.dpdk.org (mails.dpdk.org [217.70.189.124])
	by inbox.dpdk.org (Postfix) with ESMTP id 79F32461ED
	for <public@inbox.dpdk.org>; Mon, 10 Feb 2025 14:19:34 +0100 (CET)
Received: from mails.dpdk.org (localhost [127.0.0.1])
	by mails.dpdk.org (Postfix) with ESMTP id 5F3B242670;
	Mon, 10 Feb 2025 14:19:34 +0100 (CET)
Received: from mail-qv1-f99.google.com (mail-qv1-f99.google.com
 [209.85.219.99]) by mails.dpdk.org (Postfix) with ESMTP id 42E5F40268
 for <test-report@dpdk.org>; Mon, 10 Feb 2025 14:19:33 +0100 (CET)
Received: by mail-qv1-f99.google.com with SMTP id
 6a1803df08f44-6e442b79de4so35671216d6.2
 for <test-report@dpdk.org>; Mon, 10 Feb 2025 05:19:33 -0800 (PST)
DKIM-Signature: v=1; a=rsa-sha256; c=relaxed/relaxed;
 d=iol.unh.edu; s=unh-iol; t=1739193572; x=1739798372; darn=dpdk.org;
 h=references:in-reply-to:cc:to:from:subject:message-id:date:from:to
 :cc:subject:date:message-id:reply-to;
 bh=lxZ0n/UvH0wyxBWyww1qpC1Y6eZROU2VhczItGixb44=;
 b=VX59sAlRxGmceUWTCIbTKQy65d/2xmmd6U8Z1NyPpbvIWbYPzap1eOwTV9H1iciyuz
 eKCFEQ15eq4b8PdgdbrdjvF8ZKbnI54kA45POWCrQud2RTpZMxwOyNg1nrWwPWKpcz5Q
 mpH3cEZ4WX8wSbIzrTR6w7RX3bCsOw8gypOc8=
X-Google-DKIM-Signature: v=1; a=rsa-sha256; c=relaxed/relaxed;
 d=1e100.net; s=20230601; t=1739193572; x=1739798372;
 h=references:in-reply-to:cc:to:from:subject:message-id:date
 :x-gm-message-state:from:to:cc:subject:date:message-id:reply-to;
 bh=lxZ0n/UvH0wyxBWyww1qpC1Y6eZROU2VhczItGixb44=;
 b=ilYnAkGLYcOvqw+ts+jRT/N/DYGDrjmgab8GdLYkSFfgEzMYF4AMsuPWlUrB800IMh
 Hzl7Py5L32LxqCJ/KJxkKMkdrWAiMsaoZW7eD0pzNnSxKt36xcgMgc2DpRw18OFuf74A
 XF91mWo+aRVCVwMv3MntpE5PwcadW2CQuomf5dSii9pIAlWIlCtSwEdoV+pI6cXmhhQB
 bRMvI5BELBeryagHip4/rqwrvholQVkFyk87MQTlhKfv8xwsQElmtOyMvt/D0FxbhmwY
 LmzeSKcWvJ00i1ByoeMVq81l4EZ5H4NuAunjlwmyP8WJxAIhsg3Tpk4ByDjEBnJuuErI
 DSEg==
X-Gm-Message-State: AOJu0Yzd60hq+KWnMkm811bOGBlA8sSTMV5QBwDwxJkKqzognXL2v7I4
 plNMPXfldr5IiZyE2WoK2WtfMFg/K+pCpUPdTr8ITAxMnSVhmiExAxZJcbi9GjCBS5gwrN1KCpX
 uPZxw+wqUMoJSW2dJveaxGstbZcjy+ZA21IciySFDFFbV72rXuRXVKL3K
X-Gm-Gg: ASbGnctcQJZGCZfM8l65JZPYjGYcsZm5MgHpJhfwCcQOYeg/DUQWCG4KLZjq6Y3b9y1
 UjbNB0XLeR2rXU5M/SydPLD5yb2Vp0zX6r2p+jTvAbb3c7JYZWi+g/PqC5CXmTQygVA/IevtC4W
 68NBMP2KBJRHSXb+SFyg9b6Ipu84vJSLPxbV6NtvWA0JPBkxUvf88VFlnb1TnBJm1hwSqkoqC6t
 XO5iBYSI5N1zyCv2FKS59WTgErCOVjeBbHCtMG2bCBiEuqlGXc315AvGezWBKePN7Xg9WEweiEM
 QiQmTdcPMISIgaUKxHJ++TRGOJUm0bO37OKgMCMTkA==
X-Google-Smtp-Source: AGHT+IF7nRBJ5lZkNwr20e4u9bb2ymKl7ANp6rblInHvqSowEXGa9FJGQVC8j4sAFtEX960Mp8j9iXP+fe1e
X-Received: by 2002:a05:6214:19e7:b0:6e4:2f90:a9ca with SMTP id
 6a1803df08f44-6e4455c46e3mr197903686d6.3.1739193572599; 
 Mon, 10 Feb 2025 05:19:32 -0800 (PST)
Received: from postal.iol.unh.edu (postal.iol.unh.edu.
 [2606:4100:3880:1234::84]) by smtp-relay.gmail.com with ESMTPS id
 6a1803df08f44-6e45d062f20sm1893236d6.61.2025.02.10.05.19.32
 (version=TLS1_2 cipher=ECDHE-ECDSA-AES128-GCM-SHA256 bits=128/128);
 Mon, 10 Feb 2025 05:19:32 -0800 (PST)
X-Relaying-Domain: iol.unh.edu
Date: Mon, 10 Feb 2025 05:19:32 -0800 (PST)
Message-ID: <67a9fce4.050a0220.343b06.9e3aSMTPIN_ADDED_MISSING@mx.google.com>
Received: from [172.21.0.5] (unknown [172.18.0.240])
 by postal.iol.unh.edu (Postfix) with ESMTP id 4AB076052471;
 Mon, 10 Feb 2025 08:19:32 -0500 (EST)
Subject: |SUCCESS| pw151275 [PATCH] net/mlx5: fix the GRE mask set on root ta
From: dpdklab@iol.unh.edu
To: Test Report <test-report@dpdk.org>
Cc: dpdk-test-reports@iol.unh.edu
In-Reply-To: <20250210101457.306368-1-getelson@nvidia.com>
References: <20250210101457.306368-1-getelson@nvidia.com>
Content-Type: text/plain
X-BeenThere: test-report@dpdk.org
X-Mailman-Version: 2.1.29
Precedence: list
List-Id: automatic DPDK test reports <test-report.dpdk.org>
List-Unsubscribe: <https://mails.dpdk.org/options/test-report>,
 <mailto:test-report-request@dpdk.org?subject=unsubscribe>
List-Archive: <http://mails.dpdk.org/archives/test-report/>
List-Post: <mailto:test-report@dpdk.org>
List-Help: <mailto:test-report-request@dpdk.org?subject=help>
List-Subscribe: <https://mails.dpdk.org/listinfo/test-report>,
 <mailto:test-report-request@dpdk.org?subject=subscribe>
Errors-To: test-report-bounces@dpdk.org

Test-Label: iol-compile-arm64-testing
Test-Status: SUCCESS
http://dpdk.org/patch/151275

_Testing PASS_

Submitter: Gregory Etelson <getelson@nvidia.com>
Date: Monday, February 10 2025 10:14:56 
DPDK git baseline: Repo:dpdk
  Branch: master
  CommitID:af389f2da68c0e9bb08a68055996bececbd45108

151275 --> testing pass

Upstream job id: Generic-DPDK-Compile-Meson#360122

Test environment and result as below:

+----------------------------------------+--------------------+
|              Environment               | dpdk_meson_compile |
+========================================+====================+
| RHEL9 (ARM)                            | PASS               |
+----------------------------------------+--------------------+
| Ubuntu 20.04 ARM GCC Cross Compile     | PASS               |
+----------------------------------------+--------------------+
| Ubuntu 20.04 ARM SVE                   | PASS               |
+----------------------------------------+--------------------+
| Debian 12 with MUSDK                   | PASS               |
+----------------------------------------+--------------------+
| Fedora 41 (ARM)                        | PASS               |
+----------------------------------------+--------------------+
| Fedora 40 (ARM)                        | PASS               |
+----------------------------------------+--------------------+
| Fedora 40 (ARM Clang)                  | PASS               |
+----------------------------------------+--------------------+
| Fedora 41 (ARM Clang)                  | PASS               |
+----------------------------------------+--------------------+
| Ubuntu 20.04 (ARM)                     | PASS               |
+----------------------------------------+--------------------+
| Ubuntu 22.04 (ARM)                     | PASS               |
+----------------------------------------+--------------------+
| Ubuntu 24.04 (ARM)                     | PASS               |
+----------------------------------------+--------------------+
| CentOS Stream 9 (ARM)                  | PASS               |
+----------------------------------------+--------------------+
| Debian 12 (arm)                        | PASS               |
+----------------------------------------+--------------------+
| Ubuntu 20.04 ARM Clang Cross Compile   | PASS               |
+----------------------------------------+--------------------+
| Ubuntu 20.04 aarch32 GCC Cross Compile | PASS               |
+----------------------------------------+--------------------+
| Debian 11 (Buster) (ARM)               | PASS               |
+----------------------------------------+--------------------+


RHEL9 (ARM)
	Kernel: Depends on container host
	Compiler: gcc 11.5.0 20240719 (Red Hat 11.5.0-2)

Ubuntu 20.04 ARM GCC Cross Compile
	Kernel: Depends on container host
	Compiler: aarch64-linux-gnu-gcc (Ubuntu 9.4.0-1ubuntu1~20.04.2) 9.4.0

Ubuntu 20.04 ARM SVE
	Kernel: Depends on container host
	Compiler: gcc (Ubuntu 10.5.0-1ubuntu1~20.04) 10.5.0

Debian 12 with MUSDK
	Kernel: Depends on container host
	Compiler: gcc (Debian 12.2.0-14) 12.2.0

Fedora 41 (ARM)
	Kernel: Depends on container host
	Compiler: gcc 14.2.1 20240912 (Red Hat 14.2.1-3)

Fedora 40 (ARM)
	Kernel: Depends on container host
	Compiler: gcc 14.2.1 20240912 (Red Hat 14.2.1-3)

Fedora 40 (ARM Clang)
	Kernel: Depends on container host
	Compiler: clang 18.1.8 (Fedora 18.1.8-1.fc40)

Fedora 41 (ARM Clang)
	Kernel: Depends on container host
	Compiler: clang 19.1.5 (Fedora 19.1.5-1.fc41)

Ubuntu 20.04 (ARM)
	Kernel: Depends on container host
	Compiler: gcc (Ubuntu 9.4.0-1ubuntu1~20.04.2) 9.4.0

Ubuntu 22.04 (ARM)
	Kernel: Depends on container host
	Compiler: gcc (Ubuntu 11.4.0-1ubuntu1~22.04) 11.4.0

Ubuntu 24.04 (ARM)
	Kernel: Depends on container host
	Compiler: gcc (Ubuntu 13.3.0-6ubuntu2~24.04) 13.3.0

CentOS Stream 9 (ARM)
	Kernel: Depends on container host
	Compiler: gcc 11.5.0 20240719 (Red Hat 11.5.0-2)

Debian 12 (arm)
	Kernel: Depends on container host
	Compiler: gcc (Debian 12.2.0-14) 12.2.0

Ubuntu 20.04 ARM Clang Cross Compile
	Kernel: Depends on container host
	Compiler: clang 10.0.0-4ubuntu1

Ubuntu 20.04 aarch32 GCC Cross Compile
	Kernel: Depends on container host
	Compiler: gcc 9.4.0

Debian 11 (Buster) (ARM)
	Kernel: Depends on container host
	Compiler: gcc (Debian 10.2.1-6) 10.2.1 20210110

To view detailed results, visit:
https://lab.dpdk.org/results/dashboard/patchsets/32547/

UNH-IOL DPDK Community Lab

To manage your email subscriptions, visit: 
https://lab.dpdk.org/results/dashboard/preferences/subscriptions/