From mboxrd@z Thu Jan 1 00:00:00 1970 Return-Path: Received: from mails.dpdk.org (mails.dpdk.org [217.70.189.124]) by inbox.dpdk.org (Postfix) with ESMTP id 75EEC461ED for ; Mon, 10 Feb 2025 14:19:49 +0100 (CET) Received: from mails.dpdk.org (localhost [127.0.0.1]) by mails.dpdk.org (Postfix) with ESMTP id 72C4642670; Mon, 10 Feb 2025 14:19:49 +0100 (CET) Received: from mail-il1-f228.google.com (mail-il1-f228.google.com [209.85.166.228]) by mails.dpdk.org (Postfix) with ESMTP id 9E4D640268 for ; Mon, 10 Feb 2025 14:19:48 +0100 (CET) Received: by mail-il1-f228.google.com with SMTP id e9e14a558f8ab-3d03d2bd7d2so45479845ab.0 for ; Mon, 10 Feb 2025 05:19:48 -0800 (PST) DKIM-Signature: v=1; a=rsa-sha256; c=relaxed/relaxed; d=iol.unh.edu; s=unh-iol; t=1739193588; x=1739798388; darn=dpdk.org; h=references:in-reply-to:cc:to:from:subject:message-id:date:from:to :cc:subject:date:message-id:reply-to; bh=ZENE202pmr96YO97DqVzsIYA3P+c2TKaIDK2x/8KpXE=; b=B4tPueSCV/qok34uIXtMctnKcjExK7hfB02qktyafa7btQgWjHyc+UFXrf9MhRPFGH qmbSjC7uScU3tAZClI6Rji7LvFmyE8vTujcg+K2XHboBwx0eqUy9qtzUbxTc6YLCPc6W w7e/OeVbDFWavfcuPC3bBN3m1mQExCeTSVJ8I= X-Google-DKIM-Signature: v=1; a=rsa-sha256; c=relaxed/relaxed; d=1e100.net; s=20230601; t=1739193588; x=1739798388; h=references:in-reply-to:cc:to:from:subject:message-id:date :x-gm-message-state:from:to:cc:subject:date:message-id:reply-to; bh=ZENE202pmr96YO97DqVzsIYA3P+c2TKaIDK2x/8KpXE=; b=Zy3kHfwpPoeIdFaD6QDB5XKWYDE0np70VU/cR7Tfh3DcEvj/45HuKBzc6PPanolEZq BRCcP2ynOzFhtmOCGx1Eys4YwntwP5BfQqo8tM4uyiaXmOP1uO3+iQJB1d9QCHQomIMA s+YOZqwKZ3xq4ZVDvB2LD+sKyctS2zUO6YOM6BlBdwRTc38m7Z6dbxTIFimKV+P/hgxs NeErL1BYStMoniiYJ2Gy384LeW0xH84M2JCmDA5ZYPEScqWXPOanThWGBxBvGOaT2pnS ScQLf7hGNojtE9v4Z7BVYv69Hk22x7E8/HTgYf7pPqzdokaNM1YntwyR3VzOLfFYQptU zTdw== X-Gm-Message-State: AOJu0YyY0BDWDDdFITB2xuXtDYzPqxGSTW6qxYPCBLkipim6mqmm3bfn FDKIGU0ot1tJgg3k0f4YbeF9ob/1p8XGoZPznLq+DmEvGcPaXp1jruDs0nYrkrYnc8Htc9RmRvF xmZQdkTnIfOCj8jfiAsMdWRK9oLZC4ME05jIxG42t X-Gm-Gg: ASbGncvaM28r39pW0+oFPCanKC6iYFtTNF7bPDf5q2/eG57/f6n3J0IfjJo5oQE0ubc eVSm7yGO6EcSSTL61RJuxObzzHkNBPu1F+ehUz6ws6eGVFwE18cWuZsHkl8CT29UVikaG9jtva+ PvS5VOG3gxceA+VcJQcdenBRWBatO2rMXjK9h5wQzxdl2d2qKhJbZ6ivpUl7zH+9DeizRDzF0S0 4SDsYMzXW6vcFMspxacO7BNh8mjEi0FeRZn5M86lG7vNeVOW/MZB1KNYGIQj92BATUUYSbaY19B gMWbThR0sGO2OAmQVGX4GDIjhEtH1A== X-Google-Smtp-Source: AGHT+IGsZZCcPobNvaLFqrzKoBXo15sVgCx07x5kG/HYavdtlm4gludOooeLcZE///ENcoQFuKUBNeTd+bTj X-Received: by 2002:a92:c263:0:b0:3cf:c803:1295 with SMTP id e9e14a558f8ab-3d13dcfcdeamr124840245ab.3.1739193587909; Mon, 10 Feb 2025 05:19:47 -0800 (PST) Received: from postal.iol.unh.edu (postal.iol.unh.edu. [132.177.123.84]) by smtp-relay.gmail.com with ESMTPS id e9e14a558f8ab-3d05e8d8e79sm6320305ab.6.2025.02.10.05.19.47 (version=TLS1_2 cipher=ECDHE-ECDSA-AES128-GCM-SHA256 bits=128/128); Mon, 10 Feb 2025 05:19:47 -0800 (PST) X-Relaying-Domain: iol.unh.edu Date: Mon, 10 Feb 2025 05:19:47 -0800 (PST) Message-ID: <67a9fcf3.050a0220.332792.0f94SMTPIN_ADDED_MISSING@mx.google.com> Received: from [172.21.0.6] (unknown [172.18.0.240]) by postal.iol.unh.edu (Postfix) with ESMTP id 6014B6052471; Mon, 10 Feb 2025 08:19:47 -0500 (EST) Subject: |SUCCESS| pw151275 [PATCH] net/mlx5: fix the GRE mask set on root ta From: dpdklab@iol.unh.edu To: Test Report Cc: dpdk-test-reports@iol.unh.edu In-Reply-To: <20250210101457.306368-1-getelson@nvidia.com> References: <20250210101457.306368-1-getelson@nvidia.com> Content-Type: text/plain X-BeenThere: test-report@dpdk.org X-Mailman-Version: 2.1.29 Precedence: list List-Id: automatic DPDK test reports List-Unsubscribe: , List-Archive: List-Post: List-Help: List-Subscribe: , Errors-To: test-report-bounces@dpdk.org Test-Label: iol-compile-arm64-testing Test-Status: SUCCESS http://dpdk.org/patch/151275 _Testing PASS_ Submitter: Gregory Etelson Date: Monday, February 10 2025 10:14:56 DPDK git baseline: Repo:dpdk Branch: master CommitID:af389f2da68c0e9bb08a68055996bececbd45108 151275 --> testing pass Upstream job id: Generic-DPDK-Compile-Meson#360128 Test environment and result as below: +----------------------------------------+--------------------+ | Environment | dpdk_meson_compile | +========================================+====================+ | RHEL9 (ARM) | PASS | +----------------------------------------+--------------------+ | Ubuntu 20.04 ARM GCC Cross Compile | PASS | +----------------------------------------+--------------------+ | Ubuntu 20.04 ARM SVE | PASS | +----------------------------------------+--------------------+ | Debian 12 with MUSDK | PASS | +----------------------------------------+--------------------+ | Fedora 41 (ARM) | PASS | +----------------------------------------+--------------------+ | Fedora 40 (ARM) | PASS | +----------------------------------------+--------------------+ | Fedora 40 (ARM Clang) | PASS | +----------------------------------------+--------------------+ | Fedora 41 (ARM Clang) | PASS | +----------------------------------------+--------------------+ | Ubuntu 20.04 (ARM) | PASS | +----------------------------------------+--------------------+ | Ubuntu 22.04 (ARM) | PASS | +----------------------------------------+--------------------+ | Ubuntu 24.04 (ARM) | PASS | +----------------------------------------+--------------------+ | CentOS Stream 9 (ARM) | PASS | +----------------------------------------+--------------------+ | Debian 12 (arm) | PASS | +----------------------------------------+--------------------+ | Ubuntu 20.04 ARM Clang Cross Compile | PASS | +----------------------------------------+--------------------+ | Ubuntu 20.04 aarch32 GCC Cross Compile | PASS | +----------------------------------------+--------------------+ | Debian 11 (Buster) (ARM) | PASS | +----------------------------------------+--------------------+ RHEL9 (ARM) Kernel: Depends on container host Compiler: gcc 11.5.0 20240719 (Red Hat 11.5.0-2) Ubuntu 20.04 ARM GCC Cross Compile Kernel: Depends on container host Compiler: aarch64-linux-gnu-gcc (Ubuntu 9.4.0-1ubuntu1~20.04.2) 9.4.0 Ubuntu 20.04 ARM SVE Kernel: Depends on container host Compiler: gcc (Ubuntu 10.5.0-1ubuntu1~20.04) 10.5.0 Debian 12 with MUSDK Kernel: Depends on container host Compiler: gcc (Debian 12.2.0-14) 12.2.0 Fedora 41 (ARM) Kernel: Depends on container host Compiler: gcc 14.2.1 20240912 (Red Hat 14.2.1-3) Fedora 40 (ARM) Kernel: Depends on container host Compiler: gcc 14.2.1 20240912 (Red Hat 14.2.1-3) Fedora 40 (ARM Clang) Kernel: Depends on container host Compiler: clang 18.1.8 (Fedora 18.1.8-1.fc40) Fedora 41 (ARM Clang) Kernel: Depends on container host Compiler: clang 19.1.5 (Fedora 19.1.5-1.fc41) Ubuntu 20.04 (ARM) Kernel: Depends on container host Compiler: gcc (Ubuntu 9.4.0-1ubuntu1~20.04.2) 9.4.0 Ubuntu 22.04 (ARM) Kernel: Depends on container host Compiler: gcc (Ubuntu 11.4.0-1ubuntu1~22.04) 11.4.0 Ubuntu 24.04 (ARM) Kernel: Depends on container host Compiler: gcc (Ubuntu 13.3.0-6ubuntu2~24.04) 13.3.0 CentOS Stream 9 (ARM) Kernel: Depends on container host Compiler: gcc 11.5.0 20240719 (Red Hat 11.5.0-2) Debian 12 (arm) Kernel: Depends on container host Compiler: gcc (Debian 12.2.0-14) 12.2.0 Ubuntu 20.04 ARM Clang Cross Compile Kernel: Depends on container host Compiler: clang 10.0.0-4ubuntu1 Ubuntu 20.04 aarch32 GCC Cross Compile Kernel: Depends on container host Compiler: gcc 9.4.0 Debian 11 (Buster) (ARM) Kernel: Depends on container host Compiler: gcc (Debian 10.2.1-6) 10.2.1 20210110 To view detailed results, visit: https://lab.dpdk.org/results/dashboard/patchsets/32547/ UNH-IOL DPDK Community Lab To manage your email subscriptions, visit: https://lab.dpdk.org/results/dashboard/preferences/subscriptions/