From mboxrd@z Thu Jan  1 00:00:00 1970
Return-Path: <test-report-bounces@dpdk.org>
Received: from mails.dpdk.org (mails.dpdk.org [217.70.189.124])
	by inbox.dpdk.org (Postfix) with ESMTP id C7906461ED
	for <public@inbox.dpdk.org>; Mon, 10 Feb 2025 14:21:57 +0100 (CET)
Received: from mails.dpdk.org (localhost [127.0.0.1])
	by mails.dpdk.org (Postfix) with ESMTP id BDC2B42670;
	Mon, 10 Feb 2025 14:21:57 +0100 (CET)
Received: from mail-il1-f228.google.com (mail-il1-f228.google.com
 [209.85.166.228])
 by mails.dpdk.org (Postfix) with ESMTP id A2F8840268
 for <test-report@dpdk.org>; Mon, 10 Feb 2025 14:21:56 +0100 (CET)
Received: by mail-il1-f228.google.com with SMTP id
 e9e14a558f8ab-3d15ce78fecso10250375ab.2
 for <test-report@dpdk.org>; Mon, 10 Feb 2025 05:21:56 -0800 (PST)
DKIM-Signature: v=1; a=rsa-sha256; c=relaxed/relaxed;
 d=iol.unh.edu; s=unh-iol; t=1739193716; x=1739798516; darn=dpdk.org;
 h=references:in-reply-to:cc:to:from:subject:message-id:date:from:to
 :cc:subject:date:message-id:reply-to;
 bh=ZtlLHAUVV0nGZGLA1ZiEQ3s19dtIMAghzkdH/K+5yEc=;
 b=Q033zLVQs0QCgwfQXO2M7mFrlwvw9C61acOswVRtIxdX4lrVFwgjjSHZwgcVL4+4ZX
 e53Tt99Oo6vOirZKI8DIZlCRV7BD51+DE4N/OW3D0qarl8pbpvVi281SIUmsNZhuUVRl
 UoJMvsgR2mlg3p0U4bZml81/zAf5NIPGeS28E=
X-Google-DKIM-Signature: v=1; a=rsa-sha256; c=relaxed/relaxed;
 d=1e100.net; s=20230601; t=1739193716; x=1739798516;
 h=references:in-reply-to:cc:to:from:subject:message-id:date
 :x-gm-message-state:from:to:cc:subject:date:message-id:reply-to;
 bh=ZtlLHAUVV0nGZGLA1ZiEQ3s19dtIMAghzkdH/K+5yEc=;
 b=su2kglDLz+D/3Ta069ImGHj2XGY0D2aIYegMncOfGTCr9jvosnqFzJfxnR2cPB7Haj
 Zi8r8ZVOQmHuv4OJay97+E2M4tdHyI2FeRBrIJlnTob9WuGUNUrE3TdcQbJySLY2N9pM
 8zZvN+0iYwujgj6uoqYbEMrfQIz0fjld7a9NlFItrqWfJDNabIU3WcQik9dsWCBAYJgv
 ZcIDLeR36B2w9J3a059Nz9UnRDNe8xapKg1rz3meTVoQm6I04/DBlXC5wCcI7BT3VINU
 d5pZ0KPhXuuOGdfO32XESj/n8tk3J/Z3l1EN1mlNsevkbRE3Sj+pfnzJRUB3KvUW6o/v
 0v/g==
X-Gm-Message-State: AOJu0YzV8deSK2fuTvXiHlJGoXmvRRJCrcGR762YjeU/hLAP1OJBkbqp
 X9zsZDRpRtnGb3plz3JlbtmLk26eba0qMsCt1zwiWuaTXFR6QoYAw3kW5/gj2lAQtwUoPLF+m3k
 w5nfbGT3jkpvzxT8FcKVlE5tL8z+QAJS3QKHcLN+lYXfKsCMHUlRRhISp
X-Gm-Gg: ASbGncuSUWnSPkGVR2T1D4VOWbiOYpCnsG/mor8WqvjRX87M/Hcy4KVnKgv4jDLT+N8
 TlZDkejIxy2hZQiL6TH4PhOgUnw+gKRHw+X49eIby2leVyp85mN+84leJy6U7Tje8iz+sm/hWq2
 kFpReYS8cSrMA9anv5X8zCPmMt21hk2HGMKeGd8X4ozUYqReySUiiOvUjEzJb2tCOOOL6gy8UOy
 uRo53PENPMUIC+FP2MyRLBtPRdDj2GrtQHnpchINE+BEc0bZ1S4pOmQ0OW/tFGWfxwjdLt2Ps1Y
 d/MzKxkFUs/gyZ/K/8HyrXGaei+Vwuaewompvwhe2g==
X-Google-Smtp-Source: AGHT+IFyrWZAGv1SVRM2bhs3IlyR1fA89cLmcW2iGF4p/N8hEUvdTZr8fVBn9el+v5jyYq7xL2Msw5B3eI43
X-Received: by 2002:a05:6e02:1d91:b0:3cf:b365:dcf8 with SMTP id
 e9e14a558f8ab-3d13df546a1mr134478025ab.21.1739193715966; 
 Mon, 10 Feb 2025 05:21:55 -0800 (PST)
Received: from postal.iol.unh.edu (postal.iol.unh.edu.
 [2606:4100:3880:1234::84]) by smtp-relay.gmail.com with ESMTPS id
 8926c6da1cb9f-4eccf9f3925sm550109173.35.2025.02.10.05.21.55
 (version=TLS1_2 cipher=ECDHE-ECDSA-AES128-GCM-SHA256 bits=128/128);
 Mon, 10 Feb 2025 05:21:55 -0800 (PST)
X-Relaying-Domain: iol.unh.edu
Date: Mon, 10 Feb 2025 05:21:55 -0800 (PST)
Message-ID: <67a9fd73.050a0220.2e4456.bd87SMTPIN_ADDED_MISSING@mx.google.com>
Received: from [172.17.0.5] (unknown [172.18.0.217])
 by postal.iol.unh.edu (Postfix) with ESMTP id 947AB6052471;
 Mon, 10 Feb 2025 08:21:55 -0500 (EST)
Subject: |SUCCESS| pw151275 [PATCH] net/mlx5: fix the GRE mask set on root ta
From: dpdklab@iol.unh.edu
To: Test Report <test-report@dpdk.org>
Cc: dpdk-test-reports@iol.unh.edu
In-Reply-To: <20250210101457.306368-1-getelson@nvidia.com>
References: <20250210101457.306368-1-getelson@nvidia.com>
Content-Type: text/plain
X-BeenThere: test-report@dpdk.org
X-Mailman-Version: 2.1.29
Precedence: list
List-Id: automatic DPDK test reports <test-report.dpdk.org>
List-Unsubscribe: <https://mails.dpdk.org/options/test-report>,
 <mailto:test-report-request@dpdk.org?subject=unsubscribe>
List-Archive: <http://mails.dpdk.org/archives/test-report/>
List-Post: <mailto:test-report@dpdk.org>
List-Help: <mailto:test-report-request@dpdk.org?subject=help>
List-Subscribe: <https://mails.dpdk.org/listinfo/test-report>,
 <mailto:test-report-request@dpdk.org?subject=subscribe>
Errors-To: test-report-bounces@dpdk.org

Test-Label: iol-compile-arm64-testing
Test-Status: SUCCESS
http://dpdk.org/patch/151275

_Testing PASS_

Submitter: Gregory Etelson <getelson@nvidia.com>
Date: Monday, February 10 2025 10:14:56 
DPDK git baseline: Repo:dpdk
  Branch: master
  CommitID:af389f2da68c0e9bb08a68055996bececbd45108

151275 --> testing pass

Upstream job id: Generic-DPDK-Compile-Meson#360124

Test environment and result as below:

+----------------------------------------+--------------------+
|              Environment               | dpdk_meson_compile |
+========================================+====================+
| RHEL9 (ARM)                            | PASS               |
+----------------------------------------+--------------------+
| Ubuntu 20.04 ARM GCC Cross Compile     | PASS               |
+----------------------------------------+--------------------+
| Ubuntu 20.04 ARM SVE                   | PASS               |
+----------------------------------------+--------------------+
| Debian 12 with MUSDK                   | PASS               |
+----------------------------------------+--------------------+
| Fedora 41 (ARM)                        | PASS               |
+----------------------------------------+--------------------+
| Fedora 40 (ARM)                        | PASS               |
+----------------------------------------+--------------------+
| Fedora 40 (ARM Clang)                  | PASS               |
+----------------------------------------+--------------------+
| Fedora 41 (ARM Clang)                  | PASS               |
+----------------------------------------+--------------------+
| Ubuntu 20.04 (ARM)                     | PASS               |
+----------------------------------------+--------------------+
| Ubuntu 22.04 (ARM)                     | PASS               |
+----------------------------------------+--------------------+
| Ubuntu 24.04 (ARM)                     | PASS               |
+----------------------------------------+--------------------+
| CentOS Stream 9 (ARM)                  | PASS               |
+----------------------------------------+--------------------+
| Debian 12 (arm)                        | PASS               |
+----------------------------------------+--------------------+
| Ubuntu 20.04 ARM Clang Cross Compile   | PASS               |
+----------------------------------------+--------------------+
| Ubuntu 20.04 aarch32 GCC Cross Compile | PASS               |
+----------------------------------------+--------------------+
| Debian 11 (Buster) (ARM)               | PASS               |
+----------------------------------------+--------------------+


RHEL9 (ARM)
	Kernel: Depends on container host
	Compiler: gcc 11.5.0 20240719 (Red Hat 11.5.0-2)

Ubuntu 20.04 ARM GCC Cross Compile
	Kernel: Depends on container host
	Compiler: aarch64-linux-gnu-gcc (Ubuntu 9.4.0-1ubuntu1~20.04.2) 9.4.0

Ubuntu 20.04 ARM SVE
	Kernel: Depends on container host
	Compiler: gcc (Ubuntu 10.5.0-1ubuntu1~20.04) 10.5.0

Debian 12 with MUSDK
	Kernel: Depends on container host
	Compiler: gcc (Debian 12.2.0-14) 12.2.0

Fedora 41 (ARM)
	Kernel: Depends on container host
	Compiler: gcc 14.2.1 20240912 (Red Hat 14.2.1-3)

Fedora 40 (ARM)
	Kernel: Depends on container host
	Compiler: gcc 14.2.1 20240912 (Red Hat 14.2.1-3)

Fedora 40 (ARM Clang)
	Kernel: Depends on container host
	Compiler: clang 18.1.8 (Fedora 18.1.8-1.fc40)

Fedora 41 (ARM Clang)
	Kernel: Depends on container host
	Compiler: clang 19.1.5 (Fedora 19.1.5-1.fc41)

Ubuntu 20.04 (ARM)
	Kernel: Depends on container host
	Compiler: gcc (Ubuntu 9.4.0-1ubuntu1~20.04.2) 9.4.0

Ubuntu 22.04 (ARM)
	Kernel: Depends on container host
	Compiler: gcc (Ubuntu 11.4.0-1ubuntu1~22.04) 11.4.0

Ubuntu 24.04 (ARM)
	Kernel: Depends on container host
	Compiler: gcc (Ubuntu 13.3.0-6ubuntu2~24.04) 13.3.0

CentOS Stream 9 (ARM)
	Kernel: Depends on container host
	Compiler: gcc 11.5.0 20240719 (Red Hat 11.5.0-2)

Debian 12 (arm)
	Kernel: Depends on container host
	Compiler: gcc (Debian 12.2.0-14) 12.2.0

Ubuntu 20.04 ARM Clang Cross Compile
	Kernel: Depends on container host
	Compiler: clang 10.0.0-4ubuntu1

Ubuntu 20.04 aarch32 GCC Cross Compile
	Kernel: Depends on container host
	Compiler: gcc 9.4.0

Debian 11 (Buster) (ARM)
	Kernel: Depends on container host
	Compiler: gcc (Debian 10.2.1-6) 10.2.1 20210110

To view detailed results, visit:
https://lab.dpdk.org/results/dashboard/patchsets/32547/

UNH-IOL DPDK Community Lab

To manage your email subscriptions, visit: 
https://lab.dpdk.org/results/dashboard/preferences/subscriptions/