From mboxrd@z Thu Jan 1 00:00:00 1970 Return-Path: Received: from mails.dpdk.org (mails.dpdk.org [217.70.189.124]) by inbox.dpdk.org (Postfix) with ESMTP id 8537C461ED for ; Mon, 10 Feb 2025 14:55:00 +0100 (CET) Received: from mails.dpdk.org (localhost [127.0.0.1]) by mails.dpdk.org (Postfix) with ESMTP id 6C39F42670; Mon, 10 Feb 2025 14:55:00 +0100 (CET) Received: from mail-oo1-f99.google.com (mail-oo1-f99.google.com [209.85.161.99]) by mails.dpdk.org (Postfix) with ESMTP id 595BC40268 for ; Mon, 10 Feb 2025 14:54:58 +0100 (CET) Received: by mail-oo1-f99.google.com with SMTP id 006d021491bc7-5fa9778fa2cso2421924eaf.0 for ; Mon, 10 Feb 2025 05:54:58 -0800 (PST) DKIM-Signature: v=1; a=rsa-sha256; c=relaxed/relaxed; d=iol.unh.edu; s=unh-iol; t=1739195697; x=1739800497; darn=dpdk.org; h=cc:to:from:subject:message-id:date:from:to:cc:subject:date :message-id:reply-to; bh=ZvCNxBbkhaCbOAYtmcrmdMK6yHMb3J56n9iq6F8UL+s=; b=cxmIhpRqaz96SlrrLqUtGk0JEt0/I5a8M01jUgugHeqaz2asBpw5KY7q2WHZ6ENIzo hnuy8AqapWbD89NjxzPc0Fyv1CGP1M99KeVKHPUJiQnq3kLqXZSfixjJEYs+9ET5M4bL G7DmpZLL15P3EAC+vTenPUJse2yTC6oDwusiI= X-Google-DKIM-Signature: v=1; a=rsa-sha256; c=relaxed/relaxed; d=1e100.net; s=20230601; t=1739195697; x=1739800497; h=cc:to:from:subject:message-id:date:x-gm-message-state:from:to:cc :subject:date:message-id:reply-to; bh=ZvCNxBbkhaCbOAYtmcrmdMK6yHMb3J56n9iq6F8UL+s=; b=YQTxj3Jax1fHKJ0A0FQeKp8U32Wfm18qMwtnkW1PTGK1dO9iw3ZqhHEI34w/Z9WyEI M0RXd025cWBmx1BMb/q18yX5FTiM0IeRghxJzGV/b6PgWue4QFuP72ylaUrqlInMBlmx 5cCvdZA56FZ0hW+lZRL0rwQyYBDEVsrqXT2V5/pPFpPXRiZDM9RvtZ/gkH1W7FJ3rGfA vQWWwpYRkDTHyEFdCaRHlpT+YJsu9fRcS8sVI/FSmoQI37SgYf9PtdtRUVtfn02T5EXG DIkXVQ0+VKTZNrOCzOiUHy6N0fR2XrtBz5eVprxkwxqOG7nQzKTVVUtyQu4m7Zo9lzav 3XUg== X-Gm-Message-State: AOJu0Yys/S8uyUqOZFdxiXqrxZK/Alk7ZYAImKEGOER/LlflgRJdfboz UflLaAkfXK9ifCWajn1eZsoVYANZoGXtl3BRLnjCHKpH7V1AGZ8J9wr6/9K4z1zvJmebhdoU++q MMFGk/6fdeCLSc5WCGaMQCEBRHADgnhvU8KqI/aa++SnNv3dl3asfmVBl X-Gm-Gg: ASbGncv595mevsgG813ZPzH3WMATGrr+L5bekq6jGfzkQNjCt9eHREMigyta8Gqjhsc WNsw6IR3+ciHi4vc5T+z4ISb5EcztNNV3W5QW4mP2UtPgHzDaGUvqY1dTXwgw1GTe2thtYe0Hq5 JKZy/RT9XYjZFYeJFlWBPoWtwjytlA62zJI3zSBlXR1a0OoTmshx9ymyQRfbcEXlpIO3tJJHuEU XIfJm5wyJRQvt6kETNEfv0TlevhriYOmSK2mncF0yIFKfavMmwH7edfp74mP8pafmmdKjQ2IPnk juZu6bBukLEK9nyKXHESWBfz5oTid1dl5+ch5WYCzg== X-Google-Smtp-Source: AGHT+IEpEptbnG2RZbYvRmovdUuML+4eZ/DntrUGltRijpxtB83EzUcX5yFemCc3qQcgQ+ORUPmGlFWt8ty6 X-Received: by 2002:a05:6870:3911:b0:29e:460d:f74a with SMTP id 586e51a60fabf-2b83eb90653mr8177719fac.3.1739195697516; Mon, 10 Feb 2025 05:54:57 -0800 (PST) Received: from postal.iol.unh.edu (postal.iol.unh.edu. [2606:4100:3880:1234::84]) by smtp-relay.gmail.com with ESMTPS id 586e51a60fabf-2b856684362sm255096fac.29.2025.02.10.05.54.57 (version=TLS1_2 cipher=ECDHE-ECDSA-AES128-GCM-SHA256 bits=128/128); Mon, 10 Feb 2025 05:54:57 -0800 (PST) X-Relaying-Domain: iol.unh.edu Date: Mon, 10 Feb 2025 05:54:57 -0800 (PST) Message-ID: <67aa0531.050a0220.1e7236.d0a0SMTPIN_ADDED_MISSING@mx.google.com> Received: from [172.21.0.5] (unknown [172.18.0.240]) by postal.iol.unh.edu (Postfix) with ESMTP id D9BE86052471; Mon, 10 Feb 2025 08:54:56 -0500 (EST) Subject: |SUCCESS| [GIT MASTER] e26a9bdb3d79bfac47f2adb995b2ac9904b7222d From: dpdklab@iol.unh.edu To: Test Report Cc: dpdk-test-reports@iol.unh.edu, Bruce Richardson Content-Type: text/plain X-BeenThere: test-report@dpdk.org X-Mailman-Version: 2.1.29 Precedence: list List-Id: automatic DPDK test reports List-Unsubscribe: , List-Archive: List-Post: List-Help: List-Subscribe: , Errors-To: test-report-bounces@dpdk.org _Testing PASS_ Branch: dpdk-next-net-intel e26a9bdb3d79bfac47f2adb995b2ac9904b7222d --> testing pass Upstream job id: Generic-Unit-Test-DPDK#313673 Test environment and result as below: +-------------------+----------------+ | Environment | dpdk_unit_test | +===================+================+ | CentOS Stream 9 | PASS | +-------------------+----------------+ | Debian Bullseye | PASS | +-------------------+----------------+ | Fedora 41 (Clang) | PASS | +-------------------+----------------+ | Fedora 40 (Clang) | PASS | +-------------------+----------------+ | Debian 12 | PASS | +-------------------+----------------+ | RHEL8 | PASS | +-------------------+----------------+ | Fedora 40 | PASS | +-------------------+----------------+ | Fedora 41 | PASS | +-------------------+----------------+ | Ubuntu 20.04 | PASS | +-------------------+----------------+ | RHEL9 | PASS | +-------------------+----------------+ | Ubuntu 22.04 | PASS | +-------------------+----------------+ | Ubuntu 24.04 | PASS | +-------------------+----------------+ CentOS Stream 9 Kernel: Depends on container host Compiler: gcc 11.5.0 20240719 (Red Hat 11.5.0-2) Debian Bullseye Kernel: Depends on container host Compiler: gcc (Debian 10.2.1-6) 10.2.1 20210110 Fedora 41 (Clang) Kernel: Depends on container host Compiler: clang 19.1.5 (Fedora 19.1.5-1.fc41) Fedora 40 (Clang) Kernel: Depends on container host Compiler: clang 18.1.8 (Fedora 18.1.8-1.fc40) Debian 12 Kernel: Depends on container host Compiler: gcc (Debian 12.2.0-14) 12.2.0 RHEL8 Kernel: Depends on container host Compiler: gcc 8.5.0 20210514 (Red Hat 8.5.0-22) Fedora 40 Kernel: Depends on container host Compiler: gcc 14.2.1 20240912 (Red Hat 14.2.1-3) Fedora 41 Kernel: Depends on container host Compiler: gcc 14.2.1 20240912 (Red Hat 14.2.1-3) Ubuntu 20.04 Kernel: Depends on container host Compiler: gcc (Ubuntu 9.4.0-1ubuntu1~20.04.2) 9.4.0 RHEL9 Kernel: Depends on container host Compiler: gcc 11.5.0 20240719 (Red Hat 11.5.0-2) Ubuntu 22.04 Kernel: Depends on container host Compiler: gcc (Ubuntu 11.4.0-1ubuntu1~22.04) 11.4.0 Ubuntu 24.04 Kernel: Depends on container host Compiler: gcc (Ubuntu 13.3.0-6ubuntu2~24.04) 13.3.0 To view detailed results, visit: https://lab.dpdk.org/results/dashboard/tarballs/32526/ UNH-IOL DPDK Community Lab To manage your email subscriptions, visit: https://lab.dpdk.org/results/dashboard/preferences/subscriptions/