From mboxrd@z Thu Jan 1 00:00:00 1970 Return-Path: Received: from mails.dpdk.org (mails.dpdk.org [217.70.189.124]) by inbox.dpdk.org (Postfix) with ESMTP id 467AC461AE for ; Mon, 10 Feb 2025 15:08:56 +0100 (CET) Received: from mails.dpdk.org (localhost [127.0.0.1]) by mails.dpdk.org (Postfix) with ESMTP id 2184542670; Mon, 10 Feb 2025 15:08:56 +0100 (CET) Received: from mail-ot1-f98.google.com (mail-ot1-f98.google.com [209.85.210.98]) by mails.dpdk.org (Postfix) with ESMTP id 7C43040268 for ; Mon, 10 Feb 2025 15:08:55 +0100 (CET) Received: by mail-ot1-f98.google.com with SMTP id 46e09a7af769-726d1760f23so772415a34.1 for ; Mon, 10 Feb 2025 06:08:55 -0800 (PST) DKIM-Signature: v=1; a=rsa-sha256; c=relaxed/relaxed; d=iol.unh.edu; s=unh-iol; t=1739196534; x=1739801334; darn=dpdk.org; h=cc:to:from:subject:message-id:date:from:to:cc:subject:date :message-id:reply-to; bh=gY+8op2i8jNhXvDouKvjQuQfz0XPop6r1IUnEjtUU98=; b=BrMbpgglnit1iL34JUNZmrOXmnjlTzCsIzHqvokR5DKAnWCSfXazJrbf7Fj73OKuGU khUnfF/fS+9SwjIqb27QejD4Po8yWbR6QbGuH1mNGDkZEQybDtYyIarRgYnocAmVgxxG wqyCg4Dz8fbMtTgEPQ/yIN+SAKHF2bpAQZZLU= X-Google-DKIM-Signature: v=1; a=rsa-sha256; c=relaxed/relaxed; d=1e100.net; s=20230601; t=1739196534; x=1739801334; h=cc:to:from:subject:message-id:date:x-gm-message-state:from:to:cc :subject:date:message-id:reply-to; bh=gY+8op2i8jNhXvDouKvjQuQfz0XPop6r1IUnEjtUU98=; b=nrf+dnAqknCFoK6Nr+nwlqQvUgYD7a0PKGqay8vtcn9hgQeNAl7CJrsPuv3H47TmCJ XMAVRF6mawmc6faWnmwZx+KcJr3BmOQrW2ne3uL/RATl/HYhRMEFKcwLJMZyjmKuV70o ya3XZZtWfARxty9nHQMylmiL6XGTRM0lWBGaOafcf/w+4dCfBrFzJfb3tHKZ9WBqmE1d Z1y2x+laBwhOtHFPIJA0bDueGJBsdA8tdsi6bi+e08DtJ65LlgcSy6p+aj8fkwKSjvWN 7lmm9ceYxxkvBTmczMrNVww8OuOggNIlAuIPEbgXO5KtQV8MbLCgaGCYnOhBy5zfNY96 n77g== X-Gm-Message-State: AOJu0Yygr/j+E6lh1JMxfptYPgpPGRGsUhvqpKE1O7UvrqlhiRPQLFrD UtGS4ykWwpHVM+6Yz3t2K6TOyJPbg+1/NSPXBPLDDKipqrJSYlrr8mcBIHKdlGs0vQNkguLs+dI 2u4pX5i7veHGBel1A34/TiGS/o7LF048J2DKq1FLJAcJZzx4xD9E9asNi X-Gm-Gg: ASbGncsyTrjOYbxkMX4KSZDAr79mGoEXqrAq+nQITuLaJ2rLJ1DHitrFLmIXJh9NAPT HU03Ri1ZPMbjbSQSk7J0AGkuXNn7jJCz1sARRRYHcd2KL2/xb3U7DPFQPf3eLvncGtvy2Y5xREd 0GUYOHFZBU808Q1V5fAskI7pW434lyhwGeYNwzyoo75QxIj7tAsIKYyBplmQTPJOTNLtBcvKn33 9MMKpYTw9hxO1xyuWzL3eQAXkomt6MxBjWI7pF3RVOImLCpLXQvm+t1y/JAq5/vWY6gZAhXkdhb rLqhekHHpaJkHhf/fIiTQP1J/QFbqPv4CY2YWbeLBg== X-Google-Smtp-Source: AGHT+IHLBRj2bc+Hxq9hoit9xpzIb/JQ256uruX9uiEKgg1x6ZQ3aCnQTqWQORzhCJA4RAixBBcwN3ekdv58 X-Received: by 2002:a05:6808:3990:b0:3f1:cded:c834 with SMTP id 5614622812f47-3f386864ce5mr11906294b6e.19.1739196533107; Mon, 10 Feb 2025 06:08:53 -0800 (PST) Received: from postal.iol.unh.edu (postal.iol.unh.edu. [2606:4100:3880:1234::84]) by smtp-relay.gmail.com with ESMTPS id 006d021491bc7-5fc544cbe95sm165684eaf.10.2025.02.10.06.08.53 (version=TLS1_2 cipher=ECDHE-ECDSA-AES128-GCM-SHA256 bits=128/128); Mon, 10 Feb 2025 06:08:53 -0800 (PST) X-Relaying-Domain: iol.unh.edu Date: Mon, 10 Feb 2025 06:08:53 -0800 (PST) Message-ID: <67aa0875.050a0220.32507c.7cf0SMTPIN_ADDED_MISSING@mx.google.com> Received: from [172.17.0.6] (unknown [172.18.0.217]) by postal.iol.unh.edu (Postfix) with ESMTP id 84AFD6052471; Mon, 10 Feb 2025 09:08:52 -0500 (EST) Subject: |SUCCESS| [GIT MASTER] e26a9bdb3d79bfac47f2adb995b2ac9904b7222d From: dpdklab@iol.unh.edu To: Test Report Cc: dpdk-test-reports@iol.unh.edu, Bruce Richardson Content-Type: text/plain X-BeenThere: test-report@dpdk.org X-Mailman-Version: 2.1.29 Precedence: list List-Id: automatic DPDK test reports List-Unsubscribe: , List-Archive: List-Post: List-Help: List-Subscribe: , Errors-To: test-report-bounces@dpdk.org _Testing PASS_ Branch: dpdk-next-net-intel e26a9bdb3d79bfac47f2adb995b2ac9904b7222d --> testing pass Upstream job id: Generic-Unit-Test-DPDK#313668 Test environment and result as below: +-----------------------------+----------------+--------------+---------------------------+------------------------------+ | Environment | dpdk_unit_test | lpm_autotest | cryptodev_sw_zuc_autotest | cryptodev_sw_snow3g_autotest | +=============================+================+==============+===========================+==============================+ | 32-bit Ubuntu 22.04.4 (ARM) | PASS | SKIPPED | SKIPPED | SKIPPED | +-----------------------------+----------------+--------------+---------------------------+------------------------------+ | CentOS Stream 9 (ARM) | PASS | SKIPPED | SKIPPED | SKIPPED | +-----------------------------+----------------+--------------+---------------------------+------------------------------+ | Fedora 41 (ARM) | PASS | SKIPPED | SKIPPED | SKIPPED | +-----------------------------+----------------+--------------+---------------------------+------------------------------+ | Fedora 40 (ARM Clang) | PASS | SKIPPED | SKIPPED | SKIPPED | +-----------------------------+----------------+--------------+---------------------------+------------------------------+ | Fedora 40 (ARM) | PASS | SKIPPED | SKIPPED | SKIPPED | +-----------------------------+----------------+--------------+---------------------------+------------------------------+ | Fedora 41 (ARM Clang) | PASS | SKIPPED | SKIPPED | SKIPPED | +-----------------------------+----------------+--------------+---------------------------+------------------------------+ | Debian 11 (Buster) (ARM) | PASS | SKIPPED | SKIPPED | SKIPPED | +-----------------------------+----------------+--------------+---------------------------+------------------------------+ | Debian 12 (arm) | PASS | SKIPPED | PASS | PASS | +-----------------------------+----------------+--------------+---------------------------+------------------------------+ | Ubuntu 22.04 (ARM) | PASS | SKIPPED | SKIPPED | SKIPPED | +-----------------------------+----------------+--------------+---------------------------+------------------------------+ | RHEL9 (ARM) | PASS | SKIPPED | SKIPPED | SKIPPED | +-----------------------------+----------------+--------------+---------------------------+------------------------------+ | Ubuntu 20.04 (ARM) | PASS | SKIPPED | SKIPPED | SKIPPED | +-----------------------------+----------------+--------------+---------------------------+------------------------------+ | Ubuntu 24.04 (ARM) | PASS | SKIPPED | SKIPPED | SKIPPED | +-----------------------------+----------------+--------------+---------------------------+------------------------------+ | Ubuntu 20.04 ARM SVE | SKIPPED | PASS | SKIPPED | SKIPPED | +-----------------------------+----------------+--------------+---------------------------+------------------------------+ 32-bit Ubuntu 22.04.4 (ARM) Kernel: 5.15.83+ aarch64 Compiler: gcc (Ubuntu 11.4.0-1ubuntu1~22.04) 11.4.0 CentOS Stream 9 (ARM) Kernel: Depends on container host Compiler: gcc 11.5.0 20240719 (Red Hat 11.5.0-2) Fedora 41 (ARM) Kernel: Depends on container host Compiler: gcc 14.2.1 20240912 (Red Hat 14.2.1-3) Fedora 40 (ARM Clang) Kernel: Depends on container host Compiler: clang 18.1.8 (Fedora 18.1.8-1.fc40) Fedora 40 (ARM) Kernel: Depends on container host Compiler: gcc 14.2.1 20240912 (Red Hat 14.2.1-3) Fedora 41 (ARM Clang) Kernel: Depends on container host Compiler: clang 19.1.5 (Fedora 19.1.5-1.fc41) Debian 11 (Buster) (ARM) Kernel: Depends on container host Compiler: gcc (Debian 10.2.1-6) 10.2.1 20210110 Debian 12 (arm) Kernel: Depends on container host Compiler: gcc (Debian 12.2.0-14) 12.2.0 Ubuntu 22.04 (ARM) Kernel: Depends on container host Compiler: gcc (Ubuntu 11.4.0-1ubuntu1~22.04) 11.4.0 RHEL9 (ARM) Kernel: Depends on container host Compiler: gcc 11.5.0 20240719 (Red Hat 11.5.0-2) Ubuntu 20.04 (ARM) Kernel: Depends on container host Compiler: gcc (Ubuntu 9.4.0-1ubuntu1~20.04.2) 9.4.0 Ubuntu 24.04 (ARM) Kernel: Depends on container host Compiler: gcc (Ubuntu 13.3.0-6ubuntu2~24.04) 13.3.0 Ubuntu 20.04 ARM SVE Kernel: Depends on container host Compiler: gcc (Ubuntu 10.5.0-1ubuntu1~20.04) 10.5.0 To view detailed results, visit: https://lab.dpdk.org/results/dashboard/tarballs/32526/ UNH-IOL DPDK Community Lab To manage your email subscriptions, visit: https://lab.dpdk.org/results/dashboard/preferences/subscriptions/