From mboxrd@z Thu Jan 1 00:00:00 1970 Return-Path: Received: from mails.dpdk.org (mails.dpdk.org [217.70.189.124]) by inbox.dpdk.org (Postfix) with ESMTP id C9A5F461ED for ; Mon, 10 Feb 2025 15:25:44 +0100 (CET) Received: from mails.dpdk.org (localhost [127.0.0.1]) by mails.dpdk.org (Postfix) with ESMTP id C51104278D; Mon, 10 Feb 2025 15:25:44 +0100 (CET) Received: from mail-pj1-f98.google.com (mail-pj1-f98.google.com [209.85.216.98]) by mails.dpdk.org (Postfix) with ESMTP id 1F7C642670 for ; Mon, 10 Feb 2025 15:25:44 +0100 (CET) Received: by mail-pj1-f98.google.com with SMTP id 98e67ed59e1d1-2fa21145217so6780002a91.3 for ; Mon, 10 Feb 2025 06:25:44 -0800 (PST) DKIM-Signature: v=1; a=rsa-sha256; c=relaxed/relaxed; d=iol.unh.edu; s=unh-iol; t=1739197543; x=1739802343; darn=dpdk.org; h=references:in-reply-to:cc:to:from:subject:message-id:date:from:to :cc:subject:date:message-id:reply-to; bh=g2AZRxDDp9XXyJ7UyHbpF+1pinKR9woY2dCfBtaCVdo=; b=iHowRJ6JdWttfjE8BAh/raNfpsN43URwJk4Hn85kce7uC1bg8YEShulDD5SwYxWmqC YJCV2SlAjTyl7n3WSpZc7L8d/MU8DVW2xPgquPqnGZP/d8/n+tDmWuNjUqqKvdKpsWDk DEiC5psgOcmW6LUAQVOdA0QJhOgGHTewr6I10= X-Google-DKIM-Signature: v=1; a=rsa-sha256; c=relaxed/relaxed; d=1e100.net; s=20230601; t=1739197543; x=1739802343; h=references:in-reply-to:cc:to:from:subject:message-id:date :x-gm-message-state:from:to:cc:subject:date:message-id:reply-to; bh=g2AZRxDDp9XXyJ7UyHbpF+1pinKR9woY2dCfBtaCVdo=; b=lUOaE+bFVQthDW3UF85MaRTE3QmFrKtWAQxKAhcxqkUy3EmZefkgSxn8EKrZh40HfL xuiRnaSeu2g+U1RlJB9OCHfXYQGa2ZaHOwIbGaK9Lv5NG8kwUsRn+mxUy7x4DXnKv1w1 MaS7rZNlo5atpGnDw6nTMi7L98gt1taFp6JdIAFM7xdMBv7ZeBbkJmCi2TMr0pd+wpZs 2BC5gnU6dC1eOL2/CDoP3BDlH8D7bQfyacntwuXKQS250KGitQ8Zxi/SNjmPMDcrvezG 9nl51UTzrxA+WJqCAXKqot3jj5FoI5e3esKC+jgzbcI99k3VjPwYDuBBj/1WsYx3IA7A 2C8Q== X-Gm-Message-State: AOJu0YxAbvjOvo9ZjNoIyVRFOlnE4/sHuyyb7FGiKjph5usrPnDbiclk +JajFbqXg6utOZXJeKUxOrUF1cQa97qu48KFHwjdiQ+sf3agrzA4tj1pysVghfmMRYzy1kT+Wjk 3BthB/gt+enSLqksfDCXuCw5Kh3Th7Xa6gRY+Sp9E X-Gm-Gg: ASbGnctnyRT/Vz9X4S3GVdckNreVnPjiLFohWgJcwhVlPB/prec+i2S675oADJUVazG i6OYIT4PQ4qTszWDTESQSIWumoEqLMoDSyqCofO1r1duhzQjpAvNezOo+/p4X0lM8Z69/FTKlyh 1rm0RTBPPC4WRtaY3shqsIpy6wPZIKUY+xsaTDo1GyI3I/ZyrWBg10PS5ZScl00DtjELLuWBPZl xpEswMjUG9W1YFFomGoKvwtmKjscAezKrSo7U4XP0daay4f456a3SLG67sid/b1gp88CO0SWxMD U58Y5VHsiIqeXrfvoEhturTsN5gQBg== X-Google-Smtp-Source: AGHT+IE2EAowTyXBkfwWWNOd/VwieLAIsMbzUrXtXjdT1WQmH4zPbqIUpnjQPpJh7Kdo+/MLcLrkA3PTi5rh X-Received: by 2002:a17:90b:350b:b0:2ee:aed6:9ec2 with SMTP id 98e67ed59e1d1-2fa24067e2bmr24922619a91.14.1739197543137; Mon, 10 Feb 2025 06:25:43 -0800 (PST) Received: from postal.iol.unh.edu (postal.iol.unh.edu. [132.177.123.84]) by smtp-relay.gmail.com with ESMTPS id 98e67ed59e1d1-2fa20bf059esm582025a91.7.2025.02.10.06.25.43 (version=TLS1_2 cipher=ECDHE-ECDSA-AES128-GCM-SHA256 bits=128/128); Mon, 10 Feb 2025 06:25:43 -0800 (PST) X-Relaying-Domain: iol.unh.edu Date: Mon, 10 Feb 2025 06:25:43 -0800 (PST) Message-ID: <67aa0c67.170a0220.3c461b.d3bbSMTPIN_ADDED_MISSING@mx.google.com> Received: from [172.21.0.5] (unknown [172.18.0.240]) by postal.iol.unh.edu (Postfix) with ESMTP id 3913E6052471; Mon, 10 Feb 2025 09:25:42 -0500 (EST) Subject: |SUCCESS| pw151273 [PATCH] examples/ipsec-secgw: fix iv len in ctr 1 From: dpdklab@iol.unh.edu To: Test Report Cc: dpdk-test-reports@iol.unh.edu In-Reply-To: <20250207132016.62482-1-nkaithakadan@marvell.com> References: <20250207132016.62482-1-nkaithakadan@marvell.com> Content-Type: text/plain X-BeenThere: test-report@dpdk.org X-Mailman-Version: 2.1.29 Precedence: list List-Id: automatic DPDK test reports List-Unsubscribe: , List-Archive: List-Post: List-Help: List-Subscribe: , Errors-To: test-report-bounces@dpdk.org Test-Label: iol-unit-arm64-testing Test-Status: SUCCESS http://dpdk.org/patch/151273 _Testing PASS_ Submitter: Nithinsen Kaithakadan Date: Friday, February 07 2025 13:18:37 DPDK git baseline: Repo:dpdk Branch: master CommitID:3553897d84d8b54a1b1136cbf04dd7f1a40fd85b 151273 --> testing pass Upstream job id: Generic-Unit-Test-DPDK#313691 Test environment and result as below: +-----------------------------+----------------+---------------------------+------------------------------+--------------+ | Environment | dpdk_unit_test | cryptodev_sw_zuc_autotest | cryptodev_sw_snow3g_autotest | lpm_autotest | +=============================+================+===========================+==============================+==============+ | 32-bit Ubuntu 22.04.4 (ARM) | PASS | SKIPPED | SKIPPED | SKIPPED | +-----------------------------+----------------+---------------------------+------------------------------+--------------+ | CentOS Stream 9 (ARM) | PASS | SKIPPED | SKIPPED | SKIPPED | +-----------------------------+----------------+---------------------------+------------------------------+--------------+ | Fedora 40 (ARM) | PASS | SKIPPED | SKIPPED | SKIPPED | +-----------------------------+----------------+---------------------------+------------------------------+--------------+ | Debian 11 (Buster) (ARM) | PASS | SKIPPED | SKIPPED | SKIPPED | +-----------------------------+----------------+---------------------------+------------------------------+--------------+ | Debian 12 (arm) | PASS | PASS | PASS | SKIPPED | +-----------------------------+----------------+---------------------------+------------------------------+--------------+ | Fedora 41 (ARM) | PASS | SKIPPED | SKIPPED | SKIPPED | +-----------------------------+----------------+---------------------------+------------------------------+--------------+ | Fedora 40 (ARM Clang) | PASS | SKIPPED | SKIPPED | SKIPPED | +-----------------------------+----------------+---------------------------+------------------------------+--------------+ | Ubuntu 20.04 (ARM) | PASS | SKIPPED | SKIPPED | SKIPPED | +-----------------------------+----------------+---------------------------+------------------------------+--------------+ | RHEL9 (ARM) | PASS | SKIPPED | SKIPPED | SKIPPED | +-----------------------------+----------------+---------------------------+------------------------------+--------------+ | Fedora 41 (ARM Clang) | PASS | SKIPPED | SKIPPED | SKIPPED | +-----------------------------+----------------+---------------------------+------------------------------+--------------+ | Ubuntu 24.04 (ARM) | PASS | SKIPPED | SKIPPED | SKIPPED | +-----------------------------+----------------+---------------------------+------------------------------+--------------+ | Ubuntu 22.04 (ARM) | PASS | SKIPPED | SKIPPED | SKIPPED | +-----------------------------+----------------+---------------------------+------------------------------+--------------+ | Ubuntu 20.04 ARM SVE | SKIPPED | SKIPPED | SKIPPED | PASS | +-----------------------------+----------------+---------------------------+------------------------------+--------------+ 32-bit Ubuntu 22.04.4 (ARM) Kernel: 5.15.83+ aarch64 Compiler: gcc (Ubuntu 11.4.0-1ubuntu1~22.04) 11.4.0 CentOS Stream 9 (ARM) Kernel: Depends on container host Compiler: gcc 11.5.0 20240719 (Red Hat 11.5.0-2) Fedora 40 (ARM) Kernel: Depends on container host Compiler: gcc 14.2.1 20240912 (Red Hat 14.2.1-3) Debian 11 (Buster) (ARM) Kernel: Depends on container host Compiler: gcc (Debian 10.2.1-6) 10.2.1 20210110 Debian 12 (arm) Kernel: Depends on container host Compiler: gcc (Debian 12.2.0-14) 12.2.0 Fedora 41 (ARM) Kernel: Depends on container host Compiler: gcc 14.2.1 20240912 (Red Hat 14.2.1-3) Fedora 40 (ARM Clang) Kernel: Depends on container host Compiler: clang 18.1.8 (Fedora 18.1.8-1.fc40) Ubuntu 20.04 (ARM) Kernel: Depends on container host Compiler: gcc (Ubuntu 9.4.0-1ubuntu1~20.04.2) 9.4.0 RHEL9 (ARM) Kernel: Depends on container host Compiler: gcc 11.5.0 20240719 (Red Hat 11.5.0-2) Fedora 41 (ARM Clang) Kernel: Depends on container host Compiler: clang 19.1.5 (Fedora 19.1.5-1.fc41) Ubuntu 24.04 (ARM) Kernel: Depends on container host Compiler: gcc (Ubuntu 13.3.0-6ubuntu2~24.04) 13.3.0 Ubuntu 22.04 (ARM) Kernel: Depends on container host Compiler: gcc (Ubuntu 11.4.0-1ubuntu1~22.04) 11.4.0 Ubuntu 20.04 ARM SVE Kernel: Depends on container host Compiler: gcc (Ubuntu 10.5.0-1ubuntu1~20.04) 10.5.0 To view detailed results, visit: https://lab.dpdk.org/results/dashboard/patchsets/32545/ UNH-IOL DPDK Community Lab To manage your email subscriptions, visit: https://lab.dpdk.org/results/dashboard/preferences/subscriptions/