From mboxrd@z Thu Jan 1 00:00:00 1970 Return-Path: Received: from mails.dpdk.org (mails.dpdk.org [217.70.189.124]) by inbox.dpdk.org (Postfix) with ESMTP id 35B56461ED for ; Mon, 10 Feb 2025 15:29:21 +0100 (CET) Received: from mails.dpdk.org (localhost [127.0.0.1]) by mails.dpdk.org (Postfix) with ESMTP id 31A414278D; Mon, 10 Feb 2025 15:29:21 +0100 (CET) Received: from mail-oa1-f100.google.com (mail-oa1-f100.google.com [209.85.160.100]) by mails.dpdk.org (Postfix) with ESMTP id 1FCF142670 for ; Mon, 10 Feb 2025 15:29:20 +0100 (CET) Received: by mail-oa1-f100.google.com with SMTP id 586e51a60fabf-2b869268d01so464969fac.2 for ; Mon, 10 Feb 2025 06:29:20 -0800 (PST) DKIM-Signature: v=1; a=rsa-sha256; c=relaxed/relaxed; d=iol.unh.edu; s=unh-iol; t=1739197759; x=1739802559; darn=dpdk.org; h=references:in-reply-to:cc:to:from:subject:message-id:date:from:to :cc:subject:date:message-id:reply-to; bh=n7EXeiw+TuCTnHQ3h2vm66/1ZyxeJapPCqUpOjV3tcg=; b=f9cEOcACr1Q6OssGHGNNkMW5ipv2rlIls2j0aTR4DXjR00R/qcQ5EGwaIDVDjK7m1l mRrWTdsKiii4Gvg8++NDDJAqLq2G+LOuJxiRbSvNf1gQWK7LDUNbbKKrA48wOJlkWgp9 d94QjmwIx6x2w5AQcoDSNqWOAmGWg9gx5Soh0= X-Google-DKIM-Signature: v=1; a=rsa-sha256; c=relaxed/relaxed; d=1e100.net; s=20230601; t=1739197759; x=1739802559; h=references:in-reply-to:cc:to:from:subject:message-id:date :x-gm-message-state:from:to:cc:subject:date:message-id:reply-to; bh=n7EXeiw+TuCTnHQ3h2vm66/1ZyxeJapPCqUpOjV3tcg=; b=AUj4EgIHmY/edBNSRJbtFtsDWAD5tRsMffd02OwLOPRZbOytQ3+5DnHoaWblusq1xw FBUJ2MArWrz+8kdw7CpToDyIqRz1eGuH+qAzc/6IowC4QxjwvsARItmOEpQ229iykIZ9 om/mqy0x1boF4BQTB88GAcG70w3Q6OtDvwvMJ3llCKk/qAenCAsiBLrQ1a7JkeEGVTD0 436vcSjQ80cQiKBok59D6KghJkgVxj0muKPuAHLlRm5UY+J2I7/nYtvuoRvUNrk2Tflm PT2X4NasX/Nzh8ASY0yd8893wVu9iuCwxVbQx2tjeO0kEPM44HXnnE+i8zhLVWwk95DY t+kg== X-Gm-Message-State: AOJu0Yy1i5kSe9wQUZcl37ztt1Oi/CwzS8sRbqUPIxMoHdoe7UhsPch6 LdsOSXMM+Dk7ItiXYJoeVeyZp301hey67PP0DNKirI+qKJFh7T3ZUX3qMxPt9NOUMZG72ZXfOYu LdLq+p18vJk9nq4LChe4jBGnNBWKzSdmB9C5aw7RQ X-Gm-Gg: ASbGncuj+tWEa35DtWkmm0cX7xaAOtHvHVEUaLs7l3ZVx+Q5kTPeqRBsbaoZLRHjlMn W8BKIHE2IapUl1s10kntrf5wyP2V6rR5ESfV58wodDspAa3BS8tZwrwZIkqFoyfSzYpRGp7J1ag j7GTw+m4tHhg1SUXz2tldwJCOP83m9PbdQkdVr3W/Vd0BpJ9Zcqq7W3UzqPM+gW4gHWfPT9cjXQ cgSoNbPsJcOLqeSaCOV3guclW8Lu1fTR17KMVwKIq3yb/sMKFVy1nxnR7z2b7aT6sOhQ+NKwHkD IuOlzDnCzWGMO3DYaTrQ4gNFJBzAGA== X-Google-Smtp-Source: AGHT+IE7/8Chb8djSN2oPycslyoiooQrcK22HrZK0c8JGjbmQl7TvXPIqLS/M5aznTbuuHiRRFHSQTxFw2Wq X-Received: by 2002:a05:6870:9a24:b0:2b8:306f:c59b with SMTP id 586e51a60fabf-2b83eb4fdd8mr9234582fac.2.1739197759305; Mon, 10 Feb 2025 06:29:19 -0800 (PST) Received: from postal.iol.unh.edu (postal.iol.unh.edu. [132.177.123.84]) by smtp-relay.gmail.com with ESMTPS id 586e51a60fabf-2b82626f7b6sm439742fac.35.2025.02.10.06.29.19 (version=TLS1_2 cipher=ECDHE-ECDSA-AES128-GCM-SHA256 bits=128/128); Mon, 10 Feb 2025 06:29:19 -0800 (PST) X-Relaying-Domain: iol.unh.edu Date: Mon, 10 Feb 2025 06:29:19 -0800 (PST) Message-ID: <67aa0d3f.050a0220.59ef9.7325SMTPIN_ADDED_MISSING@mx.google.com> Received: from [172.21.0.5] (unknown [172.18.0.240]) by postal.iol.unh.edu (Postfix) with ESMTP id 447D56052471; Mon, 10 Feb 2025 09:29:18 -0500 (EST) Subject: |SUCCESS| pw151273 [PATCH] examples/ipsec-secgw: fix iv len in ctr 1 From: dpdklab@iol.unh.edu To: Test Report Cc: dpdk-test-reports@iol.unh.edu In-Reply-To: <20250207132016.62482-1-nkaithakadan@marvell.com> References: <20250207132016.62482-1-nkaithakadan@marvell.com> Content-Type: text/plain X-BeenThere: test-report@dpdk.org X-Mailman-Version: 2.1.29 Precedence: list List-Id: automatic DPDK test reports List-Unsubscribe: , List-Archive: List-Post: List-Help: List-Subscribe: , Errors-To: test-report-bounces@dpdk.org Test-Label: iol-abi-testing Test-Status: SUCCESS http://dpdk.org/patch/151273 _Testing PASS_ Submitter: Nithinsen Kaithakadan Date: Friday, February 07 2025 13:18:37 DPDK git baseline: Repo:dpdk Branch: master CommitID:3553897d84d8b54a1b1136cbf04dd7f1a40fd85b 151273 --> testing pass Upstream job id: Generic-DPDK-Compile-ABI#115650 Test environment and result as below: +-------------------+----------+ | Environment | abi_test | +===================+==========+ | Debian Bullseye | PASS | +-------------------+----------+ | Debian 12 | PASS | +-------------------+----------+ | CentOS Stream 9 | PASS | +-------------------+----------+ | Fedora 40 | PASS | +-------------------+----------+ | Fedora 40 (Clang) | PASS | +-------------------+----------+ | Fedora 41 (Clang) | PASS | +-------------------+----------+ | Fedora 41 | PASS | +-------------------+----------+ | openSUSE Leap 15 | PASS | +-------------------+----------+ | RHEL8 | PASS | +-------------------+----------+ | Ubuntu 22.04 | PASS | +-------------------+----------+ | RHEL9 | PASS | +-------------------+----------+ | Ubuntu 24.04 | PASS | +-------------------+----------+ Debian Bullseye Kernel: Depends on container host Compiler: gcc (Debian 10.2.1-6) 10.2.1 20210110 Debian 12 Kernel: Depends on container host Compiler: gcc (Debian 12.2.0-14) 12.2.0 CentOS Stream 9 Kernel: Depends on container host Compiler: gcc 11.5.0 20240719 (Red Hat 11.5.0-2) Fedora 40 Kernel: Depends on container host Compiler: gcc 14.2.1 20240912 (Red Hat 14.2.1-3) Fedora 40 (Clang) Kernel: Depends on container host Compiler: clang 18.1.8 (Fedora 18.1.8-1.fc40) Fedora 41 (Clang) Kernel: Depends on container host Compiler: clang 19.1.5 (Fedora 19.1.5-1.fc41) Fedora 41 Kernel: Depends on container host Compiler: gcc 14.2.1 20240912 (Red Hat 14.2.1-3) openSUSE Leap 15 Kernel: Depends on container host Compiler: gcc (SUSE Linux) 7.5.0 RHEL8 Kernel: Depends on container host Compiler: gcc 8.5.0 20210514 (Red Hat 8.5.0-22) Ubuntu 22.04 Kernel: Depends on container host Compiler: gcc (Ubuntu 11.4.0-1ubuntu1~22.04) 11.4.0 RHEL9 Kernel: Depends on container host Compiler: gcc 11.5.0 20240719 (Red Hat 11.5.0-2) Ubuntu 24.04 Kernel: Depends on container host Compiler: gcc (Ubuntu 13.3.0-6ubuntu2~24.04) 13.3.0 To view detailed results, visit: https://lab.dpdk.org/results/dashboard/patchsets/32545/ UNH-IOL DPDK Community Lab To manage your email subscriptions, visit: https://lab.dpdk.org/results/dashboard/preferences/subscriptions/