From mboxrd@z Thu Jan 1 00:00:00 1970 Return-Path: Received: from mails.dpdk.org (mails.dpdk.org [217.70.189.124]) by inbox.dpdk.org (Postfix) with ESMTP id 5B62D461ED for ; Mon, 10 Feb 2025 15:30:18 +0100 (CET) Received: from mails.dpdk.org (localhost [127.0.0.1]) by mails.dpdk.org (Postfix) with ESMTP id 575D64278D; Mon, 10 Feb 2025 15:30:18 +0100 (CET) Received: from mail-il1-f226.google.com (mail-il1-f226.google.com [209.85.166.226]) by mails.dpdk.org (Postfix) with ESMTP id D89B842670 for ; Mon, 10 Feb 2025 15:30:16 +0100 (CET) Received: by mail-il1-f226.google.com with SMTP id e9e14a558f8ab-3ce85545983so13672825ab.0 for ; Mon, 10 Feb 2025 06:30:16 -0800 (PST) DKIM-Signature: v=1; a=rsa-sha256; c=relaxed/relaxed; d=iol.unh.edu; s=unh-iol; t=1739197816; x=1739802616; darn=dpdk.org; h=cc:to:from:subject:message-id:date:from:to:cc:subject:date :message-id:reply-to; bh=yo4DxF1sYk1W6Uece+AO47Jj4uw+X5EKlNPA4CNu9h8=; b=NJM7aYeSx38GIIgp+uBEOa8lamJtRWwtOU92yihyhipSgQn1qYWyCokvE3SLQ+3dfd PbXSyMvqkQ0UzHnIvfAEbdUTA55laydTudm/mS+8MWgSxLJEtJZUK00zPZD8FGlByZCz KSkD2544NNKJEEmytIW76idGnx0wThtIg5JXM= X-Google-DKIM-Signature: v=1; a=rsa-sha256; c=relaxed/relaxed; d=1e100.net; s=20230601; t=1739197816; x=1739802616; h=cc:to:from:subject:message-id:date:x-gm-message-state:from:to:cc :subject:date:message-id:reply-to; bh=yo4DxF1sYk1W6Uece+AO47Jj4uw+X5EKlNPA4CNu9h8=; b=wxESviMxegMUVkXrFex766mGnAjp5v0rdP6ETI3s21YMz3dREDfsMjuS11uJmNgBTi OtAuTz99+9j1vvZlwcki3cut3SUy2UvNUVEJMXcbXB6BuS9YzjzU1UfqJSnYetEnC7pt k+jFG6zW7FylnS2uyUx7mk9x9zeKjX+LiQH37/K4qFCDwlDpS9/nPpGizOnqCX5xw7Rj blnVmzqLQ1aonvo8+pA4PiEm2Kcj0Zs9DYA5JH3IoGi38dZAUSkPfR/E21FacdSPj5Iu rd6VQZeHSUB9c0ux0VgqXaE9r6GaO9Y4Xk0HBw1I1ksa8CEFKaF0P2CY6QCQR+OHUlhF KxgQ== X-Gm-Message-State: AOJu0YzwCzGcCtIQDXTOrG/EH8PNPIuwwiFT0t3/JQFhprxMKEPareYB vLhyg4632ofGgmYkC9g2LRtmX5aqMkYZAOPEcuFA6vyOnX2J9KNXp0EkTDSRFIVjthKSkXln3Gc xQB4hEC1HZSh4j9dYrReq8504QYijy1UTx6zreqGh X-Gm-Gg: ASbGnctv8CHHGslo6mn8Y45QYo8eVbhAAhEQ17xZbrQhIA4LPWKhPs0GN9cbRSyk2dS r+xKZ3lw02tskN5PTP1/JkRFOeyxr9//Xwn197FiHnJ8iweZtwL4FlgkzBu6bT4pQW6Sl4pXqNW eBYuGzvREZt8k29DyTiat3T9aOOp5EXmEA9rtPNdOLcN31Ub0Hs0HR84v3NjNucP4Oy/B/cDMPa kFr7C9OBCo71SgjCt7/vYplKseVJjlqoxLvGlobGvvHPkW9K/3UbAhuEovcdRhb1Fv7qB07Uy2X 6frYfEIrNm2WnGKel9SFSMLITsqZCw== X-Google-Smtp-Source: AGHT+IFT2/fTaUrqs3VhNKgLI0RHlF1pcAMHv2snnsykbZ5GSIA73bDJYgLlWimRlNnYblgB4XqwAY7D1YRL X-Received: by 2002:a05:6e02:c8f:b0:3d1:4a69:e58f with SMTP id e9e14a558f8ab-3d14a69e74bmr68616035ab.2.1739197816041; Mon, 10 Feb 2025 06:30:16 -0800 (PST) Received: from postal.iol.unh.edu (postal.iol.unh.edu. [132.177.123.84]) by smtp-relay.gmail.com with ESMTPS id e9e14a558f8ab-3d1519b90bcsm3295805ab.68.2025.02.10.06.30.15 (version=TLS1_2 cipher=ECDHE-ECDSA-AES128-GCM-SHA256 bits=128/128); Mon, 10 Feb 2025 06:30:16 -0800 (PST) X-Relaying-Domain: iol.unh.edu Date: Mon, 10 Feb 2025 06:30:16 -0800 (PST) Message-ID: <67aa0d78.050a0220.250bfb.1227SMTPIN_ADDED_MISSING@mx.google.com> Received: from [172.21.0.6] (unknown [172.18.0.240]) by postal.iol.unh.edu (Postfix) with ESMTP id 7F1D36052471; Mon, 10 Feb 2025 09:30:15 -0500 (EST) Subject: |SUCCESS| [GIT MASTER] e26a9bdb3d79bfac47f2adb995b2ac9904b7222d From: dpdklab@iol.unh.edu To: Test Report Cc: dpdk-test-reports@iol.unh.edu, Bruce Richardson Content-Type: text/plain X-BeenThere: test-report@dpdk.org X-Mailman-Version: 2.1.29 Precedence: list List-Id: automatic DPDK test reports List-Unsubscribe: , List-Archive: List-Post: List-Help: List-Subscribe: , Errors-To: test-report-bounces@dpdk.org _Testing PASS_ Branch: dpdk-next-net-intel e26a9bdb3d79bfac47f2adb995b2ac9904b7222d --> testing pass Upstream job id: Generic-VM-Unit-Test-DPDK#27182 Test environment and result as below: +---------------------+----------------+ | Environment | dpdk_unit_test | +=====================+================+ | CentOS Stream 9 | PASS | +---------------------+----------------+ | Debian Bullseye | PASS | +---------------------+----------------+ | Fedora 41 (Clang) | PASS | +---------------------+----------------+ | Fedora 40 (Clang) | PASS | +---------------------+----------------+ | Debian 12 | PASS | +---------------------+----------------+ | RHEL8 | PASS | +---------------------+----------------+ | Fedora 40 | PASS | +---------------------+----------------+ | Fedora 41 | PASS | +---------------------+----------------+ | Ubuntu 20.04 | PASS | +---------------------+----------------+ | RHEL9 | PASS | +---------------------+----------------+ | Ubuntu 22.04 | PASS | +---------------------+----------------+ | Ubuntu 24.04 | PASS | +---------------------+----------------+ | Windows Server 2022 | PASS | +---------------------+----------------+ CentOS Stream 9 Kernel: Depends on container host Compiler: gcc 11.5.0 20240719 (Red Hat 11.5.0-2) Debian Bullseye Kernel: Depends on container host Compiler: gcc (Debian 10.2.1-6) 10.2.1 20210110 Fedora 41 (Clang) Kernel: Depends on container host Compiler: clang 19.1.5 (Fedora 19.1.5-1.fc41) Fedora 40 (Clang) Kernel: Depends on container host Compiler: clang 18.1.8 (Fedora 18.1.8-1.fc40) Debian 12 Kernel: Depends on container host Compiler: gcc (Debian 12.2.0-14) 12.2.0 RHEL8 Kernel: Depends on container host Compiler: gcc 8.5.0 20210514 (Red Hat 8.5.0-22) Fedora 40 Kernel: Depends on container host Compiler: gcc 14.2.1 20240912 (Red Hat 14.2.1-3) Fedora 41 Kernel: Depends on container host Compiler: gcc 14.2.1 20240912 (Red Hat 14.2.1-3) Ubuntu 20.04 Kernel: Depends on container host Compiler: gcc (Ubuntu 9.4.0-1ubuntu1~20.04.2) 9.4.0 RHEL9 Kernel: Depends on container host Compiler: gcc 11.5.0 20240719 (Red Hat 11.5.0-2) Ubuntu 22.04 Kernel: Depends on container host Compiler: gcc (Ubuntu 11.4.0-1ubuntu1~22.04) 11.4.0 Ubuntu 24.04 Kernel: Depends on container host Compiler: gcc (Ubuntu 13.3.0-6ubuntu2~24.04) 13.3.0 Windows Server 2022 Kernel: 10.0.20348.2031 Compiler: clang 15.0.7, gcc 14.1.0 (MinGW), and MSVC VS 19.39.33521 To view detailed results, visit: https://lab.dpdk.org/results/dashboard/tarballs/32526/ UNH-IOL DPDK Community Lab To manage your email subscriptions, visit: https://lab.dpdk.org/results/dashboard/preferences/subscriptions/