From mboxrd@z Thu Jan 1 00:00:00 1970 Return-Path: Received: from mails.dpdk.org (mails.dpdk.org [217.70.189.124]) by inbox.dpdk.org (Postfix) with ESMTP id 56AEA461ED for ; Mon, 10 Feb 2025 15:52:45 +0100 (CET) Received: from mails.dpdk.org (localhost [127.0.0.1]) by mails.dpdk.org (Postfix) with ESMTP id 524164278D; Mon, 10 Feb 2025 15:52:45 +0100 (CET) Received: from mail-pj1-f99.google.com (mail-pj1-f99.google.com [209.85.216.99]) by mails.dpdk.org (Postfix) with ESMTP id 0729F42670 for ; Mon, 10 Feb 2025 15:52:44 +0100 (CET) Received: by mail-pj1-f99.google.com with SMTP id 98e67ed59e1d1-2fa1fb3c445so5247196a91.2 for ; Mon, 10 Feb 2025 06:52:43 -0800 (PST) DKIM-Signature: v=1; a=rsa-sha256; c=relaxed/relaxed; d=iol.unh.edu; s=unh-iol; t=1739199163; x=1739803963; darn=dpdk.org; h=cc:to:from:subject:message-id:date:from:to:cc:subject:date :message-id:reply-to; bh=tLhsRgtXZMOH1K8Ftc7E99I1w/mPnk8YxvBuRtuQu74=; b=h+vqx+OFp5b5Q2GZJ8xvv9E77OPl3HylXyFfUw4RjSUt1hlwUZbNucYLv0i+1zeonu VDn0miO6CYnPuvjX501zwF18ELG+uRYQUuLKS0/Hz7t9+mb6pWwzl6IzdOOpOw+hFLrC oZa4YLoh2zVBceQjsPRrjbolFvZ+7o7dBJkTo= X-Google-DKIM-Signature: v=1; a=rsa-sha256; c=relaxed/relaxed; d=1e100.net; s=20230601; t=1739199163; x=1739803963; h=cc:to:from:subject:message-id:date:x-gm-message-state:from:to:cc :subject:date:message-id:reply-to; bh=tLhsRgtXZMOH1K8Ftc7E99I1w/mPnk8YxvBuRtuQu74=; b=Q79CYAIFKsOLDjCsE6o3UNHLbXqcVW/d2GL//5Z1VhvIO4Yu/wj1GUBnzhvBuXBKOJ TDb4MyPFpmmIjltobJffxDVVUhCD1zlXg90vdj4ujzMcf9YDdiHqVUqFBVBZ8w8q788c 9R48HrQtOu6Rw1Mza80UqULS/BmOGut20n0i3uEwzEaJjUThWd2pOnKRylVYcgXeCsjz 6GsO3XcvM8DW5ifY02CCwalKfn8k23I3P9hmuxWhC6lljWoO3iK9xqX2fHvF0sxhvly0 wZioseW9CQqCZnhBn3UWfKqUExrLuOLTR/OXjPH83BmttYABdirwj9rERU78eGKHx1lR xsfA== X-Gm-Message-State: AOJu0YygIeNIbIZxFuAJeQAgwSFBHLhV8HfZFrIRFgESuwp9lH+p7RUL 8DiBh9BqdUk15qJBQVJpF/KLWCjOklynaVlHT3DLmQxpIS8aJqDhMStYuHozjI7Ob/bGddGvwb4 XTOrWOnD0BEXx2A4TMdmPavWPqA4ZcPzJ+BJmAIig X-Gm-Gg: ASbGnctlm53FwP9pJHY8VJMHlt5vNWPzcYRBQLO6tz0xigt6jMMWWi3UUX6PgEY8V8u v3f9RRR0iDb9ga/M3FxIofHbw2YTj3JHyavY12hkKnJ/O9I44rNpDn+Ok3xQN3VqVkBz2Ppddcg btAQS9IvGd7ftFooYamURO1ZR8GDdS307GnZBzfYtFOGz3v2ooKju7W+90zPd1sSH0ZMUIkDGKK qGXvN84olo8pcIyrR//D2HPDuBpoUaR/62/eer/mEnAgeKpQAtQQ/7hZvFtMVdOeh4sJIXutVwf ij1aB4thvqtnnMHkIsce/LJjRUvhdg== X-Google-Smtp-Source: AGHT+IHEJ8BGUtJGr2pEP/XZz8J3Sv+4b32KLSkGveURONbPR0YJAU58vAL9FbD1CKlnDYBUhoJ3n4Q2LtlU X-Received: by 2002:a17:90a:ec85:b0:2f6:dcc9:38e0 with SMTP id 98e67ed59e1d1-2fa22c90894mr25002860a91.0.1739199162938; Mon, 10 Feb 2025 06:52:42 -0800 (PST) Received: from postal.iol.unh.edu (postal.iol.unh.edu. [132.177.123.84]) by smtp-relay.gmail.com with ESMTPS id 98e67ed59e1d1-2fa09a0255csm673522a91.3.2025.02.10.06.52.42 (version=TLS1_2 cipher=ECDHE-ECDSA-AES128-GCM-SHA256 bits=128/128); Mon, 10 Feb 2025 06:52:42 -0800 (PST) X-Relaying-Domain: iol.unh.edu Date: Mon, 10 Feb 2025 06:52:42 -0800 (PST) Message-ID: <67aa12ba.170a0220.17381e.2cccSMTPIN_ADDED_MISSING@mx.google.com> Received: from [172.21.0.5] (unknown [172.18.0.240]) by postal.iol.unh.edu (Postfix) with ESMTP id 09C2B6052471; Mon, 10 Feb 2025 09:52:41 -0500 (EST) Subject: |SUCCESS| [GIT MASTER] e26a9bdb3d79bfac47f2adb995b2ac9904b7222d From: dpdklab@iol.unh.edu To: Test Report Cc: dpdk-test-reports@iol.unh.edu, Bruce Richardson Content-Type: text/plain X-BeenThere: test-report@dpdk.org X-Mailman-Version: 2.1.29 Precedence: list List-Id: automatic DPDK test reports List-Unsubscribe: , List-Archive: List-Post: List-Help: List-Subscribe: , Errors-To: test-report-bounces@dpdk.org _Testing PASS_ Branch: dpdk-next-net-intel e26a9bdb3d79bfac47f2adb995b2ac9904b7222d --> testing pass Upstream job id: ACVP-FIPS-testing#8863 Test environment and result as below: +--------------------+----------------------+----------------------+ | Environment | compressdev_zlib_pmd | dpdk_fips_validation | +====================+======================+======================+ | Ubuntu 22.04 (ARM) | PASS | SKIPPED | +--------------------+----------------------+----------------------+ | Ubuntu 22.04 | PASS | SKIPPED | +--------------------+----------------------+----------------------+ | Ubuntu 20.04 | SKIPPED | PASS | +--------------------+----------------------+----------------------+ Ubuntu 22.04 (ARM) Kernel: 5.15.0-97-generic Compiler: gcc gcc (Ubuntu 11.4.0-1ubuntu1~22.04) 11.4.0 Ubuntu 22.04 Kernel: 5.15.0-100-generic Compiler: gcc gcc (Ubuntu 11.4.0-1ubuntu1~22.04) 11.4.0 Ubuntu 20.04 Kernel: Depends on container host Compiler: gcc (Ubuntu 9.4.0-1ubuntu1~20.04.2) 9.4.0 To view detailed results, visit: https://lab.dpdk.org/results/dashboard/tarballs/32526/ UNH-IOL DPDK Community Lab To manage your email subscriptions, visit: https://lab.dpdk.org/results/dashboard/preferences/subscriptions/