From mboxrd@z Thu Jan 1 00:00:00 1970 Return-Path: Received: from mails.dpdk.org (mails.dpdk.org [217.70.189.124]) by inbox.dpdk.org (Postfix) with ESMTP id EEFB1461ED for ; Mon, 10 Feb 2025 15:57:20 +0100 (CET) Received: from mails.dpdk.org (localhost [127.0.0.1]) by mails.dpdk.org (Postfix) with ESMTP id C6ACF42790; Mon, 10 Feb 2025 15:57:20 +0100 (CET) Received: from mail-oo1-f99.google.com (mail-oo1-f99.google.com [209.85.161.99]) by mails.dpdk.org (Postfix) with ESMTP id BB6EE4278D for ; Mon, 10 Feb 2025 15:57:19 +0100 (CET) Received: by mail-oo1-f99.google.com with SMTP id 006d021491bc7-5fc69795ecbso1060063eaf.1 for ; Mon, 10 Feb 2025 06:57:19 -0800 (PST) DKIM-Signature: v=1; a=rsa-sha256; c=relaxed/relaxed; d=iol.unh.edu; s=unh-iol; t=1739199439; x=1739804239; darn=dpdk.org; h=cc:to:from:subject:message-id:date:from:to:cc:subject:date :message-id:reply-to; bh=xqyu9+nSug4cTpt56bg+O9futOwwb7vighcphmOLOwE=; b=EIELClrvJ6iIZXrOp0tmeldxJzTVGgZbGbOpmKvbfkqzXKADEyLK2VWzxB3ONqxBYA K0gdUMteAFwmgPOY/TTbyUjKkqua1s3becx/YxW1X0Hpc9IIXRcuTkfpdg44E4k3/gGf JmjNLi6vQa6kUjf+SWP9W14+Yh777bfKhDtx0= X-Google-DKIM-Signature: v=1; a=rsa-sha256; c=relaxed/relaxed; d=1e100.net; s=20230601; t=1739199439; x=1739804239; h=cc:to:from:subject:message-id:date:x-gm-message-state:from:to:cc :subject:date:message-id:reply-to; bh=xqyu9+nSug4cTpt56bg+O9futOwwb7vighcphmOLOwE=; b=hVgofDDiH5zXlSVqj8qiwkeJ6c7jCwofwZhIJV1EwE4mrzWSzbGK5KjoL2IQ26Ac+8 wg1VmrQcybjwvaxYzjDnPxqJwLiJOE7IA/ffBir26xloeoTIeXAzIt786skgBjanTuxJ TOtd/9vxl0x+r+FQRrV9KhIR/ypRofCAd1DI8b5izRkmw6Uby1i7+WMDLtTfW9dkoQRK EU8Ngj0WXJ0Q4fn4imPXMU/PHAgd9othzSj5AR/MS0YLYJC3eTCrxHd66nNliUb1hSZX /eJSohXLTGuQxKpOKQbFJ14hacw8LCuHdhdOe7NMKYDV6b3HJvxd5T4yXkSkYvgegrwn RF3Q== X-Gm-Message-State: AOJu0YzQPuorKBLg+9NspmlY1/Hj3HCn4Cx1qwTT9MRFjeA4sliMwvk6 JeC8TX0fSo4a/dHnp1Cl9VqsN2v7v/WAXpRXWytWdqGke+WEIcZxRjVpqnWD0BrWy2t+Ymz8/2P aHkpWaJhWe3YcqaXS4Ls+s8Ba1FW3eNaE7KMxtLc2 X-Gm-Gg: ASbGnctcUD8DROKcBtUa5a9i0WF8sMUg4eoHOo9Tl1uFi3N57DF6zWxKBAS4JnHYXqt EESwbAHiF8EELdbuh97zJE80P+/9ZCPD5z6FzV9rk4+G7/2J18sFl7CIzr76fPc1RYlujT+hTew XEJCbK3lnnmGaTu/xMb3XEmqtNPg9rjFeRaPdHCkWQuquS4eGNPYtBcDaXZMIskOudGXhg2oGFO roANxeDZfJLzO8EEqPaBVejSwteuuuhsRUHiwBpmuhuXMBYVelv5Un37Q8WsE68s3OZBnJZReJ7 OtjPJzXuqOKdIjvaUhArS0KLhQjHeQ== X-Google-Smtp-Source: AGHT+IEXqA16FcK2O6VkY5eDbQ1UYZ/TBsyeLhjd5DOXbtZEP+I+HjlU2RvW2CLxQ0QhUXtbu3mrBkBd0Eq1 X-Received: by 2002:a4a:ef06:0:b0:5fc:7a88:bdee with SMTP id 006d021491bc7-5fc7a88c31bmr2670957eaf.7.1739199438946; Mon, 10 Feb 2025 06:57:18 -0800 (PST) Received: from postal.iol.unh.edu (postal.iol.unh.edu. [132.177.123.84]) by smtp-relay.gmail.com with ESMTPS id 006d021491bc7-5fc7aa4f5b4sm57801eaf.14.2025.02.10.06.57.18 (version=TLS1_2 cipher=ECDHE-ECDSA-AES128-GCM-SHA256 bits=128/128); Mon, 10 Feb 2025 06:57:18 -0800 (PST) X-Relaying-Domain: iol.unh.edu Date: Mon, 10 Feb 2025 06:57:18 -0800 (PST) Message-ID: <67aa13ce.050a0220.253d09.2f30SMTPIN_ADDED_MISSING@mx.google.com> Received: from [172.21.0.8] (unknown [172.18.0.240]) by postal.iol.unh.edu (Postfix) with ESMTP id 228146052471; Mon, 10 Feb 2025 09:57:18 -0500 (EST) Subject: |SUCCESS| [GIT MASTER] e26a9bdb3d79bfac47f2adb995b2ac9904b7222d From: dpdklab@iol.unh.edu To: Test Report Cc: dpdk-test-reports@iol.unh.edu, Bruce Richardson Content-Type: text/plain X-BeenThere: test-report@dpdk.org X-Mailman-Version: 2.1.29 Precedence: list List-Id: automatic DPDK test reports List-Unsubscribe: , List-Archive: List-Post: List-Help: List-Subscribe: , Errors-To: test-report-bounces@dpdk.org _Testing PASS_ Branch: dpdk-next-net-intel e26a9bdb3d79bfac47f2adb995b2ac9904b7222d --> testing pass Upstream job id: Generic-DPDK-Compile-Meson#360137 Test environment and result as below: +---------------------+--------------------+------------------+-------------------+-------------------------+-------------------+----------------------+ | Environment | dpdk_meson_compile | dpdk_compile_ovs | dpdk_compile_spdk | dpdk_llvm_clang_compile | dpdk_msvc_compile | dpdk_mingw64_compile | +=====================+====================+==================+===================+=========================+===================+======================+ | Debian Bullseye | PASS | PASS | PASS | SKIPPED | SKIPPED | SKIPPED | +---------------------+--------------------+------------------+-------------------+-------------------------+-------------------+----------------------+ | Debian 12 | PASS | PASS | PASS | SKIPPED | SKIPPED | SKIPPED | +---------------------+--------------------+------------------+-------------------+-------------------------+-------------------+----------------------+ | Fedora 40 | PASS | PASS | PASS | SKIPPED | SKIPPED | SKIPPED | +---------------------+--------------------+------------------+-------------------+-------------------------+-------------------+----------------------+ | Fedora 40 (Clang) | PASS | PASS | PASS | SKIPPED | SKIPPED | SKIPPED | +---------------------+--------------------+------------------+-------------------+-------------------------+-------------------+----------------------+ | Fedora 41 (Clang) | PASS | PASS | PASS | SKIPPED | SKIPPED | SKIPPED | +---------------------+--------------------+------------------+-------------------+-------------------------+-------------------+----------------------+ | RHEL9 | PASS | PASS | SKIPPED | SKIPPED | SKIPPED | SKIPPED | +---------------------+--------------------+------------------+-------------------+-------------------------+-------------------+----------------------+ | Fedora 41 | PASS | PASS | PASS | SKIPPED | SKIPPED | SKIPPED | +---------------------+--------------------+------------------+-------------------+-------------------------+-------------------+----------------------+ | openSUSE Leap 15 | PASS | SKIPPED | SKIPPED | SKIPPED | SKIPPED | SKIPPED | +---------------------+--------------------+------------------+-------------------+-------------------------+-------------------+----------------------+ | RHEL8 | PASS | PASS | SKIPPED | SKIPPED | SKIPPED | SKIPPED | +---------------------+--------------------+------------------+-------------------+-------------------------+-------------------+----------------------+ | Ubuntu 20.04 | PASS | SKIPPED | SKIPPED | SKIPPED | SKIPPED | SKIPPED | +---------------------+--------------------+------------------+-------------------+-------------------------+-------------------+----------------------+ | Ubuntu 22.04 | PASS | PASS | PASS | SKIPPED | SKIPPED | SKIPPED | +---------------------+--------------------+------------------+-------------------+-------------------------+-------------------+----------------------+ | Ubuntu 24.04 | PASS | PASS | PASS | SKIPPED | SKIPPED | SKIPPED | +---------------------+--------------------+------------------+-------------------+-------------------------+-------------------+----------------------+ | Alpine | PASS | PASS | SKIPPED | SKIPPED | SKIPPED | SKIPPED | +---------------------+--------------------+------------------+-------------------+-------------------------+-------------------+----------------------+ | FreeBSD 13.4 | PASS | SKIPPED | SKIPPED | SKIPPED | SKIPPED | SKIPPED | +---------------------+--------------------+------------------+-------------------+-------------------------+-------------------+----------------------+ | FreeBSD 14.2 | PASS | SKIPPED | SKIPPED | SKIPPED | SKIPPED | SKIPPED | +---------------------+--------------------+------------------+-------------------+-------------------------+-------------------+----------------------+ | Windows Server 2022 | SKIPPED | SKIPPED | SKIPPED | PASS | PASS | PASS | +---------------------+--------------------+------------------+-------------------+-------------------------+-------------------+----------------------+ Debian Bullseye Kernel: Depends on container host Compiler: gcc (Debian 10.2.1-6) 10.2.1 20210110 Debian 12 Kernel: Depends on container host Compiler: gcc (Debian 12.2.0-14) 12.2.0 Fedora 40 Kernel: Depends on container host Compiler: gcc 14.2.1 20240912 (Red Hat 14.2.1-3) Fedora 40 (Clang) Kernel: Depends on container host Compiler: clang 18.1.8 (Fedora 18.1.8-1.fc40) Fedora 41 (Clang) Kernel: Depends on container host Compiler: clang 19.1.5 (Fedora 19.1.5-1.fc41) RHEL9 Kernel: Depends on container host Compiler: gcc 11.5.0 20240719 (Red Hat 11.5.0-2) Fedora 41 Kernel: Depends on container host Compiler: gcc 14.2.1 20240912 (Red Hat 14.2.1-3) openSUSE Leap 15 Kernel: Depends on container host Compiler: gcc (SUSE Linux) 7.5.0 RHEL8 Kernel: Depends on container host Compiler: gcc 8.5.0 20210514 (Red Hat 8.5.0-22) Ubuntu 20.04 Kernel: Depends on container host Compiler: gcc (Ubuntu 9.4.0-1ubuntu1~20.04.2) 9.4.0 Ubuntu 22.04 Kernel: Depends on container host Compiler: gcc (Ubuntu 11.4.0-1ubuntu1~22.04) 11.4.0 Ubuntu 24.04 Kernel: Depends on container host Compiler: gcc (Ubuntu 13.3.0-6ubuntu2~24.04) 13.3.0 Alpine Kernel: Depends on container host Compiler: gcc (Alpine 14.2.0) 14.2.0 FreeBSD 13.4 Kernel: 13.4-RELEASE-p1 Compiler: clang 18.1.6 FreeBSD 14.2 Kernel: 14.2-RELEASE Compiler: clang 18.1.6 Windows Server 2022 Kernel: 10.0.20348.2031 Compiler: clang 15.0.7, gcc 14.1.0 (MinGW), and MSVC VS 19.39.33521 To view detailed results, visit: https://lab.dpdk.org/results/dashboard/tarballs/32526/ UNH-IOL DPDK Community Lab To manage your email subscriptions, visit: https://lab.dpdk.org/results/dashboard/preferences/subscriptions/