From mboxrd@z Thu Jan 1 00:00:00 1970 Return-Path: Received: from mails.dpdk.org (mails.dpdk.org [217.70.189.124]) by inbox.dpdk.org (Postfix) with ESMTP id 182CB461ED for ; Mon, 10 Feb 2025 15:58:38 +0100 (CET) Received: from mails.dpdk.org (localhost [127.0.0.1]) by mails.dpdk.org (Postfix) with ESMTP id 13A9D42790; Mon, 10 Feb 2025 15:58:38 +0100 (CET) Received: from mail-qv1-f98.google.com (mail-qv1-f98.google.com [209.85.219.98]) by mails.dpdk.org (Postfix) with ESMTP id 672054278D for ; Mon, 10 Feb 2025 15:58:36 +0100 (CET) Received: by mail-qv1-f98.google.com with SMTP id 6a1803df08f44-6e436c59113so41203076d6.3 for ; Mon, 10 Feb 2025 06:58:36 -0800 (PST) DKIM-Signature: v=1; a=rsa-sha256; c=relaxed/relaxed; d=iol.unh.edu; s=unh-iol; t=1739199516; x=1739804316; darn=dpdk.org; h=cc:to:from:subject:message-id:date:from:to:cc:subject:date :message-id:reply-to; bh=KlN8w2LLFW4E7wKBVrzJgk0gQGpH1s0c2Ws4HE+O4c8=; b=QuOFVLG4xhAGhQKbo7aAYM+j3NXkJXix90H2e8WO1+yFv/rbT4UexYO7/aiEYIo1xu oO2djvKJgmMlfzokGD1TBztJd283FetkSJAh4cuNZNasu8pcIy8VIEVUaLBSKJQYtkPM UNJIaTW4yUaUCQGkQ531i7cyNEhQrEQuOsGzY= X-Google-DKIM-Signature: v=1; a=rsa-sha256; c=relaxed/relaxed; d=1e100.net; s=20230601; t=1739199516; x=1739804316; h=cc:to:from:subject:message-id:date:x-gm-message-state:from:to:cc :subject:date:message-id:reply-to; bh=KlN8w2LLFW4E7wKBVrzJgk0gQGpH1s0c2Ws4HE+O4c8=; b=Rwg6YW29jH0YZAbfP9swWvIusUDnjqZNOg/3gr/c6B43yppRV/SQ8w+FMKRzLHAQ+d rovLrTvaAfIxH58o+vuQnvEsTivNG1GTXCm7WULryICAwaBn8w6RGRbwAE+QKAJXopYJ JvwOgi76Lykxj5oyqWksRu1F/V+3V6n8witCNpzCuxMYqNZTI4y0UeaqOoDuw39GOjHI twRaeRVc8Ms0IQq/Qypd3cxMWRZN0pEhz0d8V0mRTktgeeE9ncJbUCVs37Qde/cmh6ro 8AfOXKRS1I4iZrr5SfqcvReF8KDg+TZAbKz5cFsB4J/hrEE3edK52vfwXHJ0TDnyCKHW SH9A== X-Gm-Message-State: AOJu0YyOOnpyJYGYEqg/qLSaE6PTaKG84OMs/UYZUI5Nfucth6Q1ijyt S9Uu/a3lTtbcrPHn71pAsbE+c+R2fiK+I23/2/Ti1u5dwxAAL+fEmbfdx0YqgBTdhgjE8g/UrOZ SmkZ++LtnSAyKpuHU+HaXXg+cEKGV2ndNArDJ78PrjHbDad4bL+S5UzVk X-Gm-Gg: ASbGncvRvK+mc549HFvO6jCTnkwo3/2hQBAKqYaYlkvD9cXueawLU4uvDZgpLkt2ROY zXF6wV5LaNx3UiseFUcqAsgAtmNqtavaiftQbaeVV2cEBNSOEqPoMx+AmVyeWhLht+/fQ/c4OvO Ad9A5iNvMeUXJHrxxa+Zi6l3NOAtNE9O91mH4Tnia/cMxwh/Wj6u8wqRs+Q3SSJcuJRnrfLl6Id +204BbEBzbDVAbvRN6O9ok9sEj8L96u9w76VT+KcPzkAsOrZFufUnPqVMahidyvGIcSwNbfQEc0 P024HnfSvhuClzdLQ8cgFOmriQNTryia+2+wGxdVtQ== X-Google-Smtp-Source: AGHT+IEl+pj+yN6EbgHM2PSKcuWkoaXz0V/OGPJ0wWfpvGRWIiBvlhBmdkXKMkRjyq5QuPIJnHEqiMM681t1 X-Received: by 2002:a05:6214:c6c:b0:6d3:fa03:23f1 with SMTP id 6a1803df08f44-6e467859fc6mr226076d6.13.1739199515810; Mon, 10 Feb 2025 06:58:35 -0800 (PST) Received: from postal.iol.unh.edu (postal.iol.unh.edu. [2606:4100:3880:1234::84]) by smtp-relay.gmail.com with ESMTPS id 6a1803df08f44-6e4546c89b0sm2951456d6.14.2025.02.10.06.58.35 (version=TLS1_2 cipher=ECDHE-ECDSA-AES128-GCM-SHA256 bits=128/128); Mon, 10 Feb 2025 06:58:35 -0800 (PST) X-Relaying-Domain: iol.unh.edu Date: Mon, 10 Feb 2025 06:58:35 -0800 (PST) Message-ID: <67aa141b.050a0220.2eb914.f87dSMTPIN_ADDED_MISSING@mx.google.com> Received: from [172.21.0.7] (unknown [172.18.0.240]) by postal.iol.unh.edu (Postfix) with ESMTP id 529166052471; Mon, 10 Feb 2025 09:58:35 -0500 (EST) Subject: |SUCCESS| [GIT MASTER] e26a9bdb3d79bfac47f2adb995b2ac9904b7222d From: dpdklab@iol.unh.edu To: Test Report Cc: dpdk-test-reports@iol.unh.edu, Bruce Richardson Content-Type: text/plain X-BeenThere: test-report@dpdk.org X-Mailman-Version: 2.1.29 Precedence: list List-Id: automatic DPDK test reports List-Unsubscribe: , List-Archive: List-Post: List-Help: List-Subscribe: , Errors-To: test-report-bounces@dpdk.org _Testing PASS_ Branch: dpdk-next-net-intel e26a9bdb3d79bfac47f2adb995b2ac9904b7222d --> testing pass Upstream job id: Windows-Compile-DPDK-Native#26591 Test environment and result as below: +---------------------+--------------------+------------------+-------------------+-------------------------+-------------------+----------------------+ | Environment | dpdk_meson_compile | dpdk_compile_ovs | dpdk_compile_spdk | dpdk_llvm_clang_compile | dpdk_msvc_compile | dpdk_mingw64_compile | +=====================+====================+==================+===================+=========================+===================+======================+ | Debian Bullseye | PASS | PASS | PASS | SKIPPED | SKIPPED | SKIPPED | +---------------------+--------------------+------------------+-------------------+-------------------------+-------------------+----------------------+ | Debian 12 | PASS | PASS | PASS | SKIPPED | SKIPPED | SKIPPED | +---------------------+--------------------+------------------+-------------------+-------------------------+-------------------+----------------------+ | Fedora 40 | PASS | PASS | PASS | SKIPPED | SKIPPED | SKIPPED | +---------------------+--------------------+------------------+-------------------+-------------------------+-------------------+----------------------+ | Fedora 40 (Clang) | PASS | PASS | PASS | SKIPPED | SKIPPED | SKIPPED | +---------------------+--------------------+------------------+-------------------+-------------------------+-------------------+----------------------+ | Fedora 41 (Clang) | PASS | PASS | PASS | SKIPPED | SKIPPED | SKIPPED | +---------------------+--------------------+------------------+-------------------+-------------------------+-------------------+----------------------+ | RHEL9 | PASS | PASS | SKIPPED | SKIPPED | SKIPPED | SKIPPED | +---------------------+--------------------+------------------+-------------------+-------------------------+-------------------+----------------------+ | Fedora 41 | PASS | PASS | PASS | SKIPPED | SKIPPED | SKIPPED | +---------------------+--------------------+------------------+-------------------+-------------------------+-------------------+----------------------+ | openSUSE Leap 15 | PASS | SKIPPED | SKIPPED | SKIPPED | SKIPPED | SKIPPED | +---------------------+--------------------+------------------+-------------------+-------------------------+-------------------+----------------------+ | RHEL8 | PASS | PASS | SKIPPED | SKIPPED | SKIPPED | SKIPPED | +---------------------+--------------------+------------------+-------------------+-------------------------+-------------------+----------------------+ | Ubuntu 20.04 | PASS | SKIPPED | SKIPPED | SKIPPED | SKIPPED | SKIPPED | +---------------------+--------------------+------------------+-------------------+-------------------------+-------------------+----------------------+ | Ubuntu 22.04 | PASS | PASS | PASS | SKIPPED | SKIPPED | SKIPPED | +---------------------+--------------------+------------------+-------------------+-------------------------+-------------------+----------------------+ | Ubuntu 24.04 | PASS | PASS | PASS | SKIPPED | SKIPPED | SKIPPED | +---------------------+--------------------+------------------+-------------------+-------------------------+-------------------+----------------------+ | Alpine | PASS | PASS | SKIPPED | SKIPPED | SKIPPED | SKIPPED | +---------------------+--------------------+------------------+-------------------+-------------------------+-------------------+----------------------+ | FreeBSD 13.4 | PASS | SKIPPED | SKIPPED | SKIPPED | SKIPPED | SKIPPED | +---------------------+--------------------+------------------+-------------------+-------------------------+-------------------+----------------------+ | FreeBSD 14.2 | PASS | SKIPPED | SKIPPED | SKIPPED | SKIPPED | SKIPPED | +---------------------+--------------------+------------------+-------------------+-------------------------+-------------------+----------------------+ | Windows Server 2022 | SKIPPED | SKIPPED | SKIPPED | PASS | PASS | PASS | +---------------------+--------------------+------------------+-------------------+-------------------------+-------------------+----------------------+ Debian Bullseye Kernel: Depends on container host Compiler: gcc (Debian 10.2.1-6) 10.2.1 20210110 Debian 12 Kernel: Depends on container host Compiler: gcc (Debian 12.2.0-14) 12.2.0 Fedora 40 Kernel: Depends on container host Compiler: gcc 14.2.1 20240912 (Red Hat 14.2.1-3) Fedora 40 (Clang) Kernel: Depends on container host Compiler: clang 18.1.8 (Fedora 18.1.8-1.fc40) Fedora 41 (Clang) Kernel: Depends on container host Compiler: clang 19.1.5 (Fedora 19.1.5-1.fc41) RHEL9 Kernel: Depends on container host Compiler: gcc 11.5.0 20240719 (Red Hat 11.5.0-2) Fedora 41 Kernel: Depends on container host Compiler: gcc 14.2.1 20240912 (Red Hat 14.2.1-3) openSUSE Leap 15 Kernel: Depends on container host Compiler: gcc (SUSE Linux) 7.5.0 RHEL8 Kernel: Depends on container host Compiler: gcc 8.5.0 20210514 (Red Hat 8.5.0-22) Ubuntu 20.04 Kernel: Depends on container host Compiler: gcc (Ubuntu 9.4.0-1ubuntu1~20.04.2) 9.4.0 Ubuntu 22.04 Kernel: Depends on container host Compiler: gcc (Ubuntu 11.4.0-1ubuntu1~22.04) 11.4.0 Ubuntu 24.04 Kernel: Depends on container host Compiler: gcc (Ubuntu 13.3.0-6ubuntu2~24.04) 13.3.0 Alpine Kernel: Depends on container host Compiler: gcc (Alpine 14.2.0) 14.2.0 FreeBSD 13.4 Kernel: 13.4-RELEASE-p1 Compiler: clang 18.1.6 FreeBSD 14.2 Kernel: 14.2-RELEASE Compiler: clang 18.1.6 Windows Server 2022 Kernel: 10.0.20348.2031 Compiler: clang 15.0.7, gcc 14.1.0 (MinGW), and MSVC VS 19.39.33521 To view detailed results, visit: https://lab.dpdk.org/results/dashboard/tarballs/32526/ UNH-IOL DPDK Community Lab To manage your email subscriptions, visit: https://lab.dpdk.org/results/dashboard/preferences/subscriptions/