From mboxrd@z Thu Jan 1 00:00:00 1970 Return-Path: Received: from mails.dpdk.org (mails.dpdk.org [217.70.189.124]) by inbox.dpdk.org (Postfix) with ESMTP id 90E0E4619C for ; Mon, 10 Feb 2025 16:38:18 +0100 (CET) Received: from mails.dpdk.org (localhost [127.0.0.1]) by mails.dpdk.org (Postfix) with ESMTP id 7DCAD4279C; Mon, 10 Feb 2025 16:38:18 +0100 (CET) Received: from mail-yb1-f227.google.com (mail-yb1-f227.google.com [209.85.219.227]) by mails.dpdk.org (Postfix) with ESMTP id 1D05D42794 for ; Mon, 10 Feb 2025 16:38:17 +0100 (CET) Received: by mail-yb1-f227.google.com with SMTP id 3f1490d57ef6-e53ef7462b6so3700288276.3 for ; Mon, 10 Feb 2025 07:38:17 -0800 (PST) DKIM-Signature: v=1; a=rsa-sha256; c=relaxed/relaxed; d=iol.unh.edu; s=unh-iol; t=1739201896; x=1739806696; darn=dpdk.org; h=references:in-reply-to:cc:to:from:subject:message-id:date:from:to :cc:subject:date:message-id:reply-to; bh=hQsR84v5IhsFL8YxLbiWG82ufXwn644M0dtdkyVx0WY=; b=BcoDFI1s90X4w+NuenZ/BrYo2QoipQrh3xdzIqmAWlqbzrBmCmMysgOIC1GooZUfPq b9goTqDvRHpaMAyMwck/o3j/ixXyByAXA7WRuCDus3DQNG3LvLt6kPXIPeH+QLRNkW6o q1h2sZ2cr1sAj8x3XARTXgvjMZt19/ta17hUc= X-Google-DKIM-Signature: v=1; a=rsa-sha256; c=relaxed/relaxed; d=1e100.net; s=20230601; t=1739201896; x=1739806696; h=references:in-reply-to:cc:to:from:subject:message-id:date :x-gm-message-state:from:to:cc:subject:date:message-id:reply-to; bh=hQsR84v5IhsFL8YxLbiWG82ufXwn644M0dtdkyVx0WY=; b=dXcPa78IsTMuSNT9dJDRifG/APqt+3n1cJ+tNPGWGfToB4nidOlARVbXEjBpVrW2cj 2BM8JBOAGiskX/keiHRHFzOiHlD7PDbd8zGoG0+m1PMxJbyNrpoL7F6Qs9PtSXuHtoPC bemDuhttN0fcgrWQp5sAQ4DADXuPr+DwLI9AuK/6d9Js3MfZ5XIgA/b+7DvZcnWDmIvT eF6F/NFSWF30h2Sm8fk0iCA9pM2SAsT3soYH7i9GK14EFtYgsDC1Sdzsu2eHd1oaVUQE A9q1vq4m0UcjPIJnLfuVUoGnZYBHF4iIf4DcV3JVZBxFLXfmxxMfuEL+m1G/l6WPDwvR 38Fw== X-Gm-Message-State: AOJu0YxbWzyQqH6o8UwESr3NpJ9LpsG9D5Imo8KkVv9Td/RDGJGmbMc/ nrB88YN+WuAgE7adz7dm1uyWXnAEyYiwGKPmiGTxoPjQ0Wi8R/GP8QR1qoscSXZLXQAisIFaA37 8/NKgEyCXEvjo7YfimygRWwdjjkPfUBSshn+GV22Z X-Gm-Gg: ASbGncvYHgjICWvpAyyhp9ubdk66SFKZf4YcaxltqKfBz8744rLYfCPThPx6v85vbOu jj05d4s7B1XlZpMzz4AQPN1l/vauYsgDzJFhjCeLxU/+B//at2kjSCQofdsrqh6U2LSrHVjdq8D 4VPK+dDdw6J83Clqw8Y5SjsithEeeKmBX2yqvS8qlxAv+3hkhUjBnbp5i6DrnIfKOkTFMEAW4Rc 3CwyvwKoIgYY6olNMrUn37NVxvtvyc8KJ2PCGoPdPvgfyjq5eJEMazlY57C13EMFgHpFBHnnB9y rLUfEWyipvoUl1eHAoKbJzZo3q1Obg== X-Google-Smtp-Source: AGHT+IFf+e0yNgPoveQTaPYCzSFHxkTqN1FLLoy4mfLCfLU/FVfmFZfHF4i9b36yWZilgItlbHwttpSSXGFB X-Received: by 2002:a05:6902:1b85:b0:e5b:21fe:d9bd with SMTP id 3f1490d57ef6-e5b4617058amr13124901276.10.1739201896416; Mon, 10 Feb 2025 07:38:16 -0800 (PST) Received: from postal.iol.unh.edu (postal.iol.unh.edu. [132.177.123.84]) by smtp-relay.gmail.com with ESMTPS id 3f1490d57ef6-e5b3a206702sm550053276.10.2025.02.10.07.38.16 (version=TLS1_2 cipher=ECDHE-ECDSA-AES128-GCM-SHA256 bits=128/128); Mon, 10 Feb 2025 07:38:16 -0800 (PST) X-Relaying-Domain: iol.unh.edu Date: Mon, 10 Feb 2025 07:38:16 -0800 (PST) Message-ID: <67aa1d68.250a0220.bbb86.d8dfSMTPIN_ADDED_MISSING@mx.google.com> Received: from [172.17.0.3] (unknown [172.18.0.217]) by postal.iol.unh.edu (Postfix) with ESMTP id 0EB086052471; Mon, 10 Feb 2025 10:38:16 -0500 (EST) Subject: |SUCCESS| pw151273 [PATCH] examples/ipsec-secgw: fix iv len in ctr 1 From: dpdklab@iol.unh.edu To: Test Report Cc: dpdk-test-reports@iol.unh.edu In-Reply-To: <20250207132016.62482-1-nkaithakadan@marvell.com> References: <20250207132016.62482-1-nkaithakadan@marvell.com> Content-Type: text/plain X-BeenThere: test-report@dpdk.org X-Mailman-Version: 2.1.29 Precedence: list List-Id: automatic DPDK test reports List-Unsubscribe: , List-Archive: List-Post: List-Help: List-Subscribe: , Errors-To: test-report-bounces@dpdk.org Test-Label: iol-sample-apps-testing Test-Status: SUCCESS http://dpdk.org/patch/151273 _Testing PASS_ Submitter: Nithinsen Kaithakadan Date: Friday, February 07 2025 13:18:37 DPDK git baseline: Repo:dpdk Branch: master CommitID:3553897d84d8b54a1b1136cbf04dd7f1a40fd85b 151273 --> testing pass Upstream job id: ACVP-FIPS-testing#8864 Test environment and result as below: +--------------------+----------------------+----------------------+ | Environment | compressdev_zlib_pmd | dpdk_fips_validation | +====================+======================+======================+ | Ubuntu 22.04 (ARM) | PASS | SKIPPED | +--------------------+----------------------+----------------------+ | Ubuntu 22.04 | PASS | SKIPPED | +--------------------+----------------------+----------------------+ | Ubuntu 20.04 | SKIPPED | PASS | +--------------------+----------------------+----------------------+ Ubuntu 22.04 (ARM) Kernel: 5.15.0-97-generic Compiler: gcc gcc (Ubuntu 11.4.0-1ubuntu1~22.04) 11.4.0 Ubuntu 22.04 Kernel: 5.15.0-100-generic Compiler: gcc gcc (Ubuntu 11.4.0-1ubuntu1~22.04) 11.4.0 Ubuntu 20.04 Kernel: Depends on container host Compiler: gcc (Ubuntu 9.4.0-1ubuntu1~20.04.2) 9.4.0 To view detailed results, visit: https://lab.dpdk.org/results/dashboard/patchsets/32545/ UNH-IOL DPDK Community Lab To manage your email subscriptions, visit: https://lab.dpdk.org/results/dashboard/preferences/subscriptions/