From mboxrd@z Thu Jan 1 00:00:00 1970 Return-Path: Received: from mails.dpdk.org (mails.dpdk.org [217.70.189.124]) by inbox.dpdk.org (Postfix) with ESMTP id 3388F461AE for ; Mon, 10 Feb 2025 16:57:04 +0100 (CET) Received: from mails.dpdk.org (localhost [127.0.0.1]) by mails.dpdk.org (Postfix) with ESMTP id 0E51B4279C; Mon, 10 Feb 2025 16:57:04 +0100 (CET) Received: from mail-qv1-f100.google.com (mail-qv1-f100.google.com [209.85.219.100]) by mails.dpdk.org (Postfix) with ESMTP id BA59442794 for ; Mon, 10 Feb 2025 16:57:02 +0100 (CET) Received: by mail-qv1-f100.google.com with SMTP id 6a1803df08f44-6e4505134c4so35364536d6.2 for ; Mon, 10 Feb 2025 07:57:02 -0800 (PST) DKIM-Signature: v=1; a=rsa-sha256; c=relaxed/relaxed; d=iol.unh.edu; s=unh-iol; t=1739203022; x=1739807822; darn=dpdk.org; h=references:in-reply-to:cc:to:from:subject:message-id:date:from:to :cc:subject:date:message-id:reply-to; bh=EvHAIQE9HsDMKBuV7OUik5tzrp2rDjf/6FhD53kGrJ4=; b=ZkKVirKHcL7otNZYeS+LXhL0dEwXmnr8MiP/nscp0E7YAe17sz+4p5MiVc+thnSAm0 kvlhTR1KQbLChFWpUBg0VvwIXI2/82H4daYKCqzoYb4UedP6sAvjkXahaEx8zx7xSFZA MLefK3tSa8ks3mWznScglGn99Dop6wpOhRbP8= X-Google-DKIM-Signature: v=1; a=rsa-sha256; c=relaxed/relaxed; d=1e100.net; s=20230601; t=1739203022; x=1739807822; h=references:in-reply-to:cc:to:from:subject:message-id:date :x-gm-message-state:from:to:cc:subject:date:message-id:reply-to; bh=EvHAIQE9HsDMKBuV7OUik5tzrp2rDjf/6FhD53kGrJ4=; b=PNy0xgKdNCjsRDuoloY+yvGAVTm/1GP70dofXFanwTHteNLe8JhQi4+po20LviJEsy MlwCXfeYOvdqUKm6pxUJTzsWWpcqKOy15f7Mc5ltiyVyTIAwephEoYvQnnazr942tPfx MWN2NZk96n4xTrxt293e+PXHFPI1bh8kigkArq3cdWyfsS7T7nur7v+VTlNeUOX2Kr9I Dng/AdnBklUelZym/gBO5miRirZUMnQm7q08qMrbJc7R/CTeVIzUJFW3HeZ/QN5jJSSb EAIYZXu3X5kjirwY7a9q1La9m+Rz8VMJ1R/5rot8FKwWDa/GQ6CFV3EhAxrpmdHVmc5D Shsg== X-Gm-Message-State: AOJu0YytXFKldTCGVScNvx8tiMdsekYliUW+tI6OhAkpOh84UxdCEXJ4 XJ+HJGRNq9qzSvrWB+je5w9E/2DkNFVjfH1g5DzDW4u/OiZqZWVxfd+gaZXPpyWQrAmYW3PAWUF 6acJiYuNnHM5vocxshokF+HO2s0JGR/oIhIAy4vh/MbtFYldtH+1cKrKQ X-Gm-Gg: ASbGncu/6YD1Els3fHsd7ppG6DqhF1BbIhgiHJ4AvtdETHXIo5VxcdKLAvxWzc+VHmP OCUbTlQO6JiiojNzeaA7GL64qf+55UrXR5SPPx+6zTeTHoT7yKIxpfXcjCJtkSJnDkRN3/LATvw fP3jUTe3s/4EvpzaoZfONS0q57zCILMEPcIgsdJ5p/3Zvs86ahUXKW6e81GNoEfQpLsXaW5iZSs T0sXGSQ6CYibeIG3LVM0AQB9TJafH0nRwD5Br3z6eS38lQ+48t9Cy5/WpaWoQIFXh1mHuuSFOhg z+dmq2Ek1I9uCp9qV+BJSLlADMck7Yi2Mc4U2WF4wA== X-Google-Smtp-Source: AGHT+IGRFAAcZX0L0JBgFLOxFDOdUII1RcPZjO2+uaV8QaXWUoczYhvc8pl9m4rmS5I6FFdHdXuL4bHujoeK X-Received: by 2002:ad4:5bc4:0:b0:6d8:e5f4:b969 with SMTP id 6a1803df08f44-6e4455e5552mr233588126d6.10.1739203020560; Mon, 10 Feb 2025 07:57:00 -0800 (PST) Received: from postal.iol.unh.edu (postal.iol.unh.edu. [2606:4100:3880:1234::84]) by smtp-relay.gmail.com with ESMTPS id 6a1803df08f44-6e43ba40941sm5884736d6.20.2025.02.10.07.57.00 (version=TLS1_2 cipher=ECDHE-ECDSA-AES128-GCM-SHA256 bits=128/128); Mon, 10 Feb 2025 07:57:00 -0800 (PST) X-Relaying-Domain: iol.unh.edu Date: Mon, 10 Feb 2025 07:57:00 -0800 (PST) Message-ID: <67aa21cc.050a0220.39bff0.f119SMTPIN_ADDED_MISSING@mx.google.com> Received: from [172.17.0.3] (unknown [172.18.0.217]) by postal.iol.unh.edu (Postfix) with ESMTP id 3D35D6052471; Mon, 10 Feb 2025 10:57:00 -0500 (EST) Subject: |SUCCESS| pw151273 [PATCH] examples/ipsec-secgw: fix iv len in ctr 1 From: dpdklab@iol.unh.edu To: Test Report Cc: dpdk-test-reports@iol.unh.edu In-Reply-To: <20250207132016.62482-1-nkaithakadan@marvell.com> References: <20250207132016.62482-1-nkaithakadan@marvell.com> Content-Type: text/plain X-BeenThere: test-report@dpdk.org X-Mailman-Version: 2.1.29 Precedence: list List-Id: automatic DPDK test reports List-Unsubscribe: , List-Archive: List-Post: List-Help: List-Subscribe: , Errors-To: test-report-bounces@dpdk.org Test-Label: iol-compile-arm64-testing Test-Status: SUCCESS http://dpdk.org/patch/151273 _Testing PASS_ Submitter: Nithinsen Kaithakadan Date: Friday, February 07 2025 13:18:37 DPDK git baseline: Repo:dpdk Branch: master CommitID:3553897d84d8b54a1b1136cbf04dd7f1a40fd85b 151273 --> testing pass Upstream job id: Generic-DPDK-Compile-Meson#360168 Test environment and result as below: +----------------------------------------+--------------------+ | Environment | dpdk_meson_compile | +========================================+====================+ | RHEL9 (ARM) | PASS | +----------------------------------------+--------------------+ | Ubuntu 20.04 ARM SVE | PASS | +----------------------------------------+--------------------+ | Debian 12 with MUSDK | PASS | +----------------------------------------+--------------------+ | Ubuntu 20.04 ARM GCC Cross Compile | PASS | +----------------------------------------+--------------------+ | Fedora 41 (ARM) | PASS | +----------------------------------------+--------------------+ | Fedora 41 (ARM Clang) | PASS | +----------------------------------------+--------------------+ | Ubuntu 20.04 (ARM) | PASS | +----------------------------------------+--------------------+ | Fedora 40 (ARM Clang) | PASS | +----------------------------------------+--------------------+ | Fedora 40 (ARM) | PASS | +----------------------------------------+--------------------+ | Ubuntu 24.04 (ARM) | PASS | +----------------------------------------+--------------------+ | Ubuntu 20.04 aarch32 GCC Cross Compile | PASS | +----------------------------------------+--------------------+ | Debian 12 (arm) | PASS | +----------------------------------------+--------------------+ | Debian 11 (Buster) (ARM) | PASS | +----------------------------------------+--------------------+ | CentOS Stream 9 (ARM) | PASS | +----------------------------------------+--------------------+ | Ubuntu 20.04 ARM Clang Cross Compile | PASS | +----------------------------------------+--------------------+ | Ubuntu 22.04 (ARM) | PASS | +----------------------------------------+--------------------+ RHEL9 (ARM) Kernel: Depends on container host Compiler: gcc 11.5.0 20240719 (Red Hat 11.5.0-2) Ubuntu 20.04 ARM SVE Kernel: Depends on container host Compiler: gcc (Ubuntu 10.5.0-1ubuntu1~20.04) 10.5.0 Debian 12 with MUSDK Kernel: Depends on container host Compiler: gcc (Debian 12.2.0-14) 12.2.0 Ubuntu 20.04 ARM GCC Cross Compile Kernel: Depends on container host Compiler: aarch64-linux-gnu-gcc (Ubuntu 9.4.0-1ubuntu1~20.04.2) 9.4.0 Fedora 41 (ARM) Kernel: Depends on container host Compiler: gcc 14.2.1 20240912 (Red Hat 14.2.1-3) Fedora 41 (ARM Clang) Kernel: Depends on container host Compiler: clang 19.1.5 (Fedora 19.1.5-1.fc41) Ubuntu 20.04 (ARM) Kernel: Depends on container host Compiler: gcc (Ubuntu 9.4.0-1ubuntu1~20.04.2) 9.4.0 Fedora 40 (ARM Clang) Kernel: Depends on container host Compiler: clang 18.1.8 (Fedora 18.1.8-1.fc40) Fedora 40 (ARM) Kernel: Depends on container host Compiler: gcc 14.2.1 20240912 (Red Hat 14.2.1-3) Ubuntu 24.04 (ARM) Kernel: Depends on container host Compiler: gcc (Ubuntu 13.3.0-6ubuntu2~24.04) 13.3.0 Ubuntu 20.04 aarch32 GCC Cross Compile Kernel: Depends on container host Compiler: gcc 9.4.0 Debian 12 (arm) Kernel: Depends on container host Compiler: gcc (Debian 12.2.0-14) 12.2.0 Debian 11 (Buster) (ARM) Kernel: Depends on container host Compiler: gcc (Debian 10.2.1-6) 10.2.1 20210110 CentOS Stream 9 (ARM) Kernel: Depends on container host Compiler: gcc 11.5.0 20240719 (Red Hat 11.5.0-2) Ubuntu 20.04 ARM Clang Cross Compile Kernel: Depends on container host Compiler: clang 10.0.0-4ubuntu1 Ubuntu 22.04 (ARM) Kernel: Depends on container host Compiler: gcc (Ubuntu 11.4.0-1ubuntu1~22.04) 11.4.0 To view detailed results, visit: https://lab.dpdk.org/results/dashboard/patchsets/32545/ UNH-IOL DPDK Community Lab To manage your email subscriptions, visit: https://lab.dpdk.org/results/dashboard/preferences/subscriptions/