From mboxrd@z Thu Jan 1 00:00:00 1970 Return-Path: Received: from mails.dpdk.org (mails.dpdk.org [217.70.189.124]) by inbox.dpdk.org (Postfix) with ESMTP id 23C49461AE for ; Mon, 10 Feb 2025 16:57:21 +0100 (CET) Received: from mails.dpdk.org (localhost [127.0.0.1]) by mails.dpdk.org (Postfix) with ESMTP id 20B754279C; Mon, 10 Feb 2025 16:57:21 +0100 (CET) Received: from mail-pl1-f226.google.com (mail-pl1-f226.google.com [209.85.214.226]) by mails.dpdk.org (Postfix) with ESMTP id CA3EA42794 for ; Mon, 10 Feb 2025 16:57:19 +0100 (CET) Received: by mail-pl1-f226.google.com with SMTP id d9443c01a7336-21f2339dcfdso72238465ad.1 for ; Mon, 10 Feb 2025 07:57:19 -0800 (PST) DKIM-Signature: v=1; a=rsa-sha256; c=relaxed/relaxed; d=iol.unh.edu; s=unh-iol; t=1739203039; x=1739807839; darn=dpdk.org; h=references:in-reply-to:cc:to:from:subject:message-id:date:from:to :cc:subject:date:message-id:reply-to; bh=UcdB+TTMsAqhfvaukqNOIpN3o2Y1ETPb8ZGSbMocHU4=; b=VpFbAasObzeIuydncVv5ARGjmhtbGsvuvuWAGHl3ZmyqsCEVlA2/BomRfIjw1UN76a k7wlFqLQj4IznS7HQkRGzeve4fs2HYt82Tl+HOOn2xyPvpECv0jTUtEqvICvqv24y3ju j59PyoodbiZSZIlCywxB3sPDLXWH11tQH8dMM= X-Google-DKIM-Signature: v=1; a=rsa-sha256; c=relaxed/relaxed; d=1e100.net; s=20230601; t=1739203039; x=1739807839; h=references:in-reply-to:cc:to:from:subject:message-id:date :x-gm-message-state:from:to:cc:subject:date:message-id:reply-to; bh=UcdB+TTMsAqhfvaukqNOIpN3o2Y1ETPb8ZGSbMocHU4=; b=O1eX5I4QU4ZmCBkR1GX2rT6oo3hYxiw4N7l59hzzK2Tk4LbrIhlHAYBv1ZocBoKB1m elEOr6SScQ59v5X14JhbY9B0IsOrdB6NxT4SC87umvu6HB+8aKQCqi058WQL2T9lj3bO 3TYm7SNnTGXMkg2lR4oi+Z93cyWS9yRHmWm5JUf1iPy4y/W+bKu6bSN6FNKo/eyyNsSU f8nEA1kcwbhYpYO7XAIKBjkY1cFxPe3I4K8GEhVM+n9WUsE1YQ5/MqCleK5lquG082q9 TIzO+xz0oZF5MnGgzrHa0bdZH8ZqH985Wm7NH/m5hbefGs1hKalvqnCA5uT1p8F98GEk zDag== X-Gm-Message-State: AOJu0YzDg/5VKgs1Y0bKWXucCzd5yMHmSONNJkdWzPaB9LEtl4wMpl81 vmUOocpDsXuFWH35QRb+sALpeieaNmop9Ly3JSPhcqSTmmBwDXKbCqlvyFH/OqXVnGStGc9DtKm rNbHwjzoHIGjYk1rAqUj9lMggkyl7Zwu6KsE5IZr/ X-Gm-Gg: ASbGncsTOJKI5SRUVBLJ/bOeo6dsRtmBWsQj19GzvpJttCYhdErS4XiA4VbjGl9GHlc a690bx9Q9/IhXfBYO5Urspl2VzRlKF4M+EhtDvgkCKVMAO1jaLU/vLX8y+fqZtvyobumA+KMAoY WjDmQo1Et1VAodfFAXA42NfU8z5so1UkclDmKhI+EyuCe7KxJJMeM/xNXIt8cMqz+9OtpvUnPEL 2KKGd+mpUFZnODHmoKaW/vNoJxsT5zkuaipk9DQ59IHVOhL0p+rb9txDzVdsz2Hkc37C8Jt4k7l oQhpV4KwlVdm/iSz4bDXRUcEOkbLUg== X-Google-Smtp-Source: AGHT+IF8hGMxJGXKbtJyOpSG0zg86B0ymvJ2dEIBnuBqazRkm7cZWnK+K1Y7kIcRwcbR6ZATdnuovFTYP1W3 X-Received: by 2002:a17:903:1a2d:b0:216:59f1:c7d9 with SMTP id d9443c01a7336-21f4f7a2602mr271593065ad.19.1739203038723; Mon, 10 Feb 2025 07:57:18 -0800 (PST) Received: from postal.iol.unh.edu (postal.iol.unh.edu. [132.177.123.84]) by smtp-relay.gmail.com with ESMTPS id d9443c01a7336-21f36877eebsm5183425ad.107.2025.02.10.07.57.18 (version=TLS1_2 cipher=ECDHE-ECDSA-AES128-GCM-SHA256 bits=128/128); Mon, 10 Feb 2025 07:57:18 -0800 (PST) X-Relaying-Domain: iol.unh.edu Date: Mon, 10 Feb 2025 07:57:18 -0800 (PST) Message-ID: <67aa21de.170a0220.7ec94.ef84SMTPIN_ADDED_MISSING@mx.google.com> Received: from [172.17.0.3] (unknown [172.18.0.217]) by postal.iol.unh.edu (Postfix) with ESMTP id 316C36052471; Mon, 10 Feb 2025 10:57:18 -0500 (EST) Subject: |SUCCESS| pw151273 [PATCH] examples/ipsec-secgw: fix iv len in ctr 1 From: dpdklab@iol.unh.edu To: Test Report Cc: dpdk-test-reports@iol.unh.edu In-Reply-To: <20250207132016.62482-1-nkaithakadan@marvell.com> References: <20250207132016.62482-1-nkaithakadan@marvell.com> Content-Type: text/plain X-BeenThere: test-report@dpdk.org X-Mailman-Version: 2.1.29 Precedence: list List-Id: automatic DPDK test reports List-Unsubscribe: , List-Archive: List-Post: List-Help: List-Subscribe: , Errors-To: test-report-bounces@dpdk.org Test-Label: iol-compile-arm64-testing Test-Status: SUCCESS http://dpdk.org/patch/151273 _Testing PASS_ Submitter: Nithinsen Kaithakadan Date: Friday, February 07 2025 13:18:37 DPDK git baseline: Repo:dpdk Branch: master CommitID:3553897d84d8b54a1b1136cbf04dd7f1a40fd85b 151273 --> testing pass Upstream job id: Generic-DPDK-Compile-Meson#360170 Test environment and result as below: +----------------------------------------+--------------------+ | Environment | dpdk_meson_compile | +========================================+====================+ | RHEL9 (ARM) | PASS | +----------------------------------------+--------------------+ | Ubuntu 20.04 ARM SVE | PASS | +----------------------------------------+--------------------+ | Debian 12 with MUSDK | PASS | +----------------------------------------+--------------------+ | Ubuntu 20.04 ARM GCC Cross Compile | PASS | +----------------------------------------+--------------------+ | Fedora 41 (ARM) | PASS | +----------------------------------------+--------------------+ | Fedora 41 (ARM Clang) | PASS | +----------------------------------------+--------------------+ | Ubuntu 20.04 (ARM) | PASS | +----------------------------------------+--------------------+ | Fedora 40 (ARM Clang) | PASS | +----------------------------------------+--------------------+ | Fedora 40 (ARM) | PASS | +----------------------------------------+--------------------+ | Ubuntu 24.04 (ARM) | PASS | +----------------------------------------+--------------------+ | Ubuntu 20.04 aarch32 GCC Cross Compile | PASS | +----------------------------------------+--------------------+ | Debian 12 (arm) | PASS | +----------------------------------------+--------------------+ | Debian 11 (Buster) (ARM) | PASS | +----------------------------------------+--------------------+ | CentOS Stream 9 (ARM) | PASS | +----------------------------------------+--------------------+ | Ubuntu 20.04 ARM Clang Cross Compile | PASS | +----------------------------------------+--------------------+ | Ubuntu 22.04 (ARM) | PASS | +----------------------------------------+--------------------+ RHEL9 (ARM) Kernel: Depends on container host Compiler: gcc 11.5.0 20240719 (Red Hat 11.5.0-2) Ubuntu 20.04 ARM SVE Kernel: Depends on container host Compiler: gcc (Ubuntu 10.5.0-1ubuntu1~20.04) 10.5.0 Debian 12 with MUSDK Kernel: Depends on container host Compiler: gcc (Debian 12.2.0-14) 12.2.0 Ubuntu 20.04 ARM GCC Cross Compile Kernel: Depends on container host Compiler: aarch64-linux-gnu-gcc (Ubuntu 9.4.0-1ubuntu1~20.04.2) 9.4.0 Fedora 41 (ARM) Kernel: Depends on container host Compiler: gcc 14.2.1 20240912 (Red Hat 14.2.1-3) Fedora 41 (ARM Clang) Kernel: Depends on container host Compiler: clang 19.1.5 (Fedora 19.1.5-1.fc41) Ubuntu 20.04 (ARM) Kernel: Depends on container host Compiler: gcc (Ubuntu 9.4.0-1ubuntu1~20.04.2) 9.4.0 Fedora 40 (ARM Clang) Kernel: Depends on container host Compiler: clang 18.1.8 (Fedora 18.1.8-1.fc40) Fedora 40 (ARM) Kernel: Depends on container host Compiler: gcc 14.2.1 20240912 (Red Hat 14.2.1-3) Ubuntu 24.04 (ARM) Kernel: Depends on container host Compiler: gcc (Ubuntu 13.3.0-6ubuntu2~24.04) 13.3.0 Ubuntu 20.04 aarch32 GCC Cross Compile Kernel: Depends on container host Compiler: gcc 9.4.0 Debian 12 (arm) Kernel: Depends on container host Compiler: gcc (Debian 12.2.0-14) 12.2.0 Debian 11 (Buster) (ARM) Kernel: Depends on container host Compiler: gcc (Debian 10.2.1-6) 10.2.1 20210110 CentOS Stream 9 (ARM) Kernel: Depends on container host Compiler: gcc 11.5.0 20240719 (Red Hat 11.5.0-2) Ubuntu 20.04 ARM Clang Cross Compile Kernel: Depends on container host Compiler: clang 10.0.0-4ubuntu1 Ubuntu 22.04 (ARM) Kernel: Depends on container host Compiler: gcc (Ubuntu 11.4.0-1ubuntu1~22.04) 11.4.0 To view detailed results, visit: https://lab.dpdk.org/results/dashboard/patchsets/32545/ UNH-IOL DPDK Community Lab To manage your email subscriptions, visit: https://lab.dpdk.org/results/dashboard/preferences/subscriptions/